BEGIN:VCALENDAR
VERSION:2.0
PRODID:-//North Park Theatre - ECPv6.15.20//NONSGML v1.0//EN
CALSCALE:GREGORIAN
METHOD:PUBLISH
X-WR-CALNAME:North Park Theatre
X-ORIGINAL-URL:https://northparktheatre.org
X-WR-CALDESC:Events for North Park Theatre
REFRESH-INTERVAL;VALUE=DURATION:PT1H
X-Robots-Tag:noindex
X-PUBLISHED-TTL:PT1H
BEGIN:VTIMEZONE
TZID:America/New_York
BEGIN:DAYLIGHT
TZOFFSETFROM:-0500
TZOFFSETTO:-0400
TZNAME:EDT
DTSTART:20230312T070000
END:DAYLIGHT
BEGIN:STANDARD
TZOFFSETFROM:-0400
TZOFFSETTO:-0500
TZNAME:EST
DTSTART:20231105T060000
END:STANDARD
BEGIN:DAYLIGHT
TZOFFSETFROM:-0500
TZOFFSETTO:-0400
TZNAME:EDT
DTSTART:20240310T070000
END:DAYLIGHT
BEGIN:STANDARD
TZOFFSETFROM:-0400
TZOFFSETTO:-0500
TZNAME:EST
DTSTART:20241103T060000
END:STANDARD
BEGIN:DAYLIGHT
TZOFFSETFROM:-0500
TZOFFSETTO:-0400
TZNAME:EDT
DTSTART:20250309T070000
END:DAYLIGHT
BEGIN:STANDARD
TZOFFSETFROM:-0400
TZOFFSETTO:-0500
TZNAME:EST
DTSTART:20251102T060000
END:STANDARD
END:VTIMEZONE
BEGIN:VEVENT
DTSTART;TZID=America/New_York:20240211T141500
DTEND;TZID=America/New_York:20240211T160000
DTSTAMP:20260424T081821
CREATED:20240211T151614Z
LAST-MODIFIED:20240211T151614Z
UID:10000048-1707660900-1707667200@northparktheatre.org
SUMMARY:"Driving Madeleine"
DESCRIPTION:“Renaud and Boon make a delightful couple\, lovers of Paris will be thrilled as the cab passes various famous landmarks or drives down lesser-known suburban streets\, and the sentimental ending jerks the tears.”\n—The Australian \nA seemingly simple taxi ride across Paris evolves into a profound meditation on the realities of the driver and his fare\, a 92-year-old woman whose warmth belies her shocking past. \nCharles (Dany Boon) is a taxi driver in Paris\, and he is having a very bad day. Enter Madeleine (Line Renaud)\, an immaculately groomed nonagenarian\, who informs Charles that the trip today will not be a direct one. She is moving into a nursing home and would like to make some stops along the way predicting that this might be her last car ride through the city. \nTheir ride takes them through the momentous locations of her life and their brief friendship deepens as Madeleine listens to Charles confess his own worries. Boon\, an actor best known for his comedic work\, creates a dramatic portrait of a frustrated man facing a personal crisis of epic proportions. \nHis darker\, sharper edges allow Renaud (renowned for decades in France as a singer) to shine as the pure shimmering light that is Madeleine\, reminding us that inside every seemingly benign elderly woman we might pass on the street is a warrior\, a nurturer\, and a spirited adventurer. \n \nOne week only! 1/26 – 2/1\nGet tickets HERE.
URL:https://northparktheatre.org/shows/driving-madeleine-3/
LOCATION:1428 Hertel Avenue\, Buffalo\, 14216\, United States
CATEGORIES:Driving Madeleine
ATTACH;FMTTYPE=image/jpeg:https://northparktheatre.org/wp-content/uploads/poster-mdl.jpg
END:VEVENT
END:VCALENDAR