BEGIN:VCALENDAR
VERSION:2.0
PRODID:-//North Park Theatre - ECPv6.15.20//NONSGML v1.0//EN
CALSCALE:GREGORIAN
METHOD:PUBLISH
X-WR-CALNAME:North Park Theatre
X-ORIGINAL-URL:https://northparktheatre.org
X-WR-CALDESC:Events for North Park Theatre
REFRESH-INTERVAL;VALUE=DURATION:PT1H
X-Robots-Tag:noindex
X-PUBLISHED-TTL:PT1H
BEGIN:VTIMEZONE
TZID:America/New_York
BEGIN:DAYLIGHT
TZOFFSETFROM:-0500
TZOFFSETTO:-0400
TZNAME:EDT
DTSTART:20230312T070000
END:DAYLIGHT
BEGIN:STANDARD
TZOFFSETFROM:-0400
TZOFFSETTO:-0500
TZNAME:EST
DTSTART:20231105T060000
END:STANDARD
BEGIN:DAYLIGHT
TZOFFSETFROM:-0500
TZOFFSETTO:-0400
TZNAME:EDT
DTSTART:20240310T070000
END:DAYLIGHT
BEGIN:STANDARD
TZOFFSETFROM:-0400
TZOFFSETTO:-0500
TZNAME:EST
DTSTART:20241103T060000
END:STANDARD
BEGIN:DAYLIGHT
TZOFFSETFROM:-0500
TZOFFSETTO:-0400
TZNAME:EDT
DTSTART:20250309T070000
END:DAYLIGHT
BEGIN:STANDARD
TZOFFSETFROM:-0400
TZOFFSETTO:-0500
TZNAME:EST
DTSTART:20251102T060000
END:STANDARD
END:VTIMEZONE
BEGIN:VEVENT
DTSTART;TZID=America/New_York:20240119T213000
DTEND;TZID=America/New_York:20240119T233000
DTSTAMP:20260425T203630
CREATED:20240106T081112Z
LAST-MODIFIED:20240106T081433Z
UID:10000325-1705699800-1705707000@northparktheatre.org
SUMMARY:"Freud's Last Session"
DESCRIPTION:“So many movies are either mindless or completely disinterested with engaging the intellect of their audiences that “Freud’s Last Session” offers a welcome bit of brain stimulation.”\n—Variety \nOn the eve of the Second World War\, two of the greatest minds of the twentieth century\, C.S. LEWIS and SIGMUND FREUD converge for their own personal battle over the existence of God. \nFREUD’S LAST SESSION interweaves the lives of Freud and Lewis\, past\, present\, and through fantasy\, bursting from the confines of Freud’s study on a dynamic journey. \n \nOne week only! 1/19 – 1/25\nGet tickets HERE.
URL:https://northparktheatre.org/shows/freuds-last-session-2/2024-01-19/3/
LOCATION:1428 Hertel Avenue\, Buffalo\, 14216\, United States
CATEGORIES:Freud's Last Session
ATTACH;FMTTYPE=image/jpeg:https://northparktheatre.org/wp-content/uploads/poster-freud.jpg
END:VEVENT
BEGIN:VEVENT
DTSTART;TZID=America/New_York:20240119T190000
DTEND;TZID=America/New_York:20240119T210000
DTSTAMP:20260425T203630
CREATED:20240106T081112Z
LAST-MODIFIED:20240106T081433Z
UID:10000324-1705690800-1705698000@northparktheatre.org
SUMMARY:"Freud's Last Session"
DESCRIPTION:“So many movies are either mindless or completely disinterested with engaging the intellect of their audiences that “Freud’s Last Session” offers a welcome bit of brain stimulation.”\n—Variety \nOn the eve of the Second World War\, two of the greatest minds of the twentieth century\, C.S. LEWIS and SIGMUND FREUD converge for their own personal battle over the existence of God. \nFREUD’S LAST SESSION interweaves the lives of Freud and Lewis\, past\, present\, and through fantasy\, bursting from the confines of Freud’s study on a dynamic journey. \n \nOne week only! 1/19 – 1/25\nGet tickets HERE.
URL:https://northparktheatre.org/shows/freuds-last-session-2/2024-01-19/2/
LOCATION:1428 Hertel Avenue\, Buffalo\, 14216\, United States
CATEGORIES:Freud's Last Session
ATTACH;FMTTYPE=image/jpeg:https://northparktheatre.org/wp-content/uploads/poster-freud.jpg
END:VEVENT
BEGIN:VEVENT
DTSTART;TZID=America/New_York:20240119T163000
DTEND;TZID=America/New_York:20240119T183000
DTSTAMP:20260425T203630
CREATED:20240106T081112Z
LAST-MODIFIED:20240106T081433Z
UID:10000323-1705681800-1705689000@northparktheatre.org
SUMMARY:"Freud's Last Session"
DESCRIPTION:“So many movies are either mindless or completely disinterested with engaging the intellect of their audiences that “Freud’s Last Session” offers a welcome bit of brain stimulation.”\n—Variety \nOn the eve of the Second World War\, two of the greatest minds of the twentieth century\, C.S. LEWIS and SIGMUND FREUD converge for their own personal battle over the existence of God. \nFREUD’S LAST SESSION interweaves the lives of Freud and Lewis\, past\, present\, and through fantasy\, bursting from the confines of Freud’s study on a dynamic journey. \n \nOne week only! 1/19 – 1/25\nGet tickets HERE.
URL:https://northparktheatre.org/shows/freuds-last-session-2/2024-01-19/1/
LOCATION:1428 Hertel Avenue\, Buffalo\, 14216\, United States
CATEGORIES:Freud's Last Session
ATTACH;FMTTYPE=image/jpeg:https://northparktheatre.org/wp-content/uploads/poster-freud.jpg
END:VEVENT
END:VCALENDAR