BEGIN:VCALENDAR
VERSION:2.0
PRODID:-//North Park Theatre - ECPv6.15.20//NONSGML v1.0//EN
CALSCALE:GREGORIAN
METHOD:PUBLISH
X-WR-CALNAME:North Park Theatre
X-ORIGINAL-URL:https://northparktheatre.org
X-WR-CALDESC:Events for North Park Theatre
REFRESH-INTERVAL;VALUE=DURATION:PT1H
X-Robots-Tag:noindex
X-PUBLISHED-TTL:PT1H
BEGIN:VTIMEZONE
TZID:America/New_York
BEGIN:DAYLIGHT
TZOFFSETFROM:-0500
TZOFFSETTO:-0400
TZNAME:EDT
DTSTART:20230312T070000
END:DAYLIGHT
BEGIN:STANDARD
TZOFFSETFROM:-0400
TZOFFSETTO:-0500
TZNAME:EST
DTSTART:20231105T060000
END:STANDARD
BEGIN:DAYLIGHT
TZOFFSETFROM:-0500
TZOFFSETTO:-0400
TZNAME:EDT
DTSTART:20240310T070000
END:DAYLIGHT
BEGIN:STANDARD
TZOFFSETFROM:-0400
TZOFFSETTO:-0500
TZNAME:EST
DTSTART:20241103T060000
END:STANDARD
BEGIN:DAYLIGHT
TZOFFSETFROM:-0500
TZOFFSETTO:-0400
TZNAME:EDT
DTSTART:20250309T070000
END:DAYLIGHT
BEGIN:STANDARD
TZOFFSETFROM:-0400
TZOFFSETTO:-0500
TZNAME:EST
DTSTART:20251102T060000
END:STANDARD
END:VTIMEZONE
BEGIN:VEVENT
DTSTART;TZID=America/New_York:20240112T190000
DTEND;TZID=America/New_York:20240112T210000
DTSTAMP:20260425T203707
CREATED:20240105T044728Z
LAST-MODIFIED:20240105T044728Z
UID:10000279-1705086000-1705093200@northparktheatre.org
SUMMARY:"The Boy and the Heron"
DESCRIPTION:“Among the most beautiful movies ever drawn.”\n—IndieWire \n“Miyazaki’s most expansive and magisterial film.”\n—BBC.com \n“Proves that Miyazaki is the greatest animator alive.”\n—Rolling Stone \nThis December\, please join us as we present Hayao Miyazaki’s staggering curtain call\, THE BOY AND THE HERON. \nAfter ten memorable years of Miyazaki matinees and chalking on Hertel\, we are thrilled to finally share this movie with you. \nOriginal posters and Japanese snacks available at the stand! \nSubtitled and English language shows available: \n \nGet tickets HERE. \n\nProduced by Studio Ghibli co-founder Toshio Suzuki\, the film features a musical score from Miyazaki’s long-time collaborator Joe Hisaishi. \nThe theme song for the film “Spinning Globe” was penned and performed by global J-pop superstar Kenshi Yonezu.
URL:https://northparktheatre.org/shows/the-boy-and-the-heron-6/2024-01-12/2/
LOCATION:1428 Hertel Avenue\, Buffalo\, 14216\, United States
CATEGORIES:Downton Abbey: A New Era,The Boy and the Heron
ATTACH;FMTTYPE=image/jpeg:https://northparktheatre.org/wp-content/uploads/poster-heron.jpg
END:VEVENT
BEGIN:VEVENT
DTSTART;TZID=America/New_York:20240112T161500
DTEND;TZID=America/New_York:20240112T183000
DTSTAMP:20260425T203707
CREATED:20240105T044728Z
LAST-MODIFIED:20240105T044728Z
UID:10000278-1705076100-1705084200@northparktheatre.org
SUMMARY:"The Boy and the Heron"
DESCRIPTION:“Among the most beautiful movies ever drawn.”\n—IndieWire \n“Miyazaki’s most expansive and magisterial film.”\n—BBC.com \n“Proves that Miyazaki is the greatest animator alive.”\n—Rolling Stone \nThis December\, please join us as we present Hayao Miyazaki’s staggering curtain call\, THE BOY AND THE HERON. \nAfter ten memorable years of Miyazaki matinees and chalking on Hertel\, we are thrilled to finally share this movie with you. \nOriginal posters and Japanese snacks available at the stand! \nSubtitled and English language shows available: \n \nGet tickets HERE. \n\nProduced by Studio Ghibli co-founder Toshio Suzuki\, the film features a musical score from Miyazaki’s long-time collaborator Joe Hisaishi. \nThe theme song for the film “Spinning Globe” was penned and performed by global J-pop superstar Kenshi Yonezu.
URL:https://northparktheatre.org/shows/the-boy-and-the-heron-6/2024-01-12/1/
LOCATION:1428 Hertel Avenue\, Buffalo\, 14216\, United States
CATEGORIES:Downton Abbey: A New Era,The Boy and the Heron
ATTACH;FMTTYPE=image/jpeg:https://northparktheatre.org/wp-content/uploads/poster-heron.jpg
END:VEVENT
END:VCALENDAR