BEGIN:VCALENDAR
VERSION:2.0
PRODID:-//North Park Theatre - ECPv6.15.20//NONSGML v1.0//EN
CALSCALE:GREGORIAN
METHOD:PUBLISH
X-ORIGINAL-URL:https://northparktheatre.org
X-WR-CALDESC:Events for North Park Theatre
REFRESH-INTERVAL;VALUE=DURATION:PT1H
X-Robots-Tag:noindex
X-PUBLISHED-TTL:PT1H
BEGIN:VTIMEZONE
TZID:America/New_York
BEGIN:DAYLIGHT
TZOFFSETFROM:-0500
TZOFFSETTO:-0400
TZNAME:EDT
DTSTART:20230312T070000
END:DAYLIGHT
BEGIN:STANDARD
TZOFFSETFROM:-0400
TZOFFSETTO:-0500
TZNAME:EST
DTSTART:20231105T060000
END:STANDARD
BEGIN:DAYLIGHT
TZOFFSETFROM:-0500
TZOFFSETTO:-0400
TZNAME:EDT
DTSTART:20240310T070000
END:DAYLIGHT
BEGIN:STANDARD
TZOFFSETFROM:-0400
TZOFFSETTO:-0500
TZNAME:EST
DTSTART:20241103T060000
END:STANDARD
BEGIN:DAYLIGHT
TZOFFSETFROM:-0500
TZOFFSETTO:-0400
TZNAME:EDT
DTSTART:20250309T070000
END:DAYLIGHT
BEGIN:STANDARD
TZOFFSETFROM:-0400
TZOFFSETTO:-0500
TZNAME:EST
DTSTART:20251102T060000
END:STANDARD
END:VTIMEZONE
BEGIN:VEVENT
DTSTART;TZID=America/New_York:20240119T190000
DTEND;TZID=America/New_York:20240119T213000
DTSTAMP:20260425T191910
CREATED:20240320T224836Z
LAST-MODIFIED:20240320T224836Z
UID:10000296-1705690800-1705699800@northparktheatre.org
SUMMARY:"The Boy and the Heron"
DESCRIPTION:“Among the most beautiful movies ever drawn.”\n—IndieWire \n“Miyazaki’s most expansive and magisterial film.”\n—BBC.com \n“Proves that Miyazaki is the greatest animator alive.”\n—Rolling Stone \nThis December\, please join us as we present Hayao Miyazaki’s staggering curtain call\, THE BOY AND THE HERON. \nAfter ten memorable years of Miyazaki matinees and chalking on Hertel\, we are thrilled to finally share this movie with you. \nOriginal posters and Japanese snacks available at the stand! \nSubtitled and English language shows available: \n \nGet tickets HERE. \n\nProduced by Studio Ghibli co-founder Toshio Suzuki\, the film features a musical score from Miyazaki’s long-time collaborator Joe Hisaishi. \nThe theme song for the film “Spinning Globe” was penned and performed by global J-pop superstar Kenshi Yonezu.
URL:https://northparktheatre.org/shows/the-boy-and-the-heron-5/2024-01-19/
LOCATION:1428 Hertel Avenue\, Buffalo\, 14216\, United States
CATEGORIES:Downton Abbey: A New Era,The Boy and the Heron
ATTACH;FMTTYPE=image/jpeg:https://northparktheatre.org/wp-content/uploads/poster-heron.jpg
END:VEVENT
BEGIN:VEVENT
DTSTART;TZID=America/New_York:20240119T161500
DTEND;TZID=America/New_York:20240119T183000
DTSTAMP:20260425T191910
CREATED:20240320T224836Z
LAST-MODIFIED:20240320T224836Z
UID:10000291-1705680900-1705689000@northparktheatre.org
SUMMARY:"The Boy and the Heron"
DESCRIPTION:“Among the most beautiful movies ever drawn.”\n—IndieWire \n“Miyazaki’s most expansive and magisterial film.”\n—BBC.com \n“Proves that Miyazaki is the greatest animator alive.”\n—Rolling Stone \nThis December\, please join us as we present Hayao Miyazaki’s staggering curtain call\, THE BOY AND THE HERON. \nAfter ten memorable years of Miyazaki matinees and chalking on Hertel\, we are thrilled to finally share this movie with you. \nOriginal posters and Japanese snacks available at the stand! \nSubtitled and English language shows available: \n \nGet tickets HERE. \n\nProduced by Studio Ghibli co-founder Toshio Suzuki\, the film features a musical score from Miyazaki’s long-time collaborator Joe Hisaishi. \nThe theme song for the film “Spinning Globe” was penned and performed by global J-pop superstar Kenshi Yonezu.
URL:https://northparktheatre.org/shows/the-boy-and-the-heron-5/2024-01-19/
LOCATION:1428 Hertel Avenue\, Buffalo\, 14216\, United States
CATEGORIES:Downton Abbey: A New Era,The Boy and the Heron
ATTACH;FMTTYPE=image/jpeg:https://northparktheatre.org/wp-content/uploads/poster-heron.jpg
END:VEVENT
BEGIN:VEVENT
DTSTART;TZID=America/New_York:20240119T133000
DTEND;TZID=America/New_York:20240119T153000
DTSTAMP:20260425T191910
CREATED:20240105T044316Z
LAST-MODIFIED:20240105T044316Z
UID:10000277-1705671000-1705678200@northparktheatre.org
SUMMARY:"The Boy and the Heron"
DESCRIPTION:“Among the most beautiful movies ever drawn.”\n—IndieWire \n“Miyazaki’s most expansive and magisterial film.”\n—BBC.com \n“Proves that Miyazaki is the greatest animator alive.”\n—Rolling Stone \nThis December\, please join us as we present Hayao Miyazaki’s staggering curtain call\, THE BOY AND THE HERON. \nAfter ten memorable years of Miyazaki matinees and chalking on Hertel\, we are thrilled to finally share this movie with you. \nOriginal posters and Japanese snacks available at the stand! \nSubtitled and English language shows available: \n \nGet tickets HERE. \n\nProduced by Studio Ghibli co-founder Toshio Suzuki\, the film features a musical score from Miyazaki’s long-time collaborator Joe Hisaishi. \nThe theme song for the film “Spinning Globe” was penned and performed by global J-pop superstar Kenshi Yonezu.
URL:https://northparktheatre.org/shows/the-boy-and-the-heron-5/2024-01-19/
LOCATION:1428 Hertel Avenue\, Buffalo\, 14216\, United States
CATEGORIES:Downton Abbey: A New Era,The Boy and the Heron
ATTACH;FMTTYPE=image/jpeg:https://northparktheatre.org/wp-content/uploads/poster-heron.jpg
END:VEVENT
BEGIN:VEVENT
DTSTART;TZID=America/New_York:20240118T190000
DTEND;TZID=America/New_York:20240118T213000
DTSTAMP:20260425T191910
CREATED:20240320T224836Z
LAST-MODIFIED:20240320T224836Z
UID:10000295-1705604400-1705613400@northparktheatre.org
SUMMARY:"The Boy and the Heron"
DESCRIPTION:“Among the most beautiful movies ever drawn.”\n—IndieWire \n“Miyazaki’s most expansive and magisterial film.”\n—BBC.com \n“Proves that Miyazaki is the greatest animator alive.”\n—Rolling Stone \nThis December\, please join us as we present Hayao Miyazaki’s staggering curtain call\, THE BOY AND THE HERON. \nAfter ten memorable years of Miyazaki matinees and chalking on Hertel\, we are thrilled to finally share this movie with you. \nOriginal posters and Japanese snacks available at the stand! \nSubtitled and English language shows available: \n \nGet tickets HERE. \n\nProduced by Studio Ghibli co-founder Toshio Suzuki\, the film features a musical score from Miyazaki’s long-time collaborator Joe Hisaishi. \nThe theme song for the film “Spinning Globe” was penned and performed by global J-pop superstar Kenshi Yonezu.
URL:https://northparktheatre.org/shows/the-boy-and-the-heron-5/2024-01-18/
LOCATION:1428 Hertel Avenue\, Buffalo\, 14216\, United States
CATEGORIES:Downton Abbey: A New Era,The Boy and the Heron
ATTACH;FMTTYPE=image/jpeg:https://northparktheatre.org/wp-content/uploads/poster-heron.jpg
END:VEVENT
BEGIN:VEVENT
DTSTART;TZID=America/New_York:20240118T161500
DTEND;TZID=America/New_York:20240118T183000
DTSTAMP:20260425T191910
CREATED:20240320T224836Z
LAST-MODIFIED:20240320T224836Z
UID:10000290-1705594500-1705602600@northparktheatre.org
SUMMARY:"The Boy and the Heron"
DESCRIPTION:“Among the most beautiful movies ever drawn.”\n—IndieWire \n“Miyazaki’s most expansive and magisterial film.”\n—BBC.com \n“Proves that Miyazaki is the greatest animator alive.”\n—Rolling Stone \nThis December\, please join us as we present Hayao Miyazaki’s staggering curtain call\, THE BOY AND THE HERON. \nAfter ten memorable years of Miyazaki matinees and chalking on Hertel\, we are thrilled to finally share this movie with you. \nOriginal posters and Japanese snacks available at the stand! \nSubtitled and English language shows available: \n \nGet tickets HERE. \n\nProduced by Studio Ghibli co-founder Toshio Suzuki\, the film features a musical score from Miyazaki’s long-time collaborator Joe Hisaishi. \nThe theme song for the film “Spinning Globe” was penned and performed by global J-pop superstar Kenshi Yonezu.
URL:https://northparktheatre.org/shows/the-boy-and-the-heron-5/2024-01-18/
LOCATION:1428 Hertel Avenue\, Buffalo\, 14216\, United States
CATEGORIES:Downton Abbey: A New Era,The Boy and the Heron
ATTACH;FMTTYPE=image/jpeg:https://northparktheatre.org/wp-content/uploads/poster-heron.jpg
END:VEVENT
BEGIN:VEVENT
DTSTART;TZID=America/New_York:20240118T133000
DTEND;TZID=America/New_York:20240118T153000
DTSTAMP:20260425T191910
CREATED:20240105T044316Z
LAST-MODIFIED:20240105T044316Z
UID:10000276-1705584600-1705591800@northparktheatre.org
SUMMARY:"The Boy and the Heron"
DESCRIPTION:“Among the most beautiful movies ever drawn.”\n—IndieWire \n“Miyazaki’s most expansive and magisterial film.”\n—BBC.com \n“Proves that Miyazaki is the greatest animator alive.”\n—Rolling Stone \nThis December\, please join us as we present Hayao Miyazaki’s staggering curtain call\, THE BOY AND THE HERON. \nAfter ten memorable years of Miyazaki matinees and chalking on Hertel\, we are thrilled to finally share this movie with you. \nOriginal posters and Japanese snacks available at the stand! \nSubtitled and English language shows available: \n \nGet tickets HERE. \n\nProduced by Studio Ghibli co-founder Toshio Suzuki\, the film features a musical score from Miyazaki’s long-time collaborator Joe Hisaishi. \nThe theme song for the film “Spinning Globe” was penned and performed by global J-pop superstar Kenshi Yonezu.
URL:https://northparktheatre.org/shows/the-boy-and-the-heron-5/2024-01-18/
LOCATION:1428 Hertel Avenue\, Buffalo\, 14216\, United States
CATEGORIES:Downton Abbey: A New Era,The Boy and the Heron
ATTACH;FMTTYPE=image/jpeg:https://northparktheatre.org/wp-content/uploads/poster-heron.jpg
END:VEVENT
BEGIN:VEVENT
DTSTART;TZID=America/New_York:20240117T190000
DTEND;TZID=America/New_York:20240117T213000
DTSTAMP:20260425T191910
CREATED:20240320T224836Z
LAST-MODIFIED:20240320T224836Z
UID:10000294-1705518000-1705527000@northparktheatre.org
SUMMARY:"The Boy and the Heron"
DESCRIPTION:“Among the most beautiful movies ever drawn.”\n—IndieWire \n“Miyazaki’s most expansive and magisterial film.”\n—BBC.com \n“Proves that Miyazaki is the greatest animator alive.”\n—Rolling Stone \nThis December\, please join us as we present Hayao Miyazaki’s staggering curtain call\, THE BOY AND THE HERON. \nAfter ten memorable years of Miyazaki matinees and chalking on Hertel\, we are thrilled to finally share this movie with you. \nOriginal posters and Japanese snacks available at the stand! \nSubtitled and English language shows available: \n \nGet tickets HERE. \n\nProduced by Studio Ghibli co-founder Toshio Suzuki\, the film features a musical score from Miyazaki’s long-time collaborator Joe Hisaishi. \nThe theme song for the film “Spinning Globe” was penned and performed by global J-pop superstar Kenshi Yonezu.
URL:https://northparktheatre.org/shows/the-boy-and-the-heron-5/2024-01-17/
LOCATION:1428 Hertel Avenue\, Buffalo\, 14216\, United States
CATEGORIES:Downton Abbey: A New Era,The Boy and the Heron
ATTACH;FMTTYPE=image/jpeg:https://northparktheatre.org/wp-content/uploads/poster-heron.jpg
END:VEVENT
BEGIN:VEVENT
DTSTART;TZID=America/New_York:20240117T161500
DTEND;TZID=America/New_York:20240117T183000
DTSTAMP:20260425T191910
CREATED:20240320T224836Z
LAST-MODIFIED:20240320T224836Z
UID:10000289-1705508100-1705516200@northparktheatre.org
SUMMARY:"The Boy and the Heron"
DESCRIPTION:“Among the most beautiful movies ever drawn.”\n—IndieWire \n“Miyazaki’s most expansive and magisterial film.”\n—BBC.com \n“Proves that Miyazaki is the greatest animator alive.”\n—Rolling Stone \nThis December\, please join us as we present Hayao Miyazaki’s staggering curtain call\, THE BOY AND THE HERON. \nAfter ten memorable years of Miyazaki matinees and chalking on Hertel\, we are thrilled to finally share this movie with you. \nOriginal posters and Japanese snacks available at the stand! \nSubtitled and English language shows available: \n \nGet tickets HERE. \n\nProduced by Studio Ghibli co-founder Toshio Suzuki\, the film features a musical score from Miyazaki’s long-time collaborator Joe Hisaishi. \nThe theme song for the film “Spinning Globe” was penned and performed by global J-pop superstar Kenshi Yonezu.
URL:https://northparktheatre.org/shows/the-boy-and-the-heron-5/2024-01-17/
LOCATION:1428 Hertel Avenue\, Buffalo\, 14216\, United States
CATEGORIES:Downton Abbey: A New Era,The Boy and the Heron
ATTACH;FMTTYPE=image/jpeg:https://northparktheatre.org/wp-content/uploads/poster-heron.jpg
END:VEVENT
BEGIN:VEVENT
DTSTART;TZID=America/New_York:20240117T133000
DTEND;TZID=America/New_York:20240117T153000
DTSTAMP:20260425T191910
CREATED:20240105T044316Z
LAST-MODIFIED:20240105T044316Z
UID:10000275-1705498200-1705505400@northparktheatre.org
SUMMARY:"The Boy and the Heron"
DESCRIPTION:“Among the most beautiful movies ever drawn.”\n—IndieWire \n“Miyazaki’s most expansive and magisterial film.”\n—BBC.com \n“Proves that Miyazaki is the greatest animator alive.”\n—Rolling Stone \nThis December\, please join us as we present Hayao Miyazaki’s staggering curtain call\, THE BOY AND THE HERON. \nAfter ten memorable years of Miyazaki matinees and chalking on Hertel\, we are thrilled to finally share this movie with you. \nOriginal posters and Japanese snacks available at the stand! \nSubtitled and English language shows available: \n \nGet tickets HERE. \n\nProduced by Studio Ghibli co-founder Toshio Suzuki\, the film features a musical score from Miyazaki’s long-time collaborator Joe Hisaishi. \nThe theme song for the film “Spinning Globe” was penned and performed by global J-pop superstar Kenshi Yonezu.
URL:https://northparktheatre.org/shows/the-boy-and-the-heron-5/2024-01-17/
LOCATION:1428 Hertel Avenue\, Buffalo\, 14216\, United States
CATEGORIES:Downton Abbey: A New Era,The Boy and the Heron
ATTACH;FMTTYPE=image/jpeg:https://northparktheatre.org/wp-content/uploads/poster-heron.jpg
END:VEVENT
BEGIN:VEVENT
DTSTART;TZID=America/New_York:20240116T190000
DTEND;TZID=America/New_York:20240116T213000
DTSTAMP:20260425T191910
CREATED:20240320T224836Z
LAST-MODIFIED:20240320T224836Z
UID:10000293-1705431600-1705440600@northparktheatre.org
SUMMARY:"The Boy and the Heron"
DESCRIPTION:“Among the most beautiful movies ever drawn.”\n—IndieWire \n“Miyazaki’s most expansive and magisterial film.”\n—BBC.com \n“Proves that Miyazaki is the greatest animator alive.”\n—Rolling Stone \nThis December\, please join us as we present Hayao Miyazaki’s staggering curtain call\, THE BOY AND THE HERON. \nAfter ten memorable years of Miyazaki matinees and chalking on Hertel\, we are thrilled to finally share this movie with you. \nOriginal posters and Japanese snacks available at the stand! \nSubtitled and English language shows available: \n \nGet tickets HERE. \n\nProduced by Studio Ghibli co-founder Toshio Suzuki\, the film features a musical score from Miyazaki’s long-time collaborator Joe Hisaishi. \nThe theme song for the film “Spinning Globe” was penned and performed by global J-pop superstar Kenshi Yonezu.
URL:https://northparktheatre.org/shows/the-boy-and-the-heron-5/2024-01-16/
LOCATION:1428 Hertel Avenue\, Buffalo\, 14216\, United States
CATEGORIES:Downton Abbey: A New Era,The Boy and the Heron
ATTACH;FMTTYPE=image/jpeg:https://northparktheatre.org/wp-content/uploads/poster-heron.jpg
END:VEVENT
BEGIN:VEVENT
DTSTART;TZID=America/New_York:20240116T161500
DTEND;TZID=America/New_York:20240116T183000
DTSTAMP:20260425T191910
CREATED:20240320T224836Z
LAST-MODIFIED:20240320T224836Z
UID:10000288-1705421700-1705429800@northparktheatre.org
SUMMARY:"The Boy and the Heron"
DESCRIPTION:“Among the most beautiful movies ever drawn.”\n—IndieWire \n“Miyazaki’s most expansive and magisterial film.”\n—BBC.com \n“Proves that Miyazaki is the greatest animator alive.”\n—Rolling Stone \nThis December\, please join us as we present Hayao Miyazaki’s staggering curtain call\, THE BOY AND THE HERON. \nAfter ten memorable years of Miyazaki matinees and chalking on Hertel\, we are thrilled to finally share this movie with you. \nOriginal posters and Japanese snacks available at the stand! \nSubtitled and English language shows available: \n \nGet tickets HERE. \n\nProduced by Studio Ghibli co-founder Toshio Suzuki\, the film features a musical score from Miyazaki’s long-time collaborator Joe Hisaishi. \nThe theme song for the film “Spinning Globe” was penned and performed by global J-pop superstar Kenshi Yonezu.
URL:https://northparktheatre.org/shows/the-boy-and-the-heron-5/2024-01-16/
LOCATION:1428 Hertel Avenue\, Buffalo\, 14216\, United States
CATEGORIES:Downton Abbey: A New Era,The Boy and the Heron
ATTACH;FMTTYPE=image/jpeg:https://northparktheatre.org/wp-content/uploads/poster-heron.jpg
END:VEVENT
BEGIN:VEVENT
DTSTART;TZID=America/New_York:20240116T133000
DTEND;TZID=America/New_York:20240116T153000
DTSTAMP:20260425T191910
CREATED:20240105T044316Z
LAST-MODIFIED:20240105T044316Z
UID:10000274-1705411800-1705419000@northparktheatre.org
SUMMARY:"The Boy and the Heron"
DESCRIPTION:“Among the most beautiful movies ever drawn.”\n—IndieWire \n“Miyazaki’s most expansive and magisterial film.”\n—BBC.com \n“Proves that Miyazaki is the greatest animator alive.”\n—Rolling Stone \nThis December\, please join us as we present Hayao Miyazaki’s staggering curtain call\, THE BOY AND THE HERON. \nAfter ten memorable years of Miyazaki matinees and chalking on Hertel\, we are thrilled to finally share this movie with you. \nOriginal posters and Japanese snacks available at the stand! \nSubtitled and English language shows available: \n \nGet tickets HERE. \n\nProduced by Studio Ghibli co-founder Toshio Suzuki\, the film features a musical score from Miyazaki’s long-time collaborator Joe Hisaishi. \nThe theme song for the film “Spinning Globe” was penned and performed by global J-pop superstar Kenshi Yonezu.
URL:https://northparktheatre.org/shows/the-boy-and-the-heron-5/2024-01-16/
LOCATION:1428 Hertel Avenue\, Buffalo\, 14216\, United States
CATEGORIES:Downton Abbey: A New Era,The Boy and the Heron
ATTACH;FMTTYPE=image/jpeg:https://northparktheatre.org/wp-content/uploads/poster-heron.jpg
END:VEVENT
BEGIN:VEVENT
DTSTART;TZID=America/New_York:20240115T190000
DTEND;TZID=America/New_York:20240115T213000
DTSTAMP:20260425T191910
CREATED:20240320T224836Z
LAST-MODIFIED:20240320T224836Z
UID:10000292-1705345200-1705354200@northparktheatre.org
SUMMARY:"The Boy and the Heron"
DESCRIPTION:“Among the most beautiful movies ever drawn.”\n—IndieWire \n“Miyazaki’s most expansive and magisterial film.”\n—BBC.com \n“Proves that Miyazaki is the greatest animator alive.”\n—Rolling Stone \nThis December\, please join us as we present Hayao Miyazaki’s staggering curtain call\, THE BOY AND THE HERON. \nAfter ten memorable years of Miyazaki matinees and chalking on Hertel\, we are thrilled to finally share this movie with you. \nOriginal posters and Japanese snacks available at the stand! \nSubtitled and English language shows available: \n \nGet tickets HERE. \n\nProduced by Studio Ghibli co-founder Toshio Suzuki\, the film features a musical score from Miyazaki’s long-time collaborator Joe Hisaishi. \nThe theme song for the film “Spinning Globe” was penned and performed by global J-pop superstar Kenshi Yonezu.
URL:https://northparktheatre.org/shows/the-boy-and-the-heron-5/2024-01-15/
LOCATION:1428 Hertel Avenue\, Buffalo\, 14216\, United States
CATEGORIES:Downton Abbey: A New Era,The Boy and the Heron
ATTACH;FMTTYPE=image/jpeg:https://northparktheatre.org/wp-content/uploads/poster-heron.jpg
END:VEVENT
BEGIN:VEVENT
DTSTART;TZID=America/New_York:20240115T161500
DTEND;TZID=America/New_York:20240115T183000
DTSTAMP:20260425T191910
CREATED:20240320T224836Z
LAST-MODIFIED:20240320T224836Z
UID:10000287-1705335300-1705343400@northparktheatre.org
SUMMARY:"The Boy and the Heron"
DESCRIPTION:“Among the most beautiful movies ever drawn.”\n—IndieWire \n“Miyazaki’s most expansive and magisterial film.”\n—BBC.com \n“Proves that Miyazaki is the greatest animator alive.”\n—Rolling Stone \nThis December\, please join us as we present Hayao Miyazaki’s staggering curtain call\, THE BOY AND THE HERON. \nAfter ten memorable years of Miyazaki matinees and chalking on Hertel\, we are thrilled to finally share this movie with you. \nOriginal posters and Japanese snacks available at the stand! \nSubtitled and English language shows available: \n \nGet tickets HERE. \n\nProduced by Studio Ghibli co-founder Toshio Suzuki\, the film features a musical score from Miyazaki’s long-time collaborator Joe Hisaishi. \nThe theme song for the film “Spinning Globe” was penned and performed by global J-pop superstar Kenshi Yonezu.
URL:https://northparktheatre.org/shows/the-boy-and-the-heron-5/2024-01-15/
LOCATION:1428 Hertel Avenue\, Buffalo\, 14216\, United States
CATEGORIES:Downton Abbey: A New Era,The Boy and the Heron
ATTACH;FMTTYPE=image/jpeg:https://northparktheatre.org/wp-content/uploads/poster-heron.jpg
END:VEVENT
BEGIN:VEVENT
DTSTART;TZID=America/New_York:20240115T133000
DTEND;TZID=America/New_York:20240115T153000
DTSTAMP:20260425T191910
CREATED:20240105T044316Z
LAST-MODIFIED:20240105T044316Z
UID:10000273-1705325400-1705332600@northparktheatre.org
SUMMARY:"The Boy and the Heron"
DESCRIPTION:“Among the most beautiful movies ever drawn.”\n—IndieWire \n“Miyazaki’s most expansive and magisterial film.”\n—BBC.com \n“Proves that Miyazaki is the greatest animator alive.”\n—Rolling Stone \nThis December\, please join us as we present Hayao Miyazaki’s staggering curtain call\, THE BOY AND THE HERON. \nAfter ten memorable years of Miyazaki matinees and chalking on Hertel\, we are thrilled to finally share this movie with you. \nOriginal posters and Japanese snacks available at the stand! \nSubtitled and English language shows available: \n \nGet tickets HERE. \n\nProduced by Studio Ghibli co-founder Toshio Suzuki\, the film features a musical score from Miyazaki’s long-time collaborator Joe Hisaishi. \nThe theme song for the film “Spinning Globe” was penned and performed by global J-pop superstar Kenshi Yonezu.
URL:https://northparktheatre.org/shows/the-boy-and-the-heron-5/2024-01-15/
LOCATION:1428 Hertel Avenue\, Buffalo\, 14216\, United States
CATEGORIES:Downton Abbey: A New Era,The Boy and the Heron
ATTACH;FMTTYPE=image/jpeg:https://northparktheatre.org/wp-content/uploads/poster-heron.jpg
END:VEVENT
BEGIN:VEVENT
DTSTART;TZID=America/New_York:20240112T133000
DTEND;TZID=America/New_York:20240112T153000
DTSTAMP:20260425T191910
CREATED:20240105T044316Z
LAST-MODIFIED:20240105T044316Z
UID:10000272-1705066200-1705073400@northparktheatre.org
SUMMARY:"The Boy and the Heron"
DESCRIPTION:“Among the most beautiful movies ever drawn.”\n—IndieWire \n“Miyazaki’s most expansive and magisterial film.”\n—BBC.com \n“Proves that Miyazaki is the greatest animator alive.”\n—Rolling Stone \nThis December\, please join us as we present Hayao Miyazaki’s staggering curtain call\, THE BOY AND THE HERON. \nAfter ten memorable years of Miyazaki matinees and chalking on Hertel\, we are thrilled to finally share this movie with you. \nOriginal posters and Japanese snacks available at the stand! \nSubtitled and English language shows available: \n \nGet tickets HERE. \n\nProduced by Studio Ghibli co-founder Toshio Suzuki\, the film features a musical score from Miyazaki’s long-time collaborator Joe Hisaishi. \nThe theme song for the film “Spinning Globe” was penned and performed by global J-pop superstar Kenshi Yonezu.
URL:https://northparktheatre.org/shows/the-boy-and-the-heron-5/2024-01-12/
LOCATION:1428 Hertel Avenue\, Buffalo\, 14216\, United States
CATEGORIES:Downton Abbey: A New Era,The Boy and the Heron
ATTACH;FMTTYPE=image/jpeg:https://northparktheatre.org/wp-content/uploads/poster-heron.jpg
END:VEVENT
END:VCALENDAR