BEGIN:VCALENDAR
VERSION:2.0
PRODID:-//North Park Theatre - ECPv6.15.20//NONSGML v1.0//EN
CALSCALE:GREGORIAN
METHOD:PUBLISH
X-WR-CALNAME:North Park Theatre
X-ORIGINAL-URL:https://northparktheatre.org
X-WR-CALDESC:Events for North Park Theatre
REFRESH-INTERVAL;VALUE=DURATION:PT1H
X-Robots-Tag:noindex
X-PUBLISHED-TTL:PT1H
BEGIN:VTIMEZONE
TZID:America/New_York
BEGIN:DAYLIGHT
TZOFFSETFROM:-0500
TZOFFSETTO:-0400
TZNAME:EDT
DTSTART:20220313T070000
END:DAYLIGHT
BEGIN:STANDARD
TZOFFSETFROM:-0400
TZOFFSETTO:-0500
TZNAME:EST
DTSTART:20221106T060000
END:STANDARD
BEGIN:DAYLIGHT
TZOFFSETFROM:-0500
TZOFFSETTO:-0400
TZNAME:EDT
DTSTART:20230312T070000
END:DAYLIGHT
BEGIN:STANDARD
TZOFFSETFROM:-0400
TZOFFSETTO:-0500
TZNAME:EST
DTSTART:20231105T060000
END:STANDARD
BEGIN:DAYLIGHT
TZOFFSETFROM:-0500
TZOFFSETTO:-0400
TZNAME:EDT
DTSTART:20240310T070000
END:DAYLIGHT
BEGIN:STANDARD
TZOFFSETFROM:-0400
TZOFFSETTO:-0500
TZNAME:EST
DTSTART:20241103T060000
END:STANDARD
END:VTIMEZONE
BEGIN:VEVENT
DTSTART;TZID=America/New_York:20231207T170000
DTEND;TZID=America/New_York:20231207T183000
DTSTAMP:20260425T204650
CREATED:20231125T085153Z
LAST-MODIFIED:20231125T085153Z
UID:10000179-1701968400-1701973800@northparktheatre.org
SUMMARY:"Fallen Leaves"
DESCRIPTION:“Already feels like one of Kaurismäki’s signature works….there’s life boiling under the simple surfaces.”\n— New York Magazine \n \nDecember 1 – 7th\nGet tickets HERE. \nAward-winning filmmaker Aki Kaurismäki (Le Havre\, The Other Side of Hope) makes a masterful return with FALLEN LEAVES\, a timeless\, hopeful and ultimately satisfying love story about two lonely souls’ path to happiness – and the numerous hurdles they encounter along the way. \nSet in contemporary Helsinki\, and shot through with Kaurismäki’s typically playful\, idiosyncratic style and deadpan humor\, this tender romantic tragicomedy is a timely reminder of the potency of movie-going from one of cinema’s living legends. Winner of the Jury Prize at the 2023 Cannes Film Festival.
URL:https://northparktheatre.org/shows/fallen-leaves-2/2023-12-07/3/
LOCATION:1428 Hertel Avenue\, Buffalo\, 14216\, United States
CATEGORIES:Fallen Angels
ATTACH;FMTTYPE=image/jpeg:https://northparktheatre.org/wp-content/uploads/poster-fallenleaves.jpg
END:VEVENT
BEGIN:VEVENT
DTSTART;TZID=America/New_York:20231207T150000
DTEND;TZID=America/New_York:20231207T163000
DTSTAMP:20260425T204650
CREATED:20231125T085153Z
LAST-MODIFIED:20231125T085153Z
UID:10000178-1701961200-1701966600@northparktheatre.org
SUMMARY:"Fallen Leaves"
DESCRIPTION:“Already feels like one of Kaurismäki’s signature works….there’s life boiling under the simple surfaces.”\n— New York Magazine \n \nDecember 1 – 7th\nGet tickets HERE. \nAward-winning filmmaker Aki Kaurismäki (Le Havre\, The Other Side of Hope) makes a masterful return with FALLEN LEAVES\, a timeless\, hopeful and ultimately satisfying love story about two lonely souls’ path to happiness – and the numerous hurdles they encounter along the way. \nSet in contemporary Helsinki\, and shot through with Kaurismäki’s typically playful\, idiosyncratic style and deadpan humor\, this tender romantic tragicomedy is a timely reminder of the potency of movie-going from one of cinema’s living legends. Winner of the Jury Prize at the 2023 Cannes Film Festival.
URL:https://northparktheatre.org/shows/fallen-leaves-2/2023-12-07/2/
LOCATION:1428 Hertel Avenue\, Buffalo\, 14216\, United States
CATEGORIES:Fallen Angels
ATTACH;FMTTYPE=image/jpeg:https://northparktheatre.org/wp-content/uploads/poster-fallenleaves.jpg
END:VEVENT
BEGIN:VEVENT
DTSTART;TZID=America/New_York:20231207T130000
DTEND;TZID=America/New_York:20231207T143000
DTSTAMP:20260425T204650
CREATED:20231125T085153Z
LAST-MODIFIED:20231125T085153Z
UID:10000177-1701954000-1701959400@northparktheatre.org
SUMMARY:"Fallen Leaves"
DESCRIPTION:“Already feels like one of Kaurismäki’s signature works….there’s life boiling under the simple surfaces.”\n— New York Magazine \n \nDecember 1 – 7th\nGet tickets HERE. \nAward-winning filmmaker Aki Kaurismäki (Le Havre\, The Other Side of Hope) makes a masterful return with FALLEN LEAVES\, a timeless\, hopeful and ultimately satisfying love story about two lonely souls’ path to happiness – and the numerous hurdles they encounter along the way. \nSet in contemporary Helsinki\, and shot through with Kaurismäki’s typically playful\, idiosyncratic style and deadpan humor\, this tender romantic tragicomedy is a timely reminder of the potency of movie-going from one of cinema’s living legends. Winner of the Jury Prize at the 2023 Cannes Film Festival.
URL:https://northparktheatre.org/shows/fallen-leaves-2/2023-12-07/1/
LOCATION:1428 Hertel Avenue\, Buffalo\, 14216\, United States
CATEGORIES:Fallen Angels
ATTACH;FMTTYPE=image/jpeg:https://northparktheatre.org/wp-content/uploads/poster-fallenleaves.jpg
END:VEVENT
BEGIN:VEVENT
DTSTART;TZID=America/New_York:20231206T140000
DTEND;TZID=America/New_York:20231206T160000
DTSTAMP:20260425T204650
CREATED:20231125T085153Z
LAST-MODIFIED:20231125T085153Z
UID:10000176-1701871200-1701878400@northparktheatre.org
SUMMARY:"Fallen Leaves"
DESCRIPTION:“Already feels like one of Kaurismäki’s signature works….there’s life boiling under the simple surfaces.”\n— New York Magazine \n \nDecember 1 – 7th\nGet tickets HERE. \nAward-winning filmmaker Aki Kaurismäki (Le Havre\, The Other Side of Hope) makes a masterful return with FALLEN LEAVES\, a timeless\, hopeful and ultimately satisfying love story about two lonely souls’ path to happiness – and the numerous hurdles they encounter along the way. \nSet in contemporary Helsinki\, and shot through with Kaurismäki’s typically playful\, idiosyncratic style and deadpan humor\, this tender romantic tragicomedy is a timely reminder of the potency of movie-going from one of cinema’s living legends. Winner of the Jury Prize at the 2023 Cannes Film Festival.
URL:https://northparktheatre.org/shows/fallen-leaves-2/2023-12-06/
LOCATION:1428 Hertel Avenue\, Buffalo\, 14216\, United States
CATEGORIES:Fallen Angels
ATTACH;FMTTYPE=image/jpeg:https://northparktheatre.org/wp-content/uploads/poster-fallenleaves.jpg
END:VEVENT
BEGIN:VEVENT
DTSTART;TZID=America/New_York:20231203T120000
DTEND;TZID=America/New_York:20231203T133000
DTSTAMP:20260425T204650
CREATED:20231125T085153Z
LAST-MODIFIED:20231125T085153Z
UID:10000175-1701604800-1701610200@northparktheatre.org
SUMMARY:"Fallen Leaves"
DESCRIPTION:“Already feels like one of Kaurismäki’s signature works….there’s life boiling under the simple surfaces.”\n— New York Magazine \n \nDecember 1 – 7th\nGet tickets HERE. \nAward-winning filmmaker Aki Kaurismäki (Le Havre\, The Other Side of Hope) makes a masterful return with FALLEN LEAVES\, a timeless\, hopeful and ultimately satisfying love story about two lonely souls’ path to happiness – and the numerous hurdles they encounter along the way. \nSet in contemporary Helsinki\, and shot through with Kaurismäki’s typically playful\, idiosyncratic style and deadpan humor\, this tender romantic tragicomedy is a timely reminder of the potency of movie-going from one of cinema’s living legends. Winner of the Jury Prize at the 2023 Cannes Film Festival.
URL:https://northparktheatre.org/shows/fallen-leaves-2/2023-12-03/
LOCATION:1428 Hertel Avenue\, Buffalo\, 14216\, United States
CATEGORIES:Fallen Angels
ATTACH;FMTTYPE=image/jpeg:https://northparktheatre.org/wp-content/uploads/poster-fallenleaves.jpg
END:VEVENT
BEGIN:VEVENT
DTSTART;TZID=America/New_York:20231202T161500
DTEND;TZID=America/New_York:20231202T180000
DTSTAMP:20260425T204650
CREATED:20231125T085153Z
LAST-MODIFIED:20231125T085153Z
UID:10000174-1701533700-1701540000@northparktheatre.org
SUMMARY:"Fallen Leaves"
DESCRIPTION:“Already feels like one of Kaurismäki’s signature works….there’s life boiling under the simple surfaces.”\n— New York Magazine \n \nDecember 1 – 7th\nGet tickets HERE. \nAward-winning filmmaker Aki Kaurismäki (Le Havre\, The Other Side of Hope) makes a masterful return with FALLEN LEAVES\, a timeless\, hopeful and ultimately satisfying love story about two lonely souls’ path to happiness – and the numerous hurdles they encounter along the way. \nSet in contemporary Helsinki\, and shot through with Kaurismäki’s typically playful\, idiosyncratic style and deadpan humor\, this tender romantic tragicomedy is a timely reminder of the potency of movie-going from one of cinema’s living legends. Winner of the Jury Prize at the 2023 Cannes Film Festival.
URL:https://northparktheatre.org/shows/fallen-leaves-2/2023-12-02/2/
LOCATION:1428 Hertel Avenue\, Buffalo\, 14216\, United States
CATEGORIES:Fallen Angels
ATTACH;FMTTYPE=image/jpeg:https://northparktheatre.org/wp-content/uploads/poster-fallenleaves.jpg
END:VEVENT
BEGIN:VEVENT
DTSTART;TZID=America/New_York:20231202T142000
DTEND;TZID=America/New_York:20231202T160000
DTSTAMP:20260425T204650
CREATED:20231125T085153Z
LAST-MODIFIED:20231125T085153Z
UID:10000173-1701526800-1701532800@northparktheatre.org
SUMMARY:"Fallen Leaves"
DESCRIPTION:“Already feels like one of Kaurismäki’s signature works….there’s life boiling under the simple surfaces.”\n— New York Magazine \n \nDecember 1 – 7th\nGet tickets HERE. \nAward-winning filmmaker Aki Kaurismäki (Le Havre\, The Other Side of Hope) makes a masterful return with FALLEN LEAVES\, a timeless\, hopeful and ultimately satisfying love story about two lonely souls’ path to happiness – and the numerous hurdles they encounter along the way. \nSet in contemporary Helsinki\, and shot through with Kaurismäki’s typically playful\, idiosyncratic style and deadpan humor\, this tender romantic tragicomedy is a timely reminder of the potency of movie-going from one of cinema’s living legends. Winner of the Jury Prize at the 2023 Cannes Film Festival.
URL:https://northparktheatre.org/shows/fallen-leaves-2/2023-12-02/1/
LOCATION:1428 Hertel Avenue\, Buffalo\, 14216\, United States
CATEGORIES:Fallen Angels
ATTACH;FMTTYPE=image/jpeg:https://northparktheatre.org/wp-content/uploads/poster-fallenleaves.jpg
END:VEVENT
BEGIN:VEVENT
DTSTART;TZID=America/New_York:20231201T193000
DTEND;TZID=America/New_York:20231201T210000
DTSTAMP:20260425T204650
CREATED:20231125T085153Z
LAST-MODIFIED:20231125T085153Z
UID:10000172-1701459000-1701464400@northparktheatre.org
SUMMARY:"Fallen Leaves"
DESCRIPTION:“Already feels like one of Kaurismäki’s signature works….there’s life boiling under the simple surfaces.”\n— New York Magazine \n \nDecember 1 – 7th\nGet tickets HERE. \nAward-winning filmmaker Aki Kaurismäki (Le Havre\, The Other Side of Hope) makes a masterful return with FALLEN LEAVES\, a timeless\, hopeful and ultimately satisfying love story about two lonely souls’ path to happiness – and the numerous hurdles they encounter along the way. \nSet in contemporary Helsinki\, and shot through with Kaurismäki’s typically playful\, idiosyncratic style and deadpan humor\, this tender romantic tragicomedy is a timely reminder of the potency of movie-going from one of cinema’s living legends. Winner of the Jury Prize at the 2023 Cannes Film Festival.
URL:https://northparktheatre.org/shows/fallen-leaves-2/2023-12-01/3/
LOCATION:1428 Hertel Avenue\, Buffalo\, 14216\, United States
CATEGORIES:Fallen Angels
ATTACH;FMTTYPE=image/jpeg:https://northparktheatre.org/wp-content/uploads/poster-fallenleaves.jpg
END:VEVENT
BEGIN:VEVENT
DTSTART;TZID=America/New_York:20231201T173000
DTEND;TZID=America/New_York:20231201T190000
DTSTAMP:20260425T204650
CREATED:20231125T085153Z
LAST-MODIFIED:20231125T085153Z
UID:10000171-1701451800-1701457200@northparktheatre.org
SUMMARY:"Fallen Leaves"
DESCRIPTION:“Already feels like one of Kaurismäki’s signature works….there’s life boiling under the simple surfaces.”\n— New York Magazine \n \nDecember 1 – 7th\nGet tickets HERE. \nAward-winning filmmaker Aki Kaurismäki (Le Havre\, The Other Side of Hope) makes a masterful return with FALLEN LEAVES\, a timeless\, hopeful and ultimately satisfying love story about two lonely souls’ path to happiness – and the numerous hurdles they encounter along the way. \nSet in contemporary Helsinki\, and shot through with Kaurismäki’s typically playful\, idiosyncratic style and deadpan humor\, this tender romantic tragicomedy is a timely reminder of the potency of movie-going from one of cinema’s living legends. Winner of the Jury Prize at the 2023 Cannes Film Festival.
URL:https://northparktheatre.org/shows/fallen-leaves-2/2023-12-01/2/
LOCATION:1428 Hertel Avenue\, Buffalo\, 14216\, United States
CATEGORIES:Fallen Angels
ATTACH;FMTTYPE=image/jpeg:https://northparktheatre.org/wp-content/uploads/poster-fallenleaves.jpg
END:VEVENT
BEGIN:VEVENT
DTSTART;TZID=America/New_York:20231201T153000
DTEND;TZID=America/New_York:20231201T170000
DTSTAMP:20260425T204650
CREATED:20231125T085153Z
LAST-MODIFIED:20231125T085153Z
UID:10000170-1701444600-1701450000@northparktheatre.org
SUMMARY:"Fallen Leaves"
DESCRIPTION:“Already feels like one of Kaurismäki’s signature works….there’s life boiling under the simple surfaces.”\n— New York Magazine \n \nDecember 1 – 7th\nGet tickets HERE. \nAward-winning filmmaker Aki Kaurismäki (Le Havre\, The Other Side of Hope) makes a masterful return with FALLEN LEAVES\, a timeless\, hopeful and ultimately satisfying love story about two lonely souls’ path to happiness – and the numerous hurdles they encounter along the way. \nSet in contemporary Helsinki\, and shot through with Kaurismäki’s typically playful\, idiosyncratic style and deadpan humor\, this tender romantic tragicomedy is a timely reminder of the potency of movie-going from one of cinema’s living legends. Winner of the Jury Prize at the 2023 Cannes Film Festival.
URL:https://northparktheatre.org/shows/fallen-leaves-2/2023-12-01/1/
LOCATION:1428 Hertel Avenue\, Buffalo\, 14216\, United States
CATEGORIES:Fallen Angels
ATTACH;FMTTYPE=image/jpeg:https://northparktheatre.org/wp-content/uploads/poster-fallenleaves.jpg
END:VEVENT
END:VCALENDAR