BEGIN:VCALENDAR
VERSION:2.0
PRODID:-//North Park Theatre - ECPv6.15.20//NONSGML v1.0//EN
CALSCALE:GREGORIAN
METHOD:PUBLISH
X-WR-CALNAME:North Park Theatre
X-ORIGINAL-URL:https://northparktheatre.org
X-WR-CALDESC:Events for North Park Theatre
REFRESH-INTERVAL;VALUE=DURATION:PT1H
X-Robots-Tag:noindex
X-PUBLISHED-TTL:PT1H
BEGIN:VTIMEZONE
TZID:America/New_York
BEGIN:DAYLIGHT
TZOFFSETFROM:-0500
TZOFFSETTO:-0400
TZNAME:EDT
DTSTART:20220313T070000
END:DAYLIGHT
BEGIN:STANDARD
TZOFFSETFROM:-0400
TZOFFSETTO:-0500
TZNAME:EST
DTSTART:20221106T060000
END:STANDARD
BEGIN:DAYLIGHT
TZOFFSETFROM:-0500
TZOFFSETTO:-0400
TZNAME:EDT
DTSTART:20230312T070000
END:DAYLIGHT
BEGIN:STANDARD
TZOFFSETFROM:-0400
TZOFFSETTO:-0500
TZNAME:EST
DTSTART:20231105T060000
END:STANDARD
BEGIN:DAYLIGHT
TZOFFSETFROM:-0500
TZOFFSETTO:-0400
TZNAME:EDT
DTSTART:20240310T070000
END:DAYLIGHT
BEGIN:STANDARD
TZOFFSETFROM:-0400
TZOFFSETTO:-0500
TZNAME:EST
DTSTART:20241103T060000
END:STANDARD
END:VTIMEZONE
BEGIN:VEVENT
DTSTART;TZID=America/New_York:20231206T160000
DTEND;TZID=America/New_York:20231206T180000
DTSTAMP:20260425T191748
CREATED:20231125T083436Z
LAST-MODIFIED:20231125T083436Z
UID:10000156-1701878400-1701885600@northparktheatre.org
SUMMARY:"Brazil: The Director's Cut"
DESCRIPTION:“It’s like a stoned\, slapstick 1984: a nightmare comedy in which the comedy is just an aspect of the nightmarishness.”\n— Pauline Kael \n \nGet tickets HERE. \nIn the dystopian masterpiece Brazil\, Jonathan Pryce plays a daydreaming everyman who finds himself caught in the soul-crushing gears of a nightmarish bureaucracy. \nThis cautionary tale by Terry Gilliam\, one of the great films of the 1980s\, has come to be esteemed alongside antitotalitarian works by the likes of George Orwell\, Aldous Huxley\, and Kurt Vonnegut Jr. And in terms of set design\, cinematography\, music\, and effects\, Brazil is a nonstop dazzler. \n \n“A Christmas movie for the rest of us\, the people trying to get by in a world gone temporarily more insane than usual without succumbing to the madness.”\n— Film School Rejects
URL:https://northparktheatre.org/shows/brazil-directors-cut/2023-12-06/
LOCATION:1428 Hertel Avenue\, Buffalo\, 14216\, United States
CATEGORIES:Special Screening
ATTACH;FMTTYPE=image/jpeg:https://northparktheatre.org/wp-content/uploads/poster-brazil.jpg
END:VEVENT
BEGIN:VEVENT
DTSTART;TZID=America/New_York:20231205T213000
DTEND;TZID=America/New_York:20231205T233000
DTSTAMP:20260425T191748
CREATED:20231125T083436Z
LAST-MODIFIED:20231125T083436Z
UID:10000155-1701811800-1701819000@northparktheatre.org
SUMMARY:"Brazil: The Director's Cut"
DESCRIPTION:“It’s like a stoned\, slapstick 1984: a nightmare comedy in which the comedy is just an aspect of the nightmarishness.”\n— Pauline Kael \n \nGet tickets HERE. \nIn the dystopian masterpiece Brazil\, Jonathan Pryce plays a daydreaming everyman who finds himself caught in the soul-crushing gears of a nightmarish bureaucracy. \nThis cautionary tale by Terry Gilliam\, one of the great films of the 1980s\, has come to be esteemed alongside antitotalitarian works by the likes of George Orwell\, Aldous Huxley\, and Kurt Vonnegut Jr. And in terms of set design\, cinematography\, music\, and effects\, Brazil is a nonstop dazzler. \n \n“A Christmas movie for the rest of us\, the people trying to get by in a world gone temporarily more insane than usual without succumbing to the madness.”\n— Film School Rejects
URL:https://northparktheatre.org/shows/brazil-directors-cut/2023-12-05/
LOCATION:1428 Hertel Avenue\, Buffalo\, 14216\, United States
CATEGORIES:Special Screening
ATTACH;FMTTYPE=image/jpeg:https://northparktheatre.org/wp-content/uploads/poster-brazil.jpg
END:VEVENT
BEGIN:VEVENT
DTSTART;TZID=America/New_York:20231204T213000
DTEND;TZID=America/New_York:20231204T233000
DTSTAMP:20260425T191748
CREATED:20231125T083436Z
LAST-MODIFIED:20231125T083436Z
UID:10000154-1701725400-1701732600@northparktheatre.org
SUMMARY:"Brazil: The Director's Cut"
DESCRIPTION:“It’s like a stoned\, slapstick 1984: a nightmare comedy in which the comedy is just an aspect of the nightmarishness.”\n— Pauline Kael \n \nGet tickets HERE. \nIn the dystopian masterpiece Brazil\, Jonathan Pryce plays a daydreaming everyman who finds himself caught in the soul-crushing gears of a nightmarish bureaucracy. \nThis cautionary tale by Terry Gilliam\, one of the great films of the 1980s\, has come to be esteemed alongside antitotalitarian works by the likes of George Orwell\, Aldous Huxley\, and Kurt Vonnegut Jr. And in terms of set design\, cinematography\, music\, and effects\, Brazil is a nonstop dazzler. \n \n“A Christmas movie for the rest of us\, the people trying to get by in a world gone temporarily more insane than usual without succumbing to the madness.”\n— Film School Rejects
URL:https://northparktheatre.org/shows/brazil-directors-cut/2023-12-04/
LOCATION:1428 Hertel Avenue\, Buffalo\, 14216\, United States
CATEGORIES:Special Screening
ATTACH;FMTTYPE=image/jpeg:https://northparktheatre.org/wp-content/uploads/poster-brazil.jpg
END:VEVENT
BEGIN:VEVENT
DTSTART;TZID=America/New_York:20231203T211000
DTEND;TZID=America/New_York:20231203T231000
DTSTAMP:20260425T191748
CREATED:20231125T083436Z
LAST-MODIFIED:20231125T083436Z
UID:10000153-1701637800-1701645000@northparktheatre.org
SUMMARY:"Brazil: The Director's Cut"
DESCRIPTION:“It’s like a stoned\, slapstick 1984: a nightmare comedy in which the comedy is just an aspect of the nightmarishness.”\n— Pauline Kael \n \nGet tickets HERE. \nIn the dystopian masterpiece Brazil\, Jonathan Pryce plays a daydreaming everyman who finds himself caught in the soul-crushing gears of a nightmarish bureaucracy. \nThis cautionary tale by Terry Gilliam\, one of the great films of the 1980s\, has come to be esteemed alongside antitotalitarian works by the likes of George Orwell\, Aldous Huxley\, and Kurt Vonnegut Jr. And in terms of set design\, cinematography\, music\, and effects\, Brazil is a nonstop dazzler. \n \n“A Christmas movie for the rest of us\, the people trying to get by in a world gone temporarily more insane than usual without succumbing to the madness.”\n— Film School Rejects
URL:https://northparktheatre.org/shows/brazil-directors-cut/2023-12-03/
LOCATION:1428 Hertel Avenue\, Buffalo\, 14216\, United States
CATEGORIES:Special Screening
ATTACH;FMTTYPE=image/jpeg:https://northparktheatre.org/wp-content/uploads/poster-brazil.jpg
END:VEVENT
BEGIN:VEVENT
DTSTART;TZID=America/New_York:20231202T113000
DTEND;TZID=America/New_York:20231202T133000
DTSTAMP:20260425T191748
CREATED:20231125T083436Z
LAST-MODIFIED:20231125T083436Z
UID:10000152-1701516600-1701523800@northparktheatre.org
SUMMARY:"Brazil: The Director's Cut"
DESCRIPTION:“It’s like a stoned\, slapstick 1984: a nightmare comedy in which the comedy is just an aspect of the nightmarishness.”\n— Pauline Kael \n \nGet tickets HERE. \nIn the dystopian masterpiece Brazil\, Jonathan Pryce plays a daydreaming everyman who finds himself caught in the soul-crushing gears of a nightmarish bureaucracy. \nThis cautionary tale by Terry Gilliam\, one of the great films of the 1980s\, has come to be esteemed alongside antitotalitarian works by the likes of George Orwell\, Aldous Huxley\, and Kurt Vonnegut Jr. And in terms of set design\, cinematography\, music\, and effects\, Brazil is a nonstop dazzler. \n \n“A Christmas movie for the rest of us\, the people trying to get by in a world gone temporarily more insane than usual without succumbing to the madness.”\n— Film School Rejects
URL:https://northparktheatre.org/shows/brazil-directors-cut/2023-12-02/
LOCATION:1428 Hertel Avenue\, Buffalo\, 14216\, United States
CATEGORIES:Special Screening
ATTACH;FMTTYPE=image/jpeg:https://northparktheatre.org/wp-content/uploads/poster-brazil.jpg
END:VEVENT
BEGIN:VEVENT
DTSTART;TZID=America/New_York:20231201T213000
DTEND;TZID=America/New_York:20231201T233000
DTSTAMP:20260425T191748
CREATED:20231125T083436Z
LAST-MODIFIED:20231125T083436Z
UID:10000151-1701466200-1701473400@northparktheatre.org
SUMMARY:"Brazil: The Director's Cut"
DESCRIPTION:“It’s like a stoned\, slapstick 1984: a nightmare comedy in which the comedy is just an aspect of the nightmarishness.”\n— Pauline Kael \n \nGet tickets HERE. \nIn the dystopian masterpiece Brazil\, Jonathan Pryce plays a daydreaming everyman who finds himself caught in the soul-crushing gears of a nightmarish bureaucracy. \nThis cautionary tale by Terry Gilliam\, one of the great films of the 1980s\, has come to be esteemed alongside antitotalitarian works by the likes of George Orwell\, Aldous Huxley\, and Kurt Vonnegut Jr. And in terms of set design\, cinematography\, music\, and effects\, Brazil is a nonstop dazzler. \n \n“A Christmas movie for the rest of us\, the people trying to get by in a world gone temporarily more insane than usual without succumbing to the madness.”\n— Film School Rejects
URL:https://northparktheatre.org/shows/brazil-directors-cut/2023-12-01/
LOCATION:1428 Hertel Avenue\, Buffalo\, 14216\, United States
CATEGORIES:Special Screening
ATTACH;FMTTYPE=image/jpeg:https://northparktheatre.org/wp-content/uploads/poster-brazil.jpg
END:VEVENT
END:VCALENDAR