BEGIN:VCALENDAR
VERSION:2.0
PRODID:-//North Park Theatre - ECPv6.15.20//NONSGML v1.0//EN
CALSCALE:GREGORIAN
METHOD:PUBLISH
X-ORIGINAL-URL:https://northparktheatre.org
X-WR-CALDESC:Events for North Park Theatre
REFRESH-INTERVAL;VALUE=DURATION:PT1H
X-Robots-Tag:noindex
X-PUBLISHED-TTL:PT1H
BEGIN:VTIMEZONE
TZID:America/New_York
BEGIN:DAYLIGHT
TZOFFSETFROM:-0500
TZOFFSETTO:-0400
TZNAME:EDT
DTSTART:20260308T070000
END:DAYLIGHT
BEGIN:STANDARD
TZOFFSETFROM:-0400
TZOFFSETTO:-0500
TZNAME:EST
DTSTART:20261101T060000
END:STANDARD
BEGIN:DAYLIGHT
TZOFFSETFROM:-0500
TZOFFSETTO:-0400
TZNAME:EDT
DTSTART:20270314T070000
END:DAYLIGHT
BEGIN:STANDARD
TZOFFSETFROM:-0400
TZOFFSETTO:-0500
TZNAME:EST
DTSTART:20271107T060000
END:STANDARD
BEGIN:DAYLIGHT
TZOFFSETFROM:-0500
TZOFFSETTO:-0400
TZNAME:EDT
DTSTART:20280312T070000
END:DAYLIGHT
BEGIN:STANDARD
TZOFFSETFROM:-0400
TZOFFSETTO:-0500
TZNAME:EST
DTSTART:20281105T060000
END:STANDARD
END:VTIMEZONE
BEGIN:VEVENT
DTSTART;TZID=America/New_York:20270501T163000
DTEND;TZID=America/New_York:20270501T183000
DTSTAMP:20260424T021428
CREATED:20260423T120611Z
LAST-MODIFIED:20260423T120611Z
UID:10014959-1809189000-1809196200@northparktheatre.org
SUMMARY:"Mistura"
DESCRIPTION:A woman’s life unravels after her husband’s betrayal isolates her from elite society. Embracing disregarded communities\, she embarks on a transformative journey\, challenging norms through a daring culinary venture that redefines her life. \n \nScreening May 1-7!\nGet tickets HERE.
URL:https://northparktheatre.org/shows/mistura-2/2027-05-01/
CATEGORIES:Mistura
ATTACH;FMTTYPE=image/jpeg:https://northparktheatre.org/wp-content/uploads/poster-mistura.jpg
END:VEVENT
BEGIN:VEVENT
DTSTART;TZID=America/New_York:20270501T214000
DTEND;TZID=America/New_York:20270501T230000
DTSTAMP:20260424T021428
CREATED:20260423T202747Z
LAST-MODIFIED:20260423T202747Z
UID:10015337-1809207600-1809212400@northparktheatre.org
SUMMARY:"Twin Peaks: Season 1" - Episodes 7 & 8
DESCRIPTION:ANNOUNCEMENT: TWIN PEAKS continues May 1st on our brand new screen! \nLocally designed prints at the stand. \nWe’ve got some surprises lined up\, so stay tuned! \n☕☕☕ \nJoin us in 2026 as the North Park enters the town of TWIN PEAKS! \nFor the first time ever\, CBS has licensed David Lynch’s landmark television series for theatrical exhibition\, finally letting us bring some of the director’s greatest work to the big screen. \nWe’ll be showing exclusive ProRes HD masters provided directly by the distributor\, so if you think the mystery of Laura Palmer was an open-and-shut case\, keep your eyes peeled. The big screen has a way of revealing details you may have missed… 🔍 \nMay 1st – 7th \nS01E07: “The Last Evening”\nS01E08: “Realization Time” \nFRI May 1st at 9:40 PM\nSAT May 2nd at 9:40 PM\nSUN May 3rd at 9:40 PM\nMON May 4th at 9:40 PM\nTUE May 5th at 9:40 PM\nWED May 6th at 9:40 PM\nTHU May 7th at 9:40 PM
URL:https://northparktheatre.org/shows/twin-peaks-season-1-episodes-7-8/2027-05-01/
CATEGORIES:Twin Peaks: Season 1
ATTACH;FMTTYPE=image/jpeg:https://northparktheatre.org/wp-content/uploads/poster-tpseason1.jpg
END:VEVENT
BEGIN:VEVENT
DTSTART;TZID=America/New_York:20270502T163000
DTEND;TZID=America/New_York:20270502T183000
DTSTAMP:20260424T021428
CREATED:20260423T120611Z
LAST-MODIFIED:20260423T120611Z
UID:10014960-1809275400-1809282600@northparktheatre.org
SUMMARY:"Mistura"
DESCRIPTION:A woman’s life unravels after her husband’s betrayal isolates her from elite society. Embracing disregarded communities\, she embarks on a transformative journey\, challenging norms through a daring culinary venture that redefines her life. \n \nScreening May 1-7!\nGet tickets HERE.
URL:https://northparktheatre.org/shows/mistura-2/2027-05-02/
CATEGORIES:Mistura
ATTACH;FMTTYPE=image/jpeg:https://northparktheatre.org/wp-content/uploads/poster-mistura.jpg
END:VEVENT
BEGIN:VEVENT
DTSTART;TZID=America/New_York:20270502T214000
DTEND;TZID=America/New_York:20270502T230000
DTSTAMP:20260424T021428
CREATED:20260423T202747Z
LAST-MODIFIED:20260423T202747Z
UID:10015338-1809294000-1809298800@northparktheatre.org
SUMMARY:"Twin Peaks: Season 1" - Episodes 7 & 8
DESCRIPTION:ANNOUNCEMENT: TWIN PEAKS continues May 1st on our brand new screen! \nLocally designed prints at the stand. \nWe’ve got some surprises lined up\, so stay tuned! \n☕☕☕ \nJoin us in 2026 as the North Park enters the town of TWIN PEAKS! \nFor the first time ever\, CBS has licensed David Lynch’s landmark television series for theatrical exhibition\, finally letting us bring some of the director’s greatest work to the big screen. \nWe’ll be showing exclusive ProRes HD masters provided directly by the distributor\, so if you think the mystery of Laura Palmer was an open-and-shut case\, keep your eyes peeled. The big screen has a way of revealing details you may have missed… 🔍 \nMay 1st – 7th \nS01E07: “The Last Evening”\nS01E08: “Realization Time” \nFRI May 1st at 9:40 PM\nSAT May 2nd at 9:40 PM\nSUN May 3rd at 9:40 PM\nMON May 4th at 9:40 PM\nTUE May 5th at 9:40 PM\nWED May 6th at 9:40 PM\nTHU May 7th at 9:40 PM
URL:https://northparktheatre.org/shows/twin-peaks-season-1-episodes-7-8/2027-05-02/
CATEGORIES:Twin Peaks: Season 1
ATTACH;FMTTYPE=image/jpeg:https://northparktheatre.org/wp-content/uploads/poster-tpseason1.jpg
END:VEVENT
BEGIN:VEVENT
DTSTART;TZID=America/New_York:20270503T163000
DTEND;TZID=America/New_York:20270503T183000
DTSTAMP:20260424T021428
CREATED:20260423T120611Z
LAST-MODIFIED:20260423T120611Z
UID:10014961-1809361800-1809369000@northparktheatre.org
SUMMARY:"Mistura"
DESCRIPTION:A woman’s life unravels after her husband’s betrayal isolates her from elite society. Embracing disregarded communities\, she embarks on a transformative journey\, challenging norms through a daring culinary venture that redefines her life. \n \nScreening May 1-7!\nGet tickets HERE.
URL:https://northparktheatre.org/shows/mistura-2/2027-05-03/
CATEGORIES:Mistura
ATTACH;FMTTYPE=image/jpeg:https://northparktheatre.org/wp-content/uploads/poster-mistura.jpg
END:VEVENT
BEGIN:VEVENT
DTSTART;TZID=America/New_York:20270503T214000
DTEND;TZID=America/New_York:20270503T230000
DTSTAMP:20260424T021428
CREATED:20260423T202747Z
LAST-MODIFIED:20260423T202747Z
UID:10015339-1809380400-1809385200@northparktheatre.org
SUMMARY:"Twin Peaks: Season 1" - Episodes 7 & 8
DESCRIPTION:ANNOUNCEMENT: TWIN PEAKS continues May 1st on our brand new screen! \nLocally designed prints at the stand. \nWe’ve got some surprises lined up\, so stay tuned! \n☕☕☕ \nJoin us in 2026 as the North Park enters the town of TWIN PEAKS! \nFor the first time ever\, CBS has licensed David Lynch’s landmark television series for theatrical exhibition\, finally letting us bring some of the director’s greatest work to the big screen. \nWe’ll be showing exclusive ProRes HD masters provided directly by the distributor\, so if you think the mystery of Laura Palmer was an open-and-shut case\, keep your eyes peeled. The big screen has a way of revealing details you may have missed… 🔍 \nMay 1st – 7th \nS01E07: “The Last Evening”\nS01E08: “Realization Time” \nFRI May 1st at 9:40 PM\nSAT May 2nd at 9:40 PM\nSUN May 3rd at 9:40 PM\nMON May 4th at 9:40 PM\nTUE May 5th at 9:40 PM\nWED May 6th at 9:40 PM\nTHU May 7th at 9:40 PM
URL:https://northparktheatre.org/shows/twin-peaks-season-1-episodes-7-8/2027-05-03/
CATEGORIES:Twin Peaks: Season 1
ATTACH;FMTTYPE=image/jpeg:https://northparktheatre.org/wp-content/uploads/poster-tpseason1.jpg
END:VEVENT
BEGIN:VEVENT
DTSTART;TZID=America/New_York:20270504T163000
DTEND;TZID=America/New_York:20270504T183000
DTSTAMP:20260424T021428
CREATED:20260423T120611Z
LAST-MODIFIED:20260423T120611Z
UID:10014962-1809448200-1809455400@northparktheatre.org
SUMMARY:"Mistura"
DESCRIPTION:A woman’s life unravels after her husband’s betrayal isolates her from elite society. Embracing disregarded communities\, she embarks on a transformative journey\, challenging norms through a daring culinary venture that redefines her life. \n \nScreening May 1-7!\nGet tickets HERE.
URL:https://northparktheatre.org/shows/mistura-2/2027-05-04/
CATEGORIES:Mistura
ATTACH;FMTTYPE=image/jpeg:https://northparktheatre.org/wp-content/uploads/poster-mistura.jpg
END:VEVENT
BEGIN:VEVENT
DTSTART;TZID=America/New_York:20270504T214000
DTEND;TZID=America/New_York:20270504T230000
DTSTAMP:20260424T021428
CREATED:20260423T202747Z
LAST-MODIFIED:20260423T202747Z
UID:10015340-1809466800-1809471600@northparktheatre.org
SUMMARY:"Twin Peaks: Season 1" - Episodes 7 & 8
DESCRIPTION:ANNOUNCEMENT: TWIN PEAKS continues May 1st on our brand new screen! \nLocally designed prints at the stand. \nWe’ve got some surprises lined up\, so stay tuned! \n☕☕☕ \nJoin us in 2026 as the North Park enters the town of TWIN PEAKS! \nFor the first time ever\, CBS has licensed David Lynch’s landmark television series for theatrical exhibition\, finally letting us bring some of the director’s greatest work to the big screen. \nWe’ll be showing exclusive ProRes HD masters provided directly by the distributor\, so if you think the mystery of Laura Palmer was an open-and-shut case\, keep your eyes peeled. The big screen has a way of revealing details you may have missed… 🔍 \nMay 1st – 7th \nS01E07: “The Last Evening”\nS01E08: “Realization Time” \nFRI May 1st at 9:40 PM\nSAT May 2nd at 9:40 PM\nSUN May 3rd at 9:40 PM\nMON May 4th at 9:40 PM\nTUE May 5th at 9:40 PM\nWED May 6th at 9:40 PM\nTHU May 7th at 9:40 PM
URL:https://northparktheatre.org/shows/twin-peaks-season-1-episodes-7-8/2027-05-04/
CATEGORIES:Twin Peaks: Season 1
ATTACH;FMTTYPE=image/jpeg:https://northparktheatre.org/wp-content/uploads/poster-tpseason1.jpg
END:VEVENT
BEGIN:VEVENT
DTSTART;TZID=America/New_York:20270505T163000
DTEND;TZID=America/New_York:20270505T183000
DTSTAMP:20260424T021428
CREATED:20260423T120611Z
LAST-MODIFIED:20260423T120611Z
UID:10014963-1809534600-1809541800@northparktheatre.org
SUMMARY:"Mistura"
DESCRIPTION:A woman’s life unravels after her husband’s betrayal isolates her from elite society. Embracing disregarded communities\, she embarks on a transformative journey\, challenging norms through a daring culinary venture that redefines her life. \n \nScreening May 1-7!\nGet tickets HERE.
URL:https://northparktheatre.org/shows/mistura-2/2027-05-05/
CATEGORIES:Mistura
ATTACH;FMTTYPE=image/jpeg:https://northparktheatre.org/wp-content/uploads/poster-mistura.jpg
END:VEVENT
BEGIN:VEVENT
DTSTART;TZID=America/New_York:20270505T214000
DTEND;TZID=America/New_York:20270505T230000
DTSTAMP:20260424T021428
CREATED:20260423T202747Z
LAST-MODIFIED:20260423T202747Z
UID:10015341-1809553200-1809558000@northparktheatre.org
SUMMARY:"Twin Peaks: Season 1" - Episodes 7 & 8
DESCRIPTION:ANNOUNCEMENT: TWIN PEAKS continues May 1st on our brand new screen! \nLocally designed prints at the stand. \nWe’ve got some surprises lined up\, so stay tuned! \n☕☕☕ \nJoin us in 2026 as the North Park enters the town of TWIN PEAKS! \nFor the first time ever\, CBS has licensed David Lynch’s landmark television series for theatrical exhibition\, finally letting us bring some of the director’s greatest work to the big screen. \nWe’ll be showing exclusive ProRes HD masters provided directly by the distributor\, so if you think the mystery of Laura Palmer was an open-and-shut case\, keep your eyes peeled. The big screen has a way of revealing details you may have missed… 🔍 \nMay 1st – 7th \nS01E07: “The Last Evening”\nS01E08: “Realization Time” \nFRI May 1st at 9:40 PM\nSAT May 2nd at 9:40 PM\nSUN May 3rd at 9:40 PM\nMON May 4th at 9:40 PM\nTUE May 5th at 9:40 PM\nWED May 6th at 9:40 PM\nTHU May 7th at 9:40 PM
URL:https://northparktheatre.org/shows/twin-peaks-season-1-episodes-7-8/2027-05-05/
CATEGORIES:Twin Peaks: Season 1
ATTACH;FMTTYPE=image/jpeg:https://northparktheatre.org/wp-content/uploads/poster-tpseason1.jpg
END:VEVENT
BEGIN:VEVENT
DTSTART;TZID=America/New_York:20270506T163000
DTEND;TZID=America/New_York:20270506T183000
DTSTAMP:20260424T021428
CREATED:20260423T120611Z
LAST-MODIFIED:20260423T120611Z
UID:10014964-1809621000-1809628200@northparktheatre.org
SUMMARY:"Mistura"
DESCRIPTION:A woman’s life unravels after her husband’s betrayal isolates her from elite society. Embracing disregarded communities\, she embarks on a transformative journey\, challenging norms through a daring culinary venture that redefines her life. \n \nScreening May 1-7!\nGet tickets HERE.
URL:https://northparktheatre.org/shows/mistura-2/2027-05-06/
CATEGORIES:Mistura
ATTACH;FMTTYPE=image/jpeg:https://northparktheatre.org/wp-content/uploads/poster-mistura.jpg
END:VEVENT
BEGIN:VEVENT
DTSTART;TZID=America/New_York:20270506T214000
DTEND;TZID=America/New_York:20270506T230000
DTSTAMP:20260424T021428
CREATED:20260423T202747Z
LAST-MODIFIED:20260423T202747Z
UID:10015342-1809639600-1809644400@northparktheatre.org
SUMMARY:"Twin Peaks: Season 1" - Episodes 7 & 8
DESCRIPTION:ANNOUNCEMENT: TWIN PEAKS continues May 1st on our brand new screen! \nLocally designed prints at the stand. \nWe’ve got some surprises lined up\, so stay tuned! \n☕☕☕ \nJoin us in 2026 as the North Park enters the town of TWIN PEAKS! \nFor the first time ever\, CBS has licensed David Lynch’s landmark television series for theatrical exhibition\, finally letting us bring some of the director’s greatest work to the big screen. \nWe’ll be showing exclusive ProRes HD masters provided directly by the distributor\, so if you think the mystery of Laura Palmer was an open-and-shut case\, keep your eyes peeled. The big screen has a way of revealing details you may have missed… 🔍 \nMay 1st – 7th \nS01E07: “The Last Evening”\nS01E08: “Realization Time” \nFRI May 1st at 9:40 PM\nSAT May 2nd at 9:40 PM\nSUN May 3rd at 9:40 PM\nMON May 4th at 9:40 PM\nTUE May 5th at 9:40 PM\nWED May 6th at 9:40 PM\nTHU May 7th at 9:40 PM
URL:https://northparktheatre.org/shows/twin-peaks-season-1-episodes-7-8/2027-05-06/
CATEGORIES:Twin Peaks: Season 1
ATTACH;FMTTYPE=image/jpeg:https://northparktheatre.org/wp-content/uploads/poster-tpseason1.jpg
END:VEVENT
END:VCALENDAR