BEGIN:VCALENDAR
VERSION:2.0
PRODID:-//North Park Theatre - ECPv6.15.20//NONSGML v1.0//EN
CALSCALE:GREGORIAN
METHOD:PUBLISH
X-WR-CALNAME:North Park Theatre
X-ORIGINAL-URL:https://northparktheatre.org
X-WR-CALDESC:Events for North Park Theatre
REFRESH-INTERVAL;VALUE=DURATION:PT1H
X-Robots-Tag:noindex
X-PUBLISHED-TTL:PT1H
BEGIN:VTIMEZONE
TZID:America/New_York
BEGIN:DAYLIGHT
TZOFFSETFROM:-0500
TZOFFSETTO:-0400
TZNAME:EDT
DTSTART:20250309T070000
END:DAYLIGHT
BEGIN:STANDARD
TZOFFSETFROM:-0400
TZOFFSETTO:-0500
TZNAME:EST
DTSTART:20251102T060000
END:STANDARD
BEGIN:DAYLIGHT
TZOFFSETFROM:-0500
TZOFFSETTO:-0400
TZNAME:EDT
DTSTART:20260308T070000
END:DAYLIGHT
BEGIN:STANDARD
TZOFFSETFROM:-0400
TZOFFSETTO:-0500
TZNAME:EST
DTSTART:20261101T060000
END:STANDARD
BEGIN:DAYLIGHT
TZOFFSETFROM:-0500
TZOFFSETTO:-0400
TZNAME:EDT
DTSTART:20270314T070000
END:DAYLIGHT
BEGIN:STANDARD
TZOFFSETFROM:-0400
TZOFFSETTO:-0500
TZNAME:EST
DTSTART:20271107T060000
END:STANDARD
END:VTIMEZONE
BEGIN:VEVENT
DTSTART;TZID=America/New_York:20260701T163000
DTEND;TZID=America/New_York:20260701T183000
DTSTAMP:20260423T131121
CREATED:20260423T120611Z
LAST-MODIFIED:20260423T120611Z
UID:10014655-1782923400-1782930600@northparktheatre.org
SUMMARY:"Mistura"
DESCRIPTION:A woman’s life unravels after her husband’s betrayal isolates her from elite society. Embracing disregarded communities\, she embarks on a transformative journey\, challenging norms through a daring culinary venture that redefines her life. \n \nScreening May 1-7!\nGet tickets HERE.
URL:https://northparktheatre.org/shows/mistura-2/2026-07-01/
CATEGORIES:Mistura
ATTACH;FMTTYPE=image/jpeg:https://northparktheatre.org/wp-content/uploads/poster-mistura.jpg
END:VEVENT
BEGIN:VEVENT
DTSTART;TZID=America/New_York:20260702T163000
DTEND;TZID=America/New_York:20260702T183000
DTSTAMP:20260423T131121
CREATED:20260423T120611Z
LAST-MODIFIED:20260423T120611Z
UID:10014656-1783009800-1783017000@northparktheatre.org
SUMMARY:"Mistura"
DESCRIPTION:A woman’s life unravels after her husband’s betrayal isolates her from elite society. Embracing disregarded communities\, she embarks on a transformative journey\, challenging norms through a daring culinary venture that redefines her life. \n \nScreening May 1-7!\nGet tickets HERE.
URL:https://northparktheatre.org/shows/mistura-2/2026-07-02/
CATEGORIES:Mistura
ATTACH;FMTTYPE=image/jpeg:https://northparktheatre.org/wp-content/uploads/poster-mistura.jpg
END:VEVENT
BEGIN:VEVENT
DTSTART;TZID=America/New_York:20260703T163000
DTEND;TZID=America/New_York:20260703T183000
DTSTAMP:20260423T131121
CREATED:20260423T120611Z
LAST-MODIFIED:20260423T120611Z
UID:10014657-1783096200-1783103400@northparktheatre.org
SUMMARY:"Mistura"
DESCRIPTION:A woman’s life unravels after her husband’s betrayal isolates her from elite society. Embracing disregarded communities\, she embarks on a transformative journey\, challenging norms through a daring culinary venture that redefines her life. \n \nScreening May 1-7!\nGet tickets HERE.
URL:https://northparktheatre.org/shows/mistura-2/2026-07-03/
CATEGORIES:Mistura
ATTACH;FMTTYPE=image/jpeg:https://northparktheatre.org/wp-content/uploads/poster-mistura.jpg
END:VEVENT
BEGIN:VEVENT
DTSTART;TZID=America/New_York:20260704T163000
DTEND;TZID=America/New_York:20260704T183000
DTSTAMP:20260423T131121
CREATED:20260423T120611Z
LAST-MODIFIED:20260423T120611Z
UID:10014658-1783182600-1783189800@northparktheatre.org
SUMMARY:"Mistura"
DESCRIPTION:A woman’s life unravels after her husband’s betrayal isolates her from elite society. Embracing disregarded communities\, she embarks on a transformative journey\, challenging norms through a daring culinary venture that redefines her life. \n \nScreening May 1-7!\nGet tickets HERE.
URL:https://northparktheatre.org/shows/mistura-2/2026-07-04/
CATEGORIES:Mistura
ATTACH;FMTTYPE=image/jpeg:https://northparktheatre.org/wp-content/uploads/poster-mistura.jpg
END:VEVENT
BEGIN:VEVENT
DTSTART;TZID=America/New_York:20260705T163000
DTEND;TZID=America/New_York:20260705T183000
DTSTAMP:20260423T131121
CREATED:20260423T120611Z
LAST-MODIFIED:20260423T120611Z
UID:10014659-1783269000-1783276200@northparktheatre.org
SUMMARY:"Mistura"
DESCRIPTION:A woman’s life unravels after her husband’s betrayal isolates her from elite society. Embracing disregarded communities\, she embarks on a transformative journey\, challenging norms through a daring culinary venture that redefines her life. \n \nScreening May 1-7!\nGet tickets HERE.
URL:https://northparktheatre.org/shows/mistura-2/2026-07-05/
CATEGORIES:Mistura
ATTACH;FMTTYPE=image/jpeg:https://northparktheatre.org/wp-content/uploads/poster-mistura.jpg
END:VEVENT
BEGIN:VEVENT
DTSTART;TZID=America/New_York:20260706T163000
DTEND;TZID=America/New_York:20260706T183000
DTSTAMP:20260423T131121
CREATED:20260423T120611Z
LAST-MODIFIED:20260423T120611Z
UID:10014660-1783355400-1783362600@northparktheatre.org
SUMMARY:"Mistura"
DESCRIPTION:A woman’s life unravels after her husband’s betrayal isolates her from elite society. Embracing disregarded communities\, she embarks on a transformative journey\, challenging norms through a daring culinary venture that redefines her life. \n \nScreening May 1-7!\nGet tickets HERE.
URL:https://northparktheatre.org/shows/mistura-2/2026-07-06/
CATEGORIES:Mistura
ATTACH;FMTTYPE=image/jpeg:https://northparktheatre.org/wp-content/uploads/poster-mistura.jpg
END:VEVENT
BEGIN:VEVENT
DTSTART;TZID=America/New_York:20260707T163000
DTEND;TZID=America/New_York:20260707T183000
DTSTAMP:20260423T131121
CREATED:20260423T120611Z
LAST-MODIFIED:20260423T120611Z
UID:10014661-1783441800-1783449000@northparktheatre.org
SUMMARY:"Mistura"
DESCRIPTION:A woman’s life unravels after her husband’s betrayal isolates her from elite society. Embracing disregarded communities\, she embarks on a transformative journey\, challenging norms through a daring culinary venture that redefines her life. \n \nScreening May 1-7!\nGet tickets HERE.
URL:https://northparktheatre.org/shows/mistura-2/2026-07-07/
CATEGORIES:Mistura
ATTACH;FMTTYPE=image/jpeg:https://northparktheatre.org/wp-content/uploads/poster-mistura.jpg
END:VEVENT
BEGIN:VEVENT
DTSTART;TZID=America/New_York:20260708T163000
DTEND;TZID=America/New_York:20260708T183000
DTSTAMP:20260423T131121
CREATED:20260423T120611Z
LAST-MODIFIED:20260423T120611Z
UID:10014662-1783528200-1783535400@northparktheatre.org
SUMMARY:"Mistura"
DESCRIPTION:A woman’s life unravels after her husband’s betrayal isolates her from elite society. Embracing disregarded communities\, she embarks on a transformative journey\, challenging norms through a daring culinary venture that redefines her life. \n \nScreening May 1-7!\nGet tickets HERE.
URL:https://northparktheatre.org/shows/mistura-2/2026-07-08/
CATEGORIES:Mistura
ATTACH;FMTTYPE=image/jpeg:https://northparktheatre.org/wp-content/uploads/poster-mistura.jpg
END:VEVENT
BEGIN:VEVENT
DTSTART;TZID=America/New_York:20260709T163000
DTEND;TZID=America/New_York:20260709T183000
DTSTAMP:20260423T131121
CREATED:20260423T120611Z
LAST-MODIFIED:20260423T120611Z
UID:10014663-1783614600-1783621800@northparktheatre.org
SUMMARY:"Mistura"
DESCRIPTION:A woman’s life unravels after her husband’s betrayal isolates her from elite society. Embracing disregarded communities\, she embarks on a transformative journey\, challenging norms through a daring culinary venture that redefines her life. \n \nScreening May 1-7!\nGet tickets HERE.
URL:https://northparktheatre.org/shows/mistura-2/2026-07-09/
CATEGORIES:Mistura
ATTACH;FMTTYPE=image/jpeg:https://northparktheatre.org/wp-content/uploads/poster-mistura.jpg
END:VEVENT
BEGIN:VEVENT
DTSTART;TZID=America/New_York:20260710T163000
DTEND;TZID=America/New_York:20260710T183000
DTSTAMP:20260423T131121
CREATED:20260423T120611Z
LAST-MODIFIED:20260423T120611Z
UID:10014664-1783701000-1783708200@northparktheatre.org
SUMMARY:"Mistura"
DESCRIPTION:A woman’s life unravels after her husband’s betrayal isolates her from elite society. Embracing disregarded communities\, she embarks on a transformative journey\, challenging norms through a daring culinary venture that redefines her life. \n \nScreening May 1-7!\nGet tickets HERE.
URL:https://northparktheatre.org/shows/mistura-2/2026-07-10/
CATEGORIES:Mistura
ATTACH;FMTTYPE=image/jpeg:https://northparktheatre.org/wp-content/uploads/poster-mistura.jpg
END:VEVENT
BEGIN:VEVENT
DTSTART;TZID=America/New_York:20260711T163000
DTEND;TZID=America/New_York:20260711T183000
DTSTAMP:20260423T131121
CREATED:20260423T120611Z
LAST-MODIFIED:20260423T120611Z
UID:10014665-1783787400-1783794600@northparktheatre.org
SUMMARY:"Mistura"
DESCRIPTION:A woman’s life unravels after her husband’s betrayal isolates her from elite society. Embracing disregarded communities\, she embarks on a transformative journey\, challenging norms through a daring culinary venture that redefines her life. \n \nScreening May 1-7!\nGet tickets HERE.
URL:https://northparktheatre.org/shows/mistura-2/2026-07-11/
CATEGORIES:Mistura
ATTACH;FMTTYPE=image/jpeg:https://northparktheatre.org/wp-content/uploads/poster-mistura.jpg
END:VEVENT
BEGIN:VEVENT
DTSTART;TZID=America/New_York:20260712T163000
DTEND;TZID=America/New_York:20260712T183000
DTSTAMP:20260423T131121
CREATED:20260423T120611Z
LAST-MODIFIED:20260423T120611Z
UID:10014666-1783873800-1783881000@northparktheatre.org
SUMMARY:"Mistura"
DESCRIPTION:A woman’s life unravels after her husband’s betrayal isolates her from elite society. Embracing disregarded communities\, she embarks on a transformative journey\, challenging norms through a daring culinary venture that redefines her life. \n \nScreening May 1-7!\nGet tickets HERE.
URL:https://northparktheatre.org/shows/mistura-2/2026-07-12/
CATEGORIES:Mistura
ATTACH;FMTTYPE=image/jpeg:https://northparktheatre.org/wp-content/uploads/poster-mistura.jpg
END:VEVENT
BEGIN:VEVENT
DTSTART;TZID=America/New_York:20260713T163000
DTEND;TZID=America/New_York:20260713T183000
DTSTAMP:20260423T131121
CREATED:20260423T120611Z
LAST-MODIFIED:20260423T120611Z
UID:10014667-1783960200-1783967400@northparktheatre.org
SUMMARY:"Mistura"
DESCRIPTION:A woman’s life unravels after her husband’s betrayal isolates her from elite society. Embracing disregarded communities\, she embarks on a transformative journey\, challenging norms through a daring culinary venture that redefines her life. \n \nScreening May 1-7!\nGet tickets HERE.
URL:https://northparktheatre.org/shows/mistura-2/2026-07-13/
CATEGORIES:Mistura
ATTACH;FMTTYPE=image/jpeg:https://northparktheatre.org/wp-content/uploads/poster-mistura.jpg
END:VEVENT
BEGIN:VEVENT
DTSTART;TZID=America/New_York:20260714T163000
DTEND;TZID=America/New_York:20260714T183000
DTSTAMP:20260423T131121
CREATED:20260423T120611Z
LAST-MODIFIED:20260423T120611Z
UID:10014668-1784046600-1784053800@northparktheatre.org
SUMMARY:"Mistura"
DESCRIPTION:A woman’s life unravels after her husband’s betrayal isolates her from elite society. Embracing disregarded communities\, she embarks on a transformative journey\, challenging norms through a daring culinary venture that redefines her life. \n \nScreening May 1-7!\nGet tickets HERE.
URL:https://northparktheatre.org/shows/mistura-2/2026-07-14/
CATEGORIES:Mistura
ATTACH;FMTTYPE=image/jpeg:https://northparktheatre.org/wp-content/uploads/poster-mistura.jpg
END:VEVENT
BEGIN:VEVENT
DTSTART;TZID=America/New_York:20260715T163000
DTEND;TZID=America/New_York:20260715T183000
DTSTAMP:20260423T131121
CREATED:20260423T120611Z
LAST-MODIFIED:20260423T120611Z
UID:10014669-1784133000-1784140200@northparktheatre.org
SUMMARY:"Mistura"
DESCRIPTION:A woman’s life unravels after her husband’s betrayal isolates her from elite society. Embracing disregarded communities\, she embarks on a transformative journey\, challenging norms through a daring culinary venture that redefines her life. \n \nScreening May 1-7!\nGet tickets HERE.
URL:https://northparktheatre.org/shows/mistura-2/2026-07-15/
CATEGORIES:Mistura
ATTACH;FMTTYPE=image/jpeg:https://northparktheatre.org/wp-content/uploads/poster-mistura.jpg
END:VEVENT
BEGIN:VEVENT
DTSTART;TZID=America/New_York:20260716T163000
DTEND;TZID=America/New_York:20260716T183000
DTSTAMP:20260423T131121
CREATED:20260423T120611Z
LAST-MODIFIED:20260423T120611Z
UID:10014670-1784219400-1784226600@northparktheatre.org
SUMMARY:"Mistura"
DESCRIPTION:A woman’s life unravels after her husband’s betrayal isolates her from elite society. Embracing disregarded communities\, she embarks on a transformative journey\, challenging norms through a daring culinary venture that redefines her life. \n \nScreening May 1-7!\nGet tickets HERE.
URL:https://northparktheatre.org/shows/mistura-2/2026-07-16/
CATEGORIES:Mistura
ATTACH;FMTTYPE=image/jpeg:https://northparktheatre.org/wp-content/uploads/poster-mistura.jpg
END:VEVENT
BEGIN:VEVENT
DTSTART;TZID=America/New_York:20260717T163000
DTEND;TZID=America/New_York:20260717T183000
DTSTAMP:20260423T131121
CREATED:20260423T120611Z
LAST-MODIFIED:20260423T120611Z
UID:10014671-1784305800-1784313000@northparktheatre.org
SUMMARY:"Mistura"
DESCRIPTION:A woman’s life unravels after her husband’s betrayal isolates her from elite society. Embracing disregarded communities\, she embarks on a transformative journey\, challenging norms through a daring culinary venture that redefines her life. \n \nScreening May 1-7!\nGet tickets HERE.
URL:https://northparktheatre.org/shows/mistura-2/2026-07-17/
CATEGORIES:Mistura
ATTACH;FMTTYPE=image/jpeg:https://northparktheatre.org/wp-content/uploads/poster-mistura.jpg
END:VEVENT
BEGIN:VEVENT
DTSTART;TZID=America/New_York:20260718T163000
DTEND;TZID=America/New_York:20260718T183000
DTSTAMP:20260423T131121
CREATED:20260423T120611Z
LAST-MODIFIED:20260423T120611Z
UID:10014672-1784392200-1784399400@northparktheatre.org
SUMMARY:"Mistura"
DESCRIPTION:A woman’s life unravels after her husband’s betrayal isolates her from elite society. Embracing disregarded communities\, she embarks on a transformative journey\, challenging norms through a daring culinary venture that redefines her life. \n \nScreening May 1-7!\nGet tickets HERE.
URL:https://northparktheatre.org/shows/mistura-2/2026-07-18/
CATEGORIES:Mistura
ATTACH;FMTTYPE=image/jpeg:https://northparktheatre.org/wp-content/uploads/poster-mistura.jpg
END:VEVENT
BEGIN:VEVENT
DTSTART;TZID=America/New_York:20260719T163000
DTEND;TZID=America/New_York:20260719T183000
DTSTAMP:20260423T131121
CREATED:20260423T120611Z
LAST-MODIFIED:20260423T120611Z
UID:10014673-1784478600-1784485800@northparktheatre.org
SUMMARY:"Mistura"
DESCRIPTION:A woman’s life unravels after her husband’s betrayal isolates her from elite society. Embracing disregarded communities\, she embarks on a transformative journey\, challenging norms through a daring culinary venture that redefines her life. \n \nScreening May 1-7!\nGet tickets HERE.
URL:https://northparktheatre.org/shows/mistura-2/2026-07-19/
CATEGORIES:Mistura
ATTACH;FMTTYPE=image/jpeg:https://northparktheatre.org/wp-content/uploads/poster-mistura.jpg
END:VEVENT
BEGIN:VEVENT
DTSTART;TZID=America/New_York:20260720T163000
DTEND;TZID=America/New_York:20260720T183000
DTSTAMP:20260423T131121
CREATED:20260423T120611Z
LAST-MODIFIED:20260423T120611Z
UID:10014674-1784565000-1784572200@northparktheatre.org
SUMMARY:"Mistura"
DESCRIPTION:A woman’s life unravels after her husband’s betrayal isolates her from elite society. Embracing disregarded communities\, she embarks on a transformative journey\, challenging norms through a daring culinary venture that redefines her life. \n \nScreening May 1-7!\nGet tickets HERE.
URL:https://northparktheatre.org/shows/mistura-2/2026-07-20/
CATEGORIES:Mistura
ATTACH;FMTTYPE=image/jpeg:https://northparktheatre.org/wp-content/uploads/poster-mistura.jpg
END:VEVENT
BEGIN:VEVENT
DTSTART;TZID=America/New_York:20260721T163000
DTEND;TZID=America/New_York:20260721T183000
DTSTAMP:20260423T131121
CREATED:20260423T120611Z
LAST-MODIFIED:20260423T120611Z
UID:10014675-1784651400-1784658600@northparktheatre.org
SUMMARY:"Mistura"
DESCRIPTION:A woman’s life unravels after her husband’s betrayal isolates her from elite society. Embracing disregarded communities\, she embarks on a transformative journey\, challenging norms through a daring culinary venture that redefines her life. \n \nScreening May 1-7!\nGet tickets HERE.
URL:https://northparktheatre.org/shows/mistura-2/2026-07-21/
CATEGORIES:Mistura
ATTACH;FMTTYPE=image/jpeg:https://northparktheatre.org/wp-content/uploads/poster-mistura.jpg
END:VEVENT
BEGIN:VEVENT
DTSTART;TZID=America/New_York:20260722T163000
DTEND;TZID=America/New_York:20260722T183000
DTSTAMP:20260423T131121
CREATED:20260423T120611Z
LAST-MODIFIED:20260423T120611Z
UID:10014676-1784737800-1784745000@northparktheatre.org
SUMMARY:"Mistura"
DESCRIPTION:A woman’s life unravels after her husband’s betrayal isolates her from elite society. Embracing disregarded communities\, she embarks on a transformative journey\, challenging norms through a daring culinary venture that redefines her life. \n \nScreening May 1-7!\nGet tickets HERE.
URL:https://northparktheatre.org/shows/mistura-2/2026-07-22/
CATEGORIES:Mistura
ATTACH;FMTTYPE=image/jpeg:https://northparktheatre.org/wp-content/uploads/poster-mistura.jpg
END:VEVENT
BEGIN:VEVENT
DTSTART;TZID=America/New_York:20260723T163000
DTEND;TZID=America/New_York:20260723T183000
DTSTAMP:20260423T131121
CREATED:20260423T120611Z
LAST-MODIFIED:20260423T120611Z
UID:10014677-1784824200-1784831400@northparktheatre.org
SUMMARY:"Mistura"
DESCRIPTION:A woman’s life unravels after her husband’s betrayal isolates her from elite society. Embracing disregarded communities\, she embarks on a transformative journey\, challenging norms through a daring culinary venture that redefines her life. \n \nScreening May 1-7!\nGet tickets HERE.
URL:https://northparktheatre.org/shows/mistura-2/2026-07-23/
CATEGORIES:Mistura
ATTACH;FMTTYPE=image/jpeg:https://northparktheatre.org/wp-content/uploads/poster-mistura.jpg
END:VEVENT
BEGIN:VEVENT
DTSTART;TZID=America/New_York:20260724T163000
DTEND;TZID=America/New_York:20260724T183000
DTSTAMP:20260423T131121
CREATED:20260423T120611Z
LAST-MODIFIED:20260423T120611Z
UID:10014678-1784910600-1784917800@northparktheatre.org
SUMMARY:"Mistura"
DESCRIPTION:A woman’s life unravels after her husband’s betrayal isolates her from elite society. Embracing disregarded communities\, she embarks on a transformative journey\, challenging norms through a daring culinary venture that redefines her life. \n \nScreening May 1-7!\nGet tickets HERE.
URL:https://northparktheatre.org/shows/mistura-2/2026-07-24/
CATEGORIES:Mistura
ATTACH;FMTTYPE=image/jpeg:https://northparktheatre.org/wp-content/uploads/poster-mistura.jpg
END:VEVENT
BEGIN:VEVENT
DTSTART;TZID=America/New_York:20260725T163000
DTEND;TZID=America/New_York:20260725T183000
DTSTAMP:20260423T131121
CREATED:20260423T120611Z
LAST-MODIFIED:20260423T120611Z
UID:10014679-1784997000-1785004200@northparktheatre.org
SUMMARY:"Mistura"
DESCRIPTION:A woman’s life unravels after her husband’s betrayal isolates her from elite society. Embracing disregarded communities\, she embarks on a transformative journey\, challenging norms through a daring culinary venture that redefines her life. \n \nScreening May 1-7!\nGet tickets HERE.
URL:https://northparktheatre.org/shows/mistura-2/2026-07-25/
CATEGORIES:Mistura
ATTACH;FMTTYPE=image/jpeg:https://northparktheatre.org/wp-content/uploads/poster-mistura.jpg
END:VEVENT
BEGIN:VEVENT
DTSTART;TZID=America/New_York:20260726T163000
DTEND;TZID=America/New_York:20260726T183000
DTSTAMP:20260423T131121
CREATED:20260423T120611Z
LAST-MODIFIED:20260423T120611Z
UID:10014680-1785083400-1785090600@northparktheatre.org
SUMMARY:"Mistura"
DESCRIPTION:A woman’s life unravels after her husband’s betrayal isolates her from elite society. Embracing disregarded communities\, she embarks on a transformative journey\, challenging norms through a daring culinary venture that redefines her life. \n \nScreening May 1-7!\nGet tickets HERE.
URL:https://northparktheatre.org/shows/mistura-2/2026-07-26/
CATEGORIES:Mistura
ATTACH;FMTTYPE=image/jpeg:https://northparktheatre.org/wp-content/uploads/poster-mistura.jpg
END:VEVENT
BEGIN:VEVENT
DTSTART;TZID=America/New_York:20260727T163000
DTEND;TZID=America/New_York:20260727T183000
DTSTAMP:20260423T131121
CREATED:20260423T120611Z
LAST-MODIFIED:20260423T120611Z
UID:10014681-1785169800-1785177000@northparktheatre.org
SUMMARY:"Mistura"
DESCRIPTION:A woman’s life unravels after her husband’s betrayal isolates her from elite society. Embracing disregarded communities\, she embarks on a transformative journey\, challenging norms through a daring culinary venture that redefines her life. \n \nScreening May 1-7!\nGet tickets HERE.
URL:https://northparktheatre.org/shows/mistura-2/2026-07-27/
CATEGORIES:Mistura
ATTACH;FMTTYPE=image/jpeg:https://northparktheatre.org/wp-content/uploads/poster-mistura.jpg
END:VEVENT
BEGIN:VEVENT
DTSTART;TZID=America/New_York:20260728T163000
DTEND;TZID=America/New_York:20260728T183000
DTSTAMP:20260423T131121
CREATED:20260423T120611Z
LAST-MODIFIED:20260423T120611Z
UID:10014682-1785256200-1785263400@northparktheatre.org
SUMMARY:"Mistura"
DESCRIPTION:A woman’s life unravels after her husband’s betrayal isolates her from elite society. Embracing disregarded communities\, she embarks on a transformative journey\, challenging norms through a daring culinary venture that redefines her life. \n \nScreening May 1-7!\nGet tickets HERE.
URL:https://northparktheatre.org/shows/mistura-2/2026-07-28/
CATEGORIES:Mistura
ATTACH;FMTTYPE=image/jpeg:https://northparktheatre.org/wp-content/uploads/poster-mistura.jpg
END:VEVENT
BEGIN:VEVENT
DTSTART;TZID=America/New_York:20260729T163000
DTEND;TZID=America/New_York:20260729T183000
DTSTAMP:20260423T131121
CREATED:20260423T120611Z
LAST-MODIFIED:20260423T120611Z
UID:10014683-1785342600-1785349800@northparktheatre.org
SUMMARY:"Mistura"
DESCRIPTION:A woman’s life unravels after her husband’s betrayal isolates her from elite society. Embracing disregarded communities\, she embarks on a transformative journey\, challenging norms through a daring culinary venture that redefines her life. \n \nScreening May 1-7!\nGet tickets HERE.
URL:https://northparktheatre.org/shows/mistura-2/2026-07-29/
CATEGORIES:Mistura
ATTACH;FMTTYPE=image/jpeg:https://northparktheatre.org/wp-content/uploads/poster-mistura.jpg
END:VEVENT
BEGIN:VEVENT
DTSTART;TZID=America/New_York:20260730T163000
DTEND;TZID=America/New_York:20260730T183000
DTSTAMP:20260423T131121
CREATED:20260423T120611Z
LAST-MODIFIED:20260423T120611Z
UID:10014684-1785429000-1785436200@northparktheatre.org
SUMMARY:"Mistura"
DESCRIPTION:A woman’s life unravels after her husband’s betrayal isolates her from elite society. Embracing disregarded communities\, she embarks on a transformative journey\, challenging norms through a daring culinary venture that redefines her life. \n \nScreening May 1-7!\nGet tickets HERE.
URL:https://northparktheatre.org/shows/mistura-2/2026-07-30/
CATEGORIES:Mistura
ATTACH;FMTTYPE=image/jpeg:https://northparktheatre.org/wp-content/uploads/poster-mistura.jpg
END:VEVENT
END:VCALENDAR