BEGIN:VCALENDAR
VERSION:2.0
PRODID:-//North Park Theatre - ECPv6.15.20//NONSGML v1.0//EN
CALSCALE:GREGORIAN
METHOD:PUBLISH
X-WR-CALNAME:North Park Theatre
X-ORIGINAL-URL:https://northparktheatre.org
X-WR-CALDESC:Events for North Park Theatre
REFRESH-INTERVAL;VALUE=DURATION:PT1H
X-Robots-Tag:noindex
X-PUBLISHED-TTL:PT1H
BEGIN:VTIMEZONE
TZID:America/New_York
BEGIN:DAYLIGHT
TZOFFSETFROM:-0500
TZOFFSETTO:-0400
TZNAME:EDT
DTSTART:20250309T070000
END:DAYLIGHT
BEGIN:STANDARD
TZOFFSETFROM:-0400
TZOFFSETTO:-0500
TZNAME:EST
DTSTART:20251102T060000
END:STANDARD
BEGIN:DAYLIGHT
TZOFFSETFROM:-0500
TZOFFSETTO:-0400
TZNAME:EDT
DTSTART:20260308T070000
END:DAYLIGHT
BEGIN:STANDARD
TZOFFSETFROM:-0400
TZOFFSETTO:-0500
TZNAME:EST
DTSTART:20261101T060000
END:STANDARD
BEGIN:DAYLIGHT
TZOFFSETFROM:-0500
TZOFFSETTO:-0400
TZNAME:EDT
DTSTART:20270314T070000
END:DAYLIGHT
BEGIN:STANDARD
TZOFFSETFROM:-0400
TZOFFSETTO:-0500
TZNAME:EST
DTSTART:20271107T060000
END:STANDARD
END:VTIMEZONE
BEGIN:VEVENT
DTSTART;TZID=America/New_York:20260501T140000
DTEND;TZID=America/New_York:20260501T160000
DTSTAMP:20260423T104309
CREATED:20260423T120521Z
LAST-MODIFIED:20260423T120521Z
UID:10014587-1777644000-1777651200@northparktheatre.org
SUMMARY:"Mistura"
DESCRIPTION:A woman’s life unravels after her husband’s betrayal isolates her from elite society. Embracing disregarded communities\, she embarks on a transformative journey\, challenging norms through a daring culinary venture that redefines her life. \n \nScreening May 1-7!\nGet tickets HERE.
URL:https://northparktheatre.org/shows/mistura/2026-05-01/
CATEGORIES:Mistura
ATTACH;FMTTYPE=image/jpeg:https://northparktheatre.org/wp-content/uploads/poster-mistura.jpg
END:VEVENT
BEGIN:VEVENT
DTSTART;TZID=America/New_York:20260501T163000
DTEND;TZID=America/New_York:20260501T183000
DTSTAMP:20260423T104309
CREATED:20260423T120611Z
LAST-MODIFIED:20260423T120611Z
UID:10014594-1777653000-1777660200@northparktheatre.org
SUMMARY:"Mistura"
DESCRIPTION:A woman’s life unravels after her husband’s betrayal isolates her from elite society. Embracing disregarded communities\, she embarks on a transformative journey\, challenging norms through a daring culinary venture that redefines her life. \n \nScreening May 1-7!\nGet tickets HERE.
URL:https://northparktheatre.org/shows/mistura-2/2026-05-01/
CATEGORIES:Mistura
ATTACH;FMTTYPE=image/jpeg:https://northparktheatre.org/wp-content/uploads/poster-mistura.jpg
END:VEVENT
BEGIN:VEVENT
DTSTART;TZID=America/New_York:20260501T185000
DTEND;TZID=America/New_York:20260501T203000
DTSTAMP:20260423T104309
CREATED:20260423T122046Z
LAST-MODIFIED:20260423T122112Z
UID:10014965-1777661400-1777667400@northparktheatre.org
SUMMARY:"The Lord of the Rings" (1978) - Dir. Ralph Bakshi
DESCRIPTION:“Brave and ambitious…it inspired me to read the book.”\n– Peter Jackson \nFrom director Ralph Bakshi (Fire and Ice\, Wizards) comes an ambitious animated version of the classic Tolkien tale about the Fellowship of the Ring embarking on a journey to destroy the One Ring and end the evil Sauron’s reign over Middle Earth. \nPosters at the stand. \n \nScreening May 1 – 7!\nGet tickets HERE.
URL:https://northparktheatre.org/shows/the-lord-of-the-rings-1978-dir-ralph-bakshi/2026-05-01/
CATEGORIES:The Lord of the Rings
ATTACH;FMTTYPE=image/jpeg:https://northparktheatre.org/wp-content/uploads/poster-lot.jpg
END:VEVENT
BEGIN:VEVENT
DTSTART;TZID=America/New_York:20260502T140000
DTEND;TZID=America/New_York:20260502T160000
DTSTAMP:20260423T104309
CREATED:20260423T120521Z
LAST-MODIFIED:20260423T120521Z
UID:10014588-1777730400-1777737600@northparktheatre.org
SUMMARY:"Mistura"
DESCRIPTION:A woman’s life unravels after her husband’s betrayal isolates her from elite society. Embracing disregarded communities\, she embarks on a transformative journey\, challenging norms through a daring culinary venture that redefines her life. \n \nScreening May 1-7!\nGet tickets HERE.
URL:https://northparktheatre.org/shows/mistura/2026-05-02/
CATEGORIES:Mistura
ATTACH;FMTTYPE=image/jpeg:https://northparktheatre.org/wp-content/uploads/poster-mistura.jpg
END:VEVENT
BEGIN:VEVENT
DTSTART;TZID=America/New_York:20260502T163000
DTEND;TZID=America/New_York:20260502T183000
DTSTAMP:20260423T104309
CREATED:20260423T120611Z
LAST-MODIFIED:20260423T120611Z
UID:10014595-1777739400-1777746600@northparktheatre.org
SUMMARY:"Mistura"
DESCRIPTION:A woman’s life unravels after her husband’s betrayal isolates her from elite society. Embracing disregarded communities\, she embarks on a transformative journey\, challenging norms through a daring culinary venture that redefines her life. \n \nScreening May 1-7!\nGet tickets HERE.
URL:https://northparktheatre.org/shows/mistura-2/2026-05-02/
CATEGORIES:Mistura
ATTACH;FMTTYPE=image/jpeg:https://northparktheatre.org/wp-content/uploads/poster-mistura.jpg
END:VEVENT
BEGIN:VEVENT
DTSTART;TZID=America/New_York:20260502T185000
DTEND;TZID=America/New_York:20260502T203000
DTSTAMP:20260423T104309
CREATED:20260423T122046Z
LAST-MODIFIED:20260423T122112Z
UID:10014966-1777747800-1777753800@northparktheatre.org
SUMMARY:"The Lord of the Rings" (1978) - Dir. Ralph Bakshi
DESCRIPTION:“Brave and ambitious…it inspired me to read the book.”\n– Peter Jackson \nFrom director Ralph Bakshi (Fire and Ice\, Wizards) comes an ambitious animated version of the classic Tolkien tale about the Fellowship of the Ring embarking on a journey to destroy the One Ring and end the evil Sauron’s reign over Middle Earth. \nPosters at the stand. \n \nScreening May 1 – 7!\nGet tickets HERE.
URL:https://northparktheatre.org/shows/the-lord-of-the-rings-1978-dir-ralph-bakshi/2026-05-02/
CATEGORIES:The Lord of the Rings
ATTACH;FMTTYPE=image/jpeg:https://northparktheatre.org/wp-content/uploads/poster-lot.jpg
END:VEVENT
BEGIN:VEVENT
DTSTART;TZID=America/New_York:20260503T140000
DTEND;TZID=America/New_York:20260503T160000
DTSTAMP:20260423T104309
CREATED:20260423T120521Z
LAST-MODIFIED:20260423T120521Z
UID:10014589-1777816800-1777824000@northparktheatre.org
SUMMARY:"Mistura"
DESCRIPTION:A woman’s life unravels after her husband’s betrayal isolates her from elite society. Embracing disregarded communities\, she embarks on a transformative journey\, challenging norms through a daring culinary venture that redefines her life. \n \nScreening May 1-7!\nGet tickets HERE.
URL:https://northparktheatre.org/shows/mistura/2026-05-03/
CATEGORIES:Mistura
ATTACH;FMTTYPE=image/jpeg:https://northparktheatre.org/wp-content/uploads/poster-mistura.jpg
END:VEVENT
BEGIN:VEVENT
DTSTART;TZID=America/New_York:20260503T163000
DTEND;TZID=America/New_York:20260503T183000
DTSTAMP:20260423T104309
CREATED:20260423T120611Z
LAST-MODIFIED:20260423T120611Z
UID:10014596-1777825800-1777833000@northparktheatre.org
SUMMARY:"Mistura"
DESCRIPTION:A woman’s life unravels after her husband’s betrayal isolates her from elite society. Embracing disregarded communities\, she embarks on a transformative journey\, challenging norms through a daring culinary venture that redefines her life. \n \nScreening May 1-7!\nGet tickets HERE.
URL:https://northparktheatre.org/shows/mistura-2/2026-05-03/
CATEGORIES:Mistura
ATTACH;FMTTYPE=image/jpeg:https://northparktheatre.org/wp-content/uploads/poster-mistura.jpg
END:VEVENT
BEGIN:VEVENT
DTSTART;TZID=America/New_York:20260503T185000
DTEND;TZID=America/New_York:20260503T203000
DTSTAMP:20260423T104309
CREATED:20260423T122046Z
LAST-MODIFIED:20260423T122112Z
UID:10014967-1777834200-1777840200@northparktheatre.org
SUMMARY:"The Lord of the Rings" (1978) - Dir. Ralph Bakshi
DESCRIPTION:“Brave and ambitious…it inspired me to read the book.”\n– Peter Jackson \nFrom director Ralph Bakshi (Fire and Ice\, Wizards) comes an ambitious animated version of the classic Tolkien tale about the Fellowship of the Ring embarking on a journey to destroy the One Ring and end the evil Sauron’s reign over Middle Earth. \nPosters at the stand. \n \nScreening May 1 – 7!\nGet tickets HERE.
URL:https://northparktheatre.org/shows/the-lord-of-the-rings-1978-dir-ralph-bakshi/2026-05-03/
CATEGORIES:The Lord of the Rings
ATTACH;FMTTYPE=image/jpeg:https://northparktheatre.org/wp-content/uploads/poster-lot.jpg
END:VEVENT
BEGIN:VEVENT
DTSTART;TZID=America/New_York:20260504T140000
DTEND;TZID=America/New_York:20260504T160000
DTSTAMP:20260423T104309
CREATED:20260423T120521Z
LAST-MODIFIED:20260423T120521Z
UID:10014590-1777903200-1777910400@northparktheatre.org
SUMMARY:"Mistura"
DESCRIPTION:A woman’s life unravels after her husband’s betrayal isolates her from elite society. Embracing disregarded communities\, she embarks on a transformative journey\, challenging norms through a daring culinary venture that redefines her life. \n \nScreening May 1-7!\nGet tickets HERE.
URL:https://northparktheatre.org/shows/mistura/2026-05-04/
CATEGORIES:Mistura
ATTACH;FMTTYPE=image/jpeg:https://northparktheatre.org/wp-content/uploads/poster-mistura.jpg
END:VEVENT
BEGIN:VEVENT
DTSTART;TZID=America/New_York:20260504T163000
DTEND;TZID=America/New_York:20260504T183000
DTSTAMP:20260423T104309
CREATED:20260423T120611Z
LAST-MODIFIED:20260423T120611Z
UID:10014597-1777912200-1777919400@northparktheatre.org
SUMMARY:"Mistura"
DESCRIPTION:A woman’s life unravels after her husband’s betrayal isolates her from elite society. Embracing disregarded communities\, she embarks on a transformative journey\, challenging norms through a daring culinary venture that redefines her life. \n \nScreening May 1-7!\nGet tickets HERE.
URL:https://northparktheatre.org/shows/mistura-2/2026-05-04/
CATEGORIES:Mistura
ATTACH;FMTTYPE=image/jpeg:https://northparktheatre.org/wp-content/uploads/poster-mistura.jpg
END:VEVENT
BEGIN:VEVENT
DTSTART;TZID=America/New_York:20260504T185000
DTEND;TZID=America/New_York:20260504T203000
DTSTAMP:20260423T104309
CREATED:20260423T122046Z
LAST-MODIFIED:20260423T122112Z
UID:10014968-1777920600-1777926600@northparktheatre.org
SUMMARY:"The Lord of the Rings" (1978) - Dir. Ralph Bakshi
DESCRIPTION:“Brave and ambitious…it inspired me to read the book.”\n– Peter Jackson \nFrom director Ralph Bakshi (Fire and Ice\, Wizards) comes an ambitious animated version of the classic Tolkien tale about the Fellowship of the Ring embarking on a journey to destroy the One Ring and end the evil Sauron’s reign over Middle Earth. \nPosters at the stand. \n \nScreening May 1 – 7!\nGet tickets HERE.
URL:https://northparktheatre.org/shows/the-lord-of-the-rings-1978-dir-ralph-bakshi/2026-05-04/
CATEGORIES:The Lord of the Rings
ATTACH;FMTTYPE=image/jpeg:https://northparktheatre.org/wp-content/uploads/poster-lot.jpg
END:VEVENT
BEGIN:VEVENT
DTSTART;TZID=America/New_York:20260505T140000
DTEND;TZID=America/New_York:20260505T160000
DTSTAMP:20260423T104309
CREATED:20260423T120521Z
LAST-MODIFIED:20260423T120521Z
UID:10014591-1777989600-1777996800@northparktheatre.org
SUMMARY:"Mistura"
DESCRIPTION:A woman’s life unravels after her husband’s betrayal isolates her from elite society. Embracing disregarded communities\, she embarks on a transformative journey\, challenging norms through a daring culinary venture that redefines her life. \n \nScreening May 1-7!\nGet tickets HERE.
URL:https://northparktheatre.org/shows/mistura/2026-05-05/
CATEGORIES:Mistura
ATTACH;FMTTYPE=image/jpeg:https://northparktheatre.org/wp-content/uploads/poster-mistura.jpg
END:VEVENT
BEGIN:VEVENT
DTSTART;TZID=America/New_York:20260505T163000
DTEND;TZID=America/New_York:20260505T183000
DTSTAMP:20260423T104309
CREATED:20260423T120611Z
LAST-MODIFIED:20260423T120611Z
UID:10014598-1777998600-1778005800@northparktheatre.org
SUMMARY:"Mistura"
DESCRIPTION:A woman’s life unravels after her husband’s betrayal isolates her from elite society. Embracing disregarded communities\, she embarks on a transformative journey\, challenging norms through a daring culinary venture that redefines her life. \n \nScreening May 1-7!\nGet tickets HERE.
URL:https://northparktheatre.org/shows/mistura-2/2026-05-05/
CATEGORIES:Mistura
ATTACH;FMTTYPE=image/jpeg:https://northparktheatre.org/wp-content/uploads/poster-mistura.jpg
END:VEVENT
BEGIN:VEVENT
DTSTART;TZID=America/New_York:20260505T185000
DTEND;TZID=America/New_York:20260505T203000
DTSTAMP:20260423T104309
CREATED:20260423T122046Z
LAST-MODIFIED:20260423T122112Z
UID:10014969-1778007000-1778013000@northparktheatre.org
SUMMARY:"The Lord of the Rings" (1978) - Dir. Ralph Bakshi
DESCRIPTION:“Brave and ambitious…it inspired me to read the book.”\n– Peter Jackson \nFrom director Ralph Bakshi (Fire and Ice\, Wizards) comes an ambitious animated version of the classic Tolkien tale about the Fellowship of the Ring embarking on a journey to destroy the One Ring and end the evil Sauron’s reign over Middle Earth. \nPosters at the stand. \n \nScreening May 1 – 7!\nGet tickets HERE.
URL:https://northparktheatre.org/shows/the-lord-of-the-rings-1978-dir-ralph-bakshi/2026-05-05/
CATEGORIES:The Lord of the Rings
ATTACH;FMTTYPE=image/jpeg:https://northparktheatre.org/wp-content/uploads/poster-lot.jpg
END:VEVENT
BEGIN:VEVENT
DTSTART;TZID=America/New_York:20260506T140000
DTEND;TZID=America/New_York:20260506T160000
DTSTAMP:20260423T104309
CREATED:20260423T120521Z
LAST-MODIFIED:20260423T120521Z
UID:10014592-1778076000-1778083200@northparktheatre.org
SUMMARY:"Mistura"
DESCRIPTION:A woman’s life unravels after her husband’s betrayal isolates her from elite society. Embracing disregarded communities\, she embarks on a transformative journey\, challenging norms through a daring culinary venture that redefines her life. \n \nScreening May 1-7!\nGet tickets HERE.
URL:https://northparktheatre.org/shows/mistura/2026-05-06/
CATEGORIES:Mistura
ATTACH;FMTTYPE=image/jpeg:https://northparktheatre.org/wp-content/uploads/poster-mistura.jpg
END:VEVENT
BEGIN:VEVENT
DTSTART;TZID=America/New_York:20260506T163000
DTEND;TZID=America/New_York:20260506T183000
DTSTAMP:20260423T104309
CREATED:20260423T120611Z
LAST-MODIFIED:20260423T120611Z
UID:10014599-1778085000-1778092200@northparktheatre.org
SUMMARY:"Mistura"
DESCRIPTION:A woman’s life unravels after her husband’s betrayal isolates her from elite society. Embracing disregarded communities\, she embarks on a transformative journey\, challenging norms through a daring culinary venture that redefines her life. \n \nScreening May 1-7!\nGet tickets HERE.
URL:https://northparktheatre.org/shows/mistura-2/2026-05-06/
CATEGORIES:Mistura
ATTACH;FMTTYPE=image/jpeg:https://northparktheatre.org/wp-content/uploads/poster-mistura.jpg
END:VEVENT
BEGIN:VEVENT
DTSTART;TZID=America/New_York:20260506T185000
DTEND;TZID=America/New_York:20260506T203000
DTSTAMP:20260423T104309
CREATED:20260423T122046Z
LAST-MODIFIED:20260423T122112Z
UID:10014970-1778093400-1778099400@northparktheatre.org
SUMMARY:"The Lord of the Rings" (1978) - Dir. Ralph Bakshi
DESCRIPTION:“Brave and ambitious…it inspired me to read the book.”\n– Peter Jackson \nFrom director Ralph Bakshi (Fire and Ice\, Wizards) comes an ambitious animated version of the classic Tolkien tale about the Fellowship of the Ring embarking on a journey to destroy the One Ring and end the evil Sauron’s reign over Middle Earth. \nPosters at the stand. \n \nScreening May 1 – 7!\nGet tickets HERE.
URL:https://northparktheatre.org/shows/the-lord-of-the-rings-1978-dir-ralph-bakshi/2026-05-06/
CATEGORIES:The Lord of the Rings
ATTACH;FMTTYPE=image/jpeg:https://northparktheatre.org/wp-content/uploads/poster-lot.jpg
END:VEVENT
BEGIN:VEVENT
DTSTART;TZID=America/New_York:20260507T140000
DTEND;TZID=America/New_York:20260507T160000
DTSTAMP:20260423T104309
CREATED:20260423T120521Z
LAST-MODIFIED:20260423T120521Z
UID:10014593-1778162400-1778169600@northparktheatre.org
SUMMARY:"Mistura"
DESCRIPTION:A woman’s life unravels after her husband’s betrayal isolates her from elite society. Embracing disregarded communities\, she embarks on a transformative journey\, challenging norms through a daring culinary venture that redefines her life. \n \nScreening May 1-7!\nGet tickets HERE.
URL:https://northparktheatre.org/shows/mistura/2026-05-07/
CATEGORIES:Mistura
ATTACH;FMTTYPE=image/jpeg:https://northparktheatre.org/wp-content/uploads/poster-mistura.jpg
END:VEVENT
BEGIN:VEVENT
DTSTART;TZID=America/New_York:20260507T163000
DTEND;TZID=America/New_York:20260507T183000
DTSTAMP:20260423T104309
CREATED:20260423T120611Z
LAST-MODIFIED:20260423T120611Z
UID:10014600-1778171400-1778178600@northparktheatre.org
SUMMARY:"Mistura"
DESCRIPTION:A woman’s life unravels after her husband’s betrayal isolates her from elite society. Embracing disregarded communities\, she embarks on a transformative journey\, challenging norms through a daring culinary venture that redefines her life. \n \nScreening May 1-7!\nGet tickets HERE.
URL:https://northparktheatre.org/shows/mistura-2/2026-05-07/
CATEGORIES:Mistura
ATTACH;FMTTYPE=image/jpeg:https://northparktheatre.org/wp-content/uploads/poster-mistura.jpg
END:VEVENT
BEGIN:VEVENT
DTSTART;TZID=America/New_York:20260507T185000
DTEND;TZID=America/New_York:20260507T203000
DTSTAMP:20260423T104309
CREATED:20260423T122046Z
LAST-MODIFIED:20260423T122112Z
UID:10014971-1778179800-1778185800@northparktheatre.org
SUMMARY:"The Lord of the Rings" (1978) - Dir. Ralph Bakshi
DESCRIPTION:“Brave and ambitious…it inspired me to read the book.”\n– Peter Jackson \nFrom director Ralph Bakshi (Fire and Ice\, Wizards) comes an ambitious animated version of the classic Tolkien tale about the Fellowship of the Ring embarking on a journey to destroy the One Ring and end the evil Sauron’s reign over Middle Earth. \nPosters at the stand. \n \nScreening May 1 – 7!\nGet tickets HERE.
URL:https://northparktheatre.org/shows/the-lord-of-the-rings-1978-dir-ralph-bakshi/2026-05-07/
CATEGORIES:The Lord of the Rings
ATTACH;FMTTYPE=image/jpeg:https://northparktheatre.org/wp-content/uploads/poster-lot.jpg
END:VEVENT
BEGIN:VEVENT
DTSTART;TZID=America/New_York:20260508T163000
DTEND;TZID=America/New_York:20260508T183000
DTSTAMP:20260423T104309
CREATED:20260423T120611Z
LAST-MODIFIED:20260423T120611Z
UID:10014601-1778257800-1778265000@northparktheatre.org
SUMMARY:"Mistura"
DESCRIPTION:A woman’s life unravels after her husband’s betrayal isolates her from elite society. Embracing disregarded communities\, she embarks on a transformative journey\, challenging norms through a daring culinary venture that redefines her life. \n \nScreening May 1-7!\nGet tickets HERE.
URL:https://northparktheatre.org/shows/mistura-2/2026-05-08/
CATEGORIES:Mistura
ATTACH;FMTTYPE=image/jpeg:https://northparktheatre.org/wp-content/uploads/poster-mistura.jpg
END:VEVENT
BEGIN:VEVENT
DTSTART;TZID=America/New_York:20260509T163000
DTEND;TZID=America/New_York:20260509T183000
DTSTAMP:20260423T104309
CREATED:20260423T120611Z
LAST-MODIFIED:20260423T120611Z
UID:10014602-1778344200-1778351400@northparktheatre.org
SUMMARY:"Mistura"
DESCRIPTION:A woman’s life unravels after her husband’s betrayal isolates her from elite society. Embracing disregarded communities\, she embarks on a transformative journey\, challenging norms through a daring culinary venture that redefines her life. \n \nScreening May 1-7!\nGet tickets HERE.
URL:https://northparktheatre.org/shows/mistura-2/2026-05-09/
CATEGORIES:Mistura
ATTACH;FMTTYPE=image/jpeg:https://northparktheatre.org/wp-content/uploads/poster-mistura.jpg
END:VEVENT
BEGIN:VEVENT
DTSTART;TZID=America/New_York:20260510T163000
DTEND;TZID=America/New_York:20260510T183000
DTSTAMP:20260423T104309
CREATED:20260423T120611Z
LAST-MODIFIED:20260423T120611Z
UID:10014603-1778430600-1778437800@northparktheatre.org
SUMMARY:"Mistura"
DESCRIPTION:A woman’s life unravels after her husband’s betrayal isolates her from elite society. Embracing disregarded communities\, she embarks on a transformative journey\, challenging norms through a daring culinary venture that redefines her life. \n \nScreening May 1-7!\nGet tickets HERE.
URL:https://northparktheatre.org/shows/mistura-2/2026-05-10/
CATEGORIES:Mistura
ATTACH;FMTTYPE=image/jpeg:https://northparktheatre.org/wp-content/uploads/poster-mistura.jpg
END:VEVENT
BEGIN:VEVENT
DTSTART;TZID=America/New_York:20260511T163000
DTEND;TZID=America/New_York:20260511T183000
DTSTAMP:20260423T104309
CREATED:20260423T120611Z
LAST-MODIFIED:20260423T120611Z
UID:10014604-1778517000-1778524200@northparktheatre.org
SUMMARY:"Mistura"
DESCRIPTION:A woman’s life unravels after her husband’s betrayal isolates her from elite society. Embracing disregarded communities\, she embarks on a transformative journey\, challenging norms through a daring culinary venture that redefines her life. \n \nScreening May 1-7!\nGet tickets HERE.
URL:https://northparktheatre.org/shows/mistura-2/2026-05-11/
CATEGORIES:Mistura
ATTACH;FMTTYPE=image/jpeg:https://northparktheatre.org/wp-content/uploads/poster-mistura.jpg
END:VEVENT
BEGIN:VEVENT
DTSTART;TZID=America/New_York:20260512T163000
DTEND;TZID=America/New_York:20260512T183000
DTSTAMP:20260423T104309
CREATED:20260423T120611Z
LAST-MODIFIED:20260423T120611Z
UID:10014605-1778603400-1778610600@northparktheatre.org
SUMMARY:"Mistura"
DESCRIPTION:A woman’s life unravels after her husband’s betrayal isolates her from elite society. Embracing disregarded communities\, she embarks on a transformative journey\, challenging norms through a daring culinary venture that redefines her life. \n \nScreening May 1-7!\nGet tickets HERE.
URL:https://northparktheatre.org/shows/mistura-2/2026-05-12/
CATEGORIES:Mistura
ATTACH;FMTTYPE=image/jpeg:https://northparktheatre.org/wp-content/uploads/poster-mistura.jpg
END:VEVENT
BEGIN:VEVENT
DTSTART;TZID=America/New_York:20260513T163000
DTEND;TZID=America/New_York:20260513T183000
DTSTAMP:20260423T104309
CREATED:20260423T120611Z
LAST-MODIFIED:20260423T120611Z
UID:10014606-1778689800-1778697000@northparktheatre.org
SUMMARY:"Mistura"
DESCRIPTION:A woman’s life unravels after her husband’s betrayal isolates her from elite society. Embracing disregarded communities\, she embarks on a transformative journey\, challenging norms through a daring culinary venture that redefines her life. \n \nScreening May 1-7!\nGet tickets HERE.
URL:https://northparktheatre.org/shows/mistura-2/2026-05-13/
CATEGORIES:Mistura
ATTACH;FMTTYPE=image/jpeg:https://northparktheatre.org/wp-content/uploads/poster-mistura.jpg
END:VEVENT
BEGIN:VEVENT
DTSTART;TZID=America/New_York:20260514T163000
DTEND;TZID=America/New_York:20260514T183000
DTSTAMP:20260423T104309
CREATED:20260423T120611Z
LAST-MODIFIED:20260423T120611Z
UID:10014607-1778776200-1778783400@northparktheatre.org
SUMMARY:"Mistura"
DESCRIPTION:A woman’s life unravels after her husband’s betrayal isolates her from elite society. Embracing disregarded communities\, she embarks on a transformative journey\, challenging norms through a daring culinary venture that redefines her life. \n \nScreening May 1-7!\nGet tickets HERE.
URL:https://northparktheatre.org/shows/mistura-2/2026-05-14/
CATEGORIES:Mistura
ATTACH;FMTTYPE=image/jpeg:https://northparktheatre.org/wp-content/uploads/poster-mistura.jpg
END:VEVENT
BEGIN:VEVENT
DTSTART;TZID=America/New_York:20260515T163000
DTEND;TZID=America/New_York:20260515T183000
DTSTAMP:20260423T104309
CREATED:20260423T120611Z
LAST-MODIFIED:20260423T120611Z
UID:10014608-1778862600-1778869800@northparktheatre.org
SUMMARY:"Mistura"
DESCRIPTION:A woman’s life unravels after her husband’s betrayal isolates her from elite society. Embracing disregarded communities\, she embarks on a transformative journey\, challenging norms through a daring culinary venture that redefines her life. \n \nScreening May 1-7!\nGet tickets HERE.
URL:https://northparktheatre.org/shows/mistura-2/2026-05-15/
CATEGORIES:Mistura
ATTACH;FMTTYPE=image/jpeg:https://northparktheatre.org/wp-content/uploads/poster-mistura.jpg
END:VEVENT
BEGIN:VEVENT
DTSTART;TZID=America/New_York:20260516T163000
DTEND;TZID=America/New_York:20260516T183000
DTSTAMP:20260423T104309
CREATED:20260423T120611Z
LAST-MODIFIED:20260423T120611Z
UID:10014609-1778949000-1778956200@northparktheatre.org
SUMMARY:"Mistura"
DESCRIPTION:A woman’s life unravels after her husband’s betrayal isolates her from elite society. Embracing disregarded communities\, she embarks on a transformative journey\, challenging norms through a daring culinary venture that redefines her life. \n \nScreening May 1-7!\nGet tickets HERE.
URL:https://northparktheatre.org/shows/mistura-2/2026-05-16/
CATEGORIES:Mistura
ATTACH;FMTTYPE=image/jpeg:https://northparktheatre.org/wp-content/uploads/poster-mistura.jpg
END:VEVENT
END:VCALENDAR