BEGIN:VCALENDAR
VERSION:2.0
PRODID:-//North Park Theatre - ECPv6.15.20//NONSGML v1.0//EN
CALSCALE:GREGORIAN
METHOD:PUBLISH
X-WR-CALNAME:North Park Theatre
X-ORIGINAL-URL:https://northparktheatre.org
X-WR-CALDESC:Events for North Park Theatre
REFRESH-INTERVAL;VALUE=DURATION:PT1H
X-Robots-Tag:noindex
X-PUBLISHED-TTL:PT1H
BEGIN:VTIMEZONE
TZID:America/New_York
BEGIN:DAYLIGHT
TZOFFSETFROM:-0500
TZOFFSETTO:-0400
TZNAME:EDT
DTSTART:20240310T070000
END:DAYLIGHT
BEGIN:STANDARD
TZOFFSETFROM:-0400
TZOFFSETTO:-0500
TZNAME:EST
DTSTART:20241103T060000
END:STANDARD
BEGIN:DAYLIGHT
TZOFFSETFROM:-0500
TZOFFSETTO:-0400
TZNAME:EDT
DTSTART:20250309T070000
END:DAYLIGHT
BEGIN:STANDARD
TZOFFSETFROM:-0400
TZOFFSETTO:-0500
TZNAME:EST
DTSTART:20251102T060000
END:STANDARD
BEGIN:DAYLIGHT
TZOFFSETFROM:-0500
TZOFFSETTO:-0400
TZNAME:EDT
DTSTART:20260308T070000
END:DAYLIGHT
BEGIN:STANDARD
TZOFFSETFROM:-0400
TZOFFSETTO:-0500
TZNAME:EST
DTSTART:20261101T060000
END:STANDARD
END:VTIMEZONE
BEGIN:VEVENT
DTSTART;TZID=America/New_York:20250118T114500
DTEND;TZID=America/New_York:20250118T133000
DTSTAMP:20260425T125853
CREATED:20250110T204438Z
LAST-MODIFIED:20250110T204606Z
UID:10006609-1737200700-1737207000@northparktheatre.org
SUMMARY:"The Secret of Nimh"
DESCRIPTION:“Right before your eyes… beyond your wildest dreams!” \nDon’t miss your chance to see master animator Don Bluth’s GROUNDBREAKING first feature film on the BIG SCREEN! \n \n\n \nSAT January 18th at 11:45 AM\nSUN January 19th at 11:45 AM \nReleased in 1982\, NIMH was darker than Disney’s output of the time and more ambitious.\nBluth’s goal was to harness the magic of Disney Animation’s Golden Age to create a new kind of masterpiece for a post-Star Wars generation. \nToday\, many critics consider Bluth’s first effort to be one of the finest animated films of all time. \nWrites The A.V. Club: \n“A spectacular return to old-school craftsmanship….The visuals are splendid. Bluth’s team painted each background with a fantastic wealth of depth\, detail\, texture\, and heft. They gave their characters shadows and reflections\, keyed each scene for different lighting tones and mood-setting color palettes\, and designed vivid lighting effects that literally make the movie sparkle.”
URL:https://northparktheatre.org/shows/the-secret-of-nimh/2025-01-18/
CATEGORIES:Weekend Wonders
ATTACH;FMTTYPE=image/jpeg:https://northparktheatre.org/wp-content/uploads/nimh-poster2.jpg
END:VEVENT
BEGIN:VEVENT
DTSTART;TZID=America/New_York:20250119T114500
DTEND;TZID=America/New_York:20250119T133000
DTSTAMP:20260425T125853
CREATED:20250110T204438Z
LAST-MODIFIED:20250110T204606Z
UID:10006610-1737287100-1737293400@northparktheatre.org
SUMMARY:"The Secret of Nimh"
DESCRIPTION:“Right before your eyes… beyond your wildest dreams!” \nDon’t miss your chance to see master animator Don Bluth’s GROUNDBREAKING first feature film on the BIG SCREEN! \n \n\n \nSAT January 18th at 11:45 AM\nSUN January 19th at 11:45 AM \nReleased in 1982\, NIMH was darker than Disney’s output of the time and more ambitious.\nBluth’s goal was to harness the magic of Disney Animation’s Golden Age to create a new kind of masterpiece for a post-Star Wars generation. \nToday\, many critics consider Bluth’s first effort to be one of the finest animated films of all time. \nWrites The A.V. Club: \n“A spectacular return to old-school craftsmanship….The visuals are splendid. Bluth’s team painted each background with a fantastic wealth of depth\, detail\, texture\, and heft. They gave their characters shadows and reflections\, keyed each scene for different lighting tones and mood-setting color palettes\, and designed vivid lighting effects that literally make the movie sparkle.”
URL:https://northparktheatre.org/shows/the-secret-of-nimh/2025-01-19/
CATEGORIES:Weekend Wonders
ATTACH;FMTTYPE=image/jpeg:https://northparktheatre.org/wp-content/uploads/nimh-poster2.jpg
END:VEVENT
END:VCALENDAR