BEGIN:VCALENDAR
VERSION:2.0
PRODID:-//North Park Theatre - ECPv6.15.20//NONSGML v1.0//EN
CALSCALE:GREGORIAN
METHOD:PUBLISH
X-WR-CALNAME:North Park Theatre
X-ORIGINAL-URL:https://northparktheatre.org
X-WR-CALDESC:Events for North Park Theatre
REFRESH-INTERVAL;VALUE=DURATION:PT1H
X-Robots-Tag:noindex
X-PUBLISHED-TTL:PT1H
BEGIN:VTIMEZONE
TZID:America/New_York
BEGIN:DAYLIGHT
TZOFFSETFROM:-0500
TZOFFSETTO:-0400
TZNAME:EDT
DTSTART:20240310T070000
END:DAYLIGHT
BEGIN:STANDARD
TZOFFSETFROM:-0400
TZOFFSETTO:-0500
TZNAME:EST
DTSTART:20241103T060000
END:STANDARD
BEGIN:DAYLIGHT
TZOFFSETFROM:-0500
TZOFFSETTO:-0400
TZNAME:EDT
DTSTART:20250309T070000
END:DAYLIGHT
BEGIN:STANDARD
TZOFFSETFROM:-0400
TZOFFSETTO:-0500
TZNAME:EST
DTSTART:20251102T060000
END:STANDARD
BEGIN:DAYLIGHT
TZOFFSETFROM:-0500
TZOFFSETTO:-0400
TZNAME:EDT
DTSTART:20260308T070000
END:DAYLIGHT
BEGIN:STANDARD
TZOFFSETFROM:-0400
TZOFFSETTO:-0500
TZNAME:EST
DTSTART:20261101T060000
END:STANDARD
END:VTIMEZONE
BEGIN:VEVENT
DTSTART;TZID=America/New_York:20251126T130000
DTEND;TZID=America/New_York:20251126T150000
DTSTAMP:20260424T151800
CREATED:20251112T002547Z
LAST-MODIFIED:20251130T172247Z
UID:10012471-1764162000-1764169200@northparktheatre.org
SUMMARY:"Wake Up Dead Man: A Knives Out Mystery"
DESCRIPTION:“It is a film so rich in ideas that it’s the rare whodunit that seems likely to play even better the second time when following the mystery can take a back seat to considering how Johnson has crafted one of his best screenplays.”\n– RogerEbert.com \n \nStarts November 26th! \nGet tickets HERE. \nBenoit Blanc (Daniel Craig) returns for his most dangerous case yet in the third and darkest chapter of Rian Johnson’s murder mystery opus. \nStarring Daniel Craig\, Josh O’Connor\, Glenn Close\, Josh Brolin\, Mila Kunis\, Jeremy Renner\, Kerry Washington\, Andrew Scott\, Cailee Spaeny\, Daryl McCormack\, and Thomas Haden Church.
URL:https://northparktheatre.org/shows/wake-up-dead-man-a-knives-out-mystery/2025-11-26/
CATEGORIES:Wake Up Dead Man: A Knives Out Mystery
ATTACH;FMTTYPE=image/jpeg:https://northparktheatre.org/wp-content/uploads/poster-wake.jpg
END:VEVENT
BEGIN:VEVENT
DTSTART;TZID=America/New_York:20251126T160000
DTEND;TZID=America/New_York:20251126T180000
DTSTAMP:20260424T151800
CREATED:20251112T002814Z
LAST-MODIFIED:20251130T172310Z
UID:10012848-1764172800-1764180000@northparktheatre.org
SUMMARY:"Wake Up Dead Man: A Knives Out Mystery"
DESCRIPTION:“It is a film so rich in ideas that it’s the rare whodunit that seems likely to play even better the second time when following the mystery can take a back seat to considering how Johnson has crafted one of his best screenplays.”\n– RogerEbert.com \n \nStarts November 26th! \nGet tickets HERE. \nBenoit Blanc (Daniel Craig) returns for his most dangerous case yet in the third and darkest chapter of Rian Johnson’s murder mystery opus. \nStarring Daniel Craig\, Josh O’Connor\, Glenn Close\, Josh Brolin\, Mila Kunis\, Jeremy Renner\, Kerry Washington\, Andrew Scott\, Cailee Spaeny\, Daryl McCormack\, and Thomas Haden Church.
URL:https://northparktheatre.org/shows/wake-up-dead-man-a-knives-out-mystery-2/2025-11-26/
CATEGORIES:Wake Up Dead Man: A Knives Out Mystery
ATTACH;FMTTYPE=image/jpeg:https://northparktheatre.org/wp-content/uploads/poster-wake.jpg
END:VEVENT
BEGIN:VEVENT
DTSTART;TZID=America/New_York:20251126T190000
DTEND;TZID=America/New_York:20251126T210000
DTSTAMP:20260424T151800
CREATED:20251112T002948Z
LAST-MODIFIED:20251130T172419Z
UID:10013226-1764183600-1764190800@northparktheatre.org
SUMMARY:"Wake Up Dead Man: A Knives Out Mystery"
DESCRIPTION:“It is a film so rich in ideas that it’s the rare whodunit that seems likely to play even better the second time when following the mystery can take a back seat to considering how Johnson has crafted one of his best screenplays.”\n– RogerEbert.com \n \nStarts November 26th! \nGet tickets HERE. \nBenoit Blanc (Daniel Craig) returns for his most dangerous case yet in the third and darkest chapter of Rian Johnson’s murder mystery opus. \nStarring Daniel Craig\, Josh O’Connor\, Glenn Close\, Josh Brolin\, Mila Kunis\, Jeremy Renner\, Kerry Washington\, Andrew Scott\, Cailee Spaeny\, Daryl McCormack\, and Thomas Haden Church.
URL:https://northparktheatre.org/shows/wake-up-dead-man-a-knives-out-mystery-3/2025-11-26/
CATEGORIES:Wake Up Dead Man: A Knives Out Mystery
ATTACH;FMTTYPE=image/jpeg:https://northparktheatre.org/wp-content/uploads/poster-wake.jpg
END:VEVENT
BEGIN:VEVENT
DTSTART;TZID=America/New_York:20251126T220000
DTEND;TZID=America/New_York:20251126T235500
DTSTAMP:20260424T151800
CREATED:20251112T003116Z
LAST-MODIFIED:20251130T172540Z
UID:10013603-1764194400-1764201300@northparktheatre.org
SUMMARY:"Wake Up Dead Man: A Knives Out Mystery"
DESCRIPTION:“It is a film so rich in ideas that it’s the rare whodunit that seems likely to play even better the second time when following the mystery can take a back seat to considering how Johnson has crafted one of his best screenplays.”\n– RogerEbert.com \n \nStarts November 26th! \nGet tickets HERE. \nBenoit Blanc (Daniel Craig) returns for his most dangerous case yet in the third and darkest chapter of Rian Johnson’s murder mystery opus. \nStarring Daniel Craig\, Josh O’Connor\, Glenn Close\, Josh Brolin\, Mila Kunis\, Jeremy Renner\, Kerry Washington\, Andrew Scott\, Cailee Spaeny\, Daryl McCormack\, and Thomas Haden Church.
URL:https://northparktheatre.org/shows/wake-up-dead-man-a-knives-out-mystery-4/2025-11-26/
CATEGORIES:Wake Up Dead Man: A Knives Out Mystery
ATTACH;FMTTYPE=image/jpeg:https://northparktheatre.org/wp-content/uploads/poster-wake.jpg
END:VEVENT
BEGIN:VEVENT
DTSTART;TZID=America/New_York:20251127T160000
DTEND;TZID=America/New_York:20251127T180000
DTSTAMP:20260424T151800
CREATED:20251112T002814Z
LAST-MODIFIED:20251130T172310Z
UID:10012849-1764259200-1764266400@northparktheatre.org
SUMMARY:"Wake Up Dead Man: A Knives Out Mystery"
DESCRIPTION:“It is a film so rich in ideas that it’s the rare whodunit that seems likely to play even better the second time when following the mystery can take a back seat to considering how Johnson has crafted one of his best screenplays.”\n– RogerEbert.com \n \nStarts November 26th! \nGet tickets HERE. \nBenoit Blanc (Daniel Craig) returns for his most dangerous case yet in the third and darkest chapter of Rian Johnson’s murder mystery opus. \nStarring Daniel Craig\, Josh O’Connor\, Glenn Close\, Josh Brolin\, Mila Kunis\, Jeremy Renner\, Kerry Washington\, Andrew Scott\, Cailee Spaeny\, Daryl McCormack\, and Thomas Haden Church.
URL:https://northparktheatre.org/shows/wake-up-dead-man-a-knives-out-mystery-2/2025-11-27/
CATEGORIES:Wake Up Dead Man: A Knives Out Mystery
ATTACH;FMTTYPE=image/jpeg:https://northparktheatre.org/wp-content/uploads/poster-wake.jpg
END:VEVENT
BEGIN:VEVENT
DTSTART;TZID=America/New_York:20251127T190000
DTEND;TZID=America/New_York:20251127T210000
DTSTAMP:20260424T151800
CREATED:20251112T002948Z
LAST-MODIFIED:20251130T172419Z
UID:10013227-1764270000-1764277200@northparktheatre.org
SUMMARY:"Wake Up Dead Man: A Knives Out Mystery"
DESCRIPTION:“It is a film so rich in ideas that it’s the rare whodunit that seems likely to play even better the second time when following the mystery can take a back seat to considering how Johnson has crafted one of his best screenplays.”\n– RogerEbert.com \n \nStarts November 26th! \nGet tickets HERE. \nBenoit Blanc (Daniel Craig) returns for his most dangerous case yet in the third and darkest chapter of Rian Johnson’s murder mystery opus. \nStarring Daniel Craig\, Josh O’Connor\, Glenn Close\, Josh Brolin\, Mila Kunis\, Jeremy Renner\, Kerry Washington\, Andrew Scott\, Cailee Spaeny\, Daryl McCormack\, and Thomas Haden Church.
URL:https://northparktheatre.org/shows/wake-up-dead-man-a-knives-out-mystery-3/2025-11-27/
CATEGORIES:Wake Up Dead Man: A Knives Out Mystery
ATTACH;FMTTYPE=image/jpeg:https://northparktheatre.org/wp-content/uploads/poster-wake.jpg
END:VEVENT
BEGIN:VEVENT
DTSTART;TZID=America/New_York:20251128T130000
DTEND;TZID=America/New_York:20251128T150000
DTSTAMP:20260424T151800
CREATED:20251112T002547Z
LAST-MODIFIED:20251130T172247Z
UID:10012472-1764334800-1764342000@northparktheatre.org
SUMMARY:"Wake Up Dead Man: A Knives Out Mystery"
DESCRIPTION:“It is a film so rich in ideas that it’s the rare whodunit that seems likely to play even better the second time when following the mystery can take a back seat to considering how Johnson has crafted one of his best screenplays.”\n– RogerEbert.com \n \nStarts November 26th! \nGet tickets HERE. \nBenoit Blanc (Daniel Craig) returns for his most dangerous case yet in the third and darkest chapter of Rian Johnson’s murder mystery opus. \nStarring Daniel Craig\, Josh O’Connor\, Glenn Close\, Josh Brolin\, Mila Kunis\, Jeremy Renner\, Kerry Washington\, Andrew Scott\, Cailee Spaeny\, Daryl McCormack\, and Thomas Haden Church.
URL:https://northparktheatre.org/shows/wake-up-dead-man-a-knives-out-mystery/2025-11-28/
CATEGORIES:Wake Up Dead Man: A Knives Out Mystery
ATTACH;FMTTYPE=image/jpeg:https://northparktheatre.org/wp-content/uploads/poster-wake.jpg
END:VEVENT
BEGIN:VEVENT
DTSTART;TZID=America/New_York:20251128T160000
DTEND;TZID=America/New_York:20251128T180000
DTSTAMP:20260424T151800
CREATED:20251112T002814Z
LAST-MODIFIED:20251130T172310Z
UID:10012850-1764345600-1764352800@northparktheatre.org
SUMMARY:"Wake Up Dead Man: A Knives Out Mystery"
DESCRIPTION:“It is a film so rich in ideas that it’s the rare whodunit that seems likely to play even better the second time when following the mystery can take a back seat to considering how Johnson has crafted one of his best screenplays.”\n– RogerEbert.com \n \nStarts November 26th! \nGet tickets HERE. \nBenoit Blanc (Daniel Craig) returns for his most dangerous case yet in the third and darkest chapter of Rian Johnson’s murder mystery opus. \nStarring Daniel Craig\, Josh O’Connor\, Glenn Close\, Josh Brolin\, Mila Kunis\, Jeremy Renner\, Kerry Washington\, Andrew Scott\, Cailee Spaeny\, Daryl McCormack\, and Thomas Haden Church.
URL:https://northparktheatre.org/shows/wake-up-dead-man-a-knives-out-mystery-2/2025-11-28/
CATEGORIES:Wake Up Dead Man: A Knives Out Mystery
ATTACH;FMTTYPE=image/jpeg:https://northparktheatre.org/wp-content/uploads/poster-wake.jpg
END:VEVENT
BEGIN:VEVENT
DTSTART;TZID=America/New_York:20251128T190000
DTEND;TZID=America/New_York:20251128T210000
DTSTAMP:20260424T151800
CREATED:20251112T002948Z
LAST-MODIFIED:20251130T172419Z
UID:10013228-1764356400-1764363600@northparktheatre.org
SUMMARY:"Wake Up Dead Man: A Knives Out Mystery"
DESCRIPTION:“It is a film so rich in ideas that it’s the rare whodunit that seems likely to play even better the second time when following the mystery can take a back seat to considering how Johnson has crafted one of his best screenplays.”\n– RogerEbert.com \n \nStarts November 26th! \nGet tickets HERE. \nBenoit Blanc (Daniel Craig) returns for his most dangerous case yet in the third and darkest chapter of Rian Johnson’s murder mystery opus. \nStarring Daniel Craig\, Josh O’Connor\, Glenn Close\, Josh Brolin\, Mila Kunis\, Jeremy Renner\, Kerry Washington\, Andrew Scott\, Cailee Spaeny\, Daryl McCormack\, and Thomas Haden Church.
URL:https://northparktheatre.org/shows/wake-up-dead-man-a-knives-out-mystery-3/2025-11-28/
CATEGORIES:Wake Up Dead Man: A Knives Out Mystery
ATTACH;FMTTYPE=image/jpeg:https://northparktheatre.org/wp-content/uploads/poster-wake.jpg
END:VEVENT
BEGIN:VEVENT
DTSTART;TZID=America/New_York:20251128T220000
DTEND;TZID=America/New_York:20251128T235500
DTSTAMP:20260424T151800
CREATED:20251112T003116Z
LAST-MODIFIED:20251130T172540Z
UID:10013604-1764367200-1764374100@northparktheatre.org
SUMMARY:"Wake Up Dead Man: A Knives Out Mystery"
DESCRIPTION:“It is a film so rich in ideas that it’s the rare whodunit that seems likely to play even better the second time when following the mystery can take a back seat to considering how Johnson has crafted one of his best screenplays.”\n– RogerEbert.com \n \nStarts November 26th! \nGet tickets HERE. \nBenoit Blanc (Daniel Craig) returns for his most dangerous case yet in the third and darkest chapter of Rian Johnson’s murder mystery opus. \nStarring Daniel Craig\, Josh O’Connor\, Glenn Close\, Josh Brolin\, Mila Kunis\, Jeremy Renner\, Kerry Washington\, Andrew Scott\, Cailee Spaeny\, Daryl McCormack\, and Thomas Haden Church.
URL:https://northparktheatre.org/shows/wake-up-dead-man-a-knives-out-mystery-4/2025-11-28/
CATEGORIES:Wake Up Dead Man: A Knives Out Mystery
ATTACH;FMTTYPE=image/jpeg:https://northparktheatre.org/wp-content/uploads/poster-wake.jpg
END:VEVENT
BEGIN:VEVENT
DTSTART;TZID=America/New_York:20251129T143000
DTEND;TZID=America/New_York:20251129T163000
DTSTAMP:20260424T151800
CREATED:20251112T003211Z
LAST-MODIFIED:20251130T172751Z
UID:10013979-1764426600-1764433800@northparktheatre.org
SUMMARY:"Wake Up Dead Man: A Knives Out Mystery"
DESCRIPTION:“It is a film so rich in ideas that it’s the rare whodunit that seems likely to play even better the second time when following the mystery can take a back seat to considering how Johnson has crafted one of his best screenplays.”\n– RogerEbert.com \n \nStarts November 26th! \nGet tickets HERE. \nBenoit Blanc (Daniel Craig) returns for his most dangerous case yet in the third and darkest chapter of Rian Johnson’s murder mystery opus. \nStarring Daniel Craig\, Josh O’Connor\, Glenn Close\, Josh Brolin\, Mila Kunis\, Jeremy Renner\, Kerry Washington\, Andrew Scott\, Cailee Spaeny\, Daryl McCormack\, and Thomas Haden Church.
URL:https://northparktheatre.org/shows/wake-up-dead-man-a-knives-out-mystery-5/2025-11-29/
CATEGORIES:Wake Up Dead Man: A Knives Out Mystery
ATTACH;FMTTYPE=image/jpeg:https://northparktheatre.org/wp-content/uploads/poster-wake.jpg
END:VEVENT
BEGIN:VEVENT
DTSTART;TZID=America/New_York:20251129T190000
DTEND;TZID=America/New_York:20251129T210000
DTSTAMP:20260424T151800
CREATED:20251112T002948Z
LAST-MODIFIED:20251130T172419Z
UID:10013229-1764442800-1764450000@northparktheatre.org
SUMMARY:"Wake Up Dead Man: A Knives Out Mystery"
DESCRIPTION:“It is a film so rich in ideas that it’s the rare whodunit that seems likely to play even better the second time when following the mystery can take a back seat to considering how Johnson has crafted one of his best screenplays.”\n– RogerEbert.com \n \nStarts November 26th! \nGet tickets HERE. \nBenoit Blanc (Daniel Craig) returns for his most dangerous case yet in the third and darkest chapter of Rian Johnson’s murder mystery opus. \nStarring Daniel Craig\, Josh O’Connor\, Glenn Close\, Josh Brolin\, Mila Kunis\, Jeremy Renner\, Kerry Washington\, Andrew Scott\, Cailee Spaeny\, Daryl McCormack\, and Thomas Haden Church.
URL:https://northparktheatre.org/shows/wake-up-dead-man-a-knives-out-mystery-3/2025-11-29/
CATEGORIES:Wake Up Dead Man: A Knives Out Mystery
ATTACH;FMTTYPE=image/jpeg:https://northparktheatre.org/wp-content/uploads/poster-wake.jpg
END:VEVENT
BEGIN:VEVENT
DTSTART;TZID=America/New_York:20251129T220000
DTEND;TZID=America/New_York:20251129T235500
DTSTAMP:20260424T151800
CREATED:20251112T003116Z
LAST-MODIFIED:20251130T172540Z
UID:10013605-1764453600-1764460500@northparktheatre.org
SUMMARY:"Wake Up Dead Man: A Knives Out Mystery"
DESCRIPTION:“It is a film so rich in ideas that it’s the rare whodunit that seems likely to play even better the second time when following the mystery can take a back seat to considering how Johnson has crafted one of his best screenplays.”\n– RogerEbert.com \n \nStarts November 26th! \nGet tickets HERE. \nBenoit Blanc (Daniel Craig) returns for his most dangerous case yet in the third and darkest chapter of Rian Johnson’s murder mystery opus. \nStarring Daniel Craig\, Josh O’Connor\, Glenn Close\, Josh Brolin\, Mila Kunis\, Jeremy Renner\, Kerry Washington\, Andrew Scott\, Cailee Spaeny\, Daryl McCormack\, and Thomas Haden Church.
URL:https://northparktheatre.org/shows/wake-up-dead-man-a-knives-out-mystery-4/2025-11-29/
CATEGORIES:Wake Up Dead Man: A Knives Out Mystery
ATTACH;FMTTYPE=image/jpeg:https://northparktheatre.org/wp-content/uploads/poster-wake.jpg
END:VEVENT
BEGIN:VEVENT
DTSTART;TZID=America/New_York:20251130T143000
DTEND;TZID=America/New_York:20251130T173000
DTSTAMP:20260424T151800
CREATED:20251112T003211Z
LAST-MODIFIED:20251130T172751Z
UID:10014059-1764513000-1764523800@northparktheatre.org
SUMMARY:"Wake Up Dead Man: A Knives Out Mystery"
DESCRIPTION:“It is a film so rich in ideas that it’s the rare whodunit that seems likely to play even better the second time when following the mystery can take a back seat to considering how Johnson has crafted one of his best screenplays.”\n– RogerEbert.com \n \nStarts November 26th! \nGet tickets HERE. \nBenoit Blanc (Daniel Craig) returns for his most dangerous case yet in the third and darkest chapter of Rian Johnson’s murder mystery opus. \nStarring Daniel Craig\, Josh O’Connor\, Glenn Close\, Josh Brolin\, Mila Kunis\, Jeremy Renner\, Kerry Washington\, Andrew Scott\, Cailee Spaeny\, Daryl McCormack\, and Thomas Haden Church.
URL:https://northparktheatre.org/shows/wake-up-dead-man-a-knives-out-mystery-5/2025-11-30/1/
CATEGORIES:Wake Up Dead Man: A Knives Out Mystery
ATTACH;FMTTYPE=image/jpeg:https://northparktheatre.org/wp-content/uploads/poster-wake.jpg
END:VEVENT
BEGIN:VEVENT
DTSTART;TZID=America/New_York:20251130T173000
DTEND;TZID=America/New_York:20251130T193000
DTSTAMP:20260424T151800
CREATED:20251112T003211Z
LAST-MODIFIED:20251130T172751Z
UID:10014060-1764523800-1764531000@northparktheatre.org
SUMMARY:"Wake Up Dead Man: A Knives Out Mystery"
DESCRIPTION:“It is a film so rich in ideas that it’s the rare whodunit that seems likely to play even better the second time when following the mystery can take a back seat to considering how Johnson has crafted one of his best screenplays.”\n– RogerEbert.com \n \nStarts November 26th! \nGet tickets HERE. \nBenoit Blanc (Daniel Craig) returns for his most dangerous case yet in the third and darkest chapter of Rian Johnson’s murder mystery opus. \nStarring Daniel Craig\, Josh O’Connor\, Glenn Close\, Josh Brolin\, Mila Kunis\, Jeremy Renner\, Kerry Washington\, Andrew Scott\, Cailee Spaeny\, Daryl McCormack\, and Thomas Haden Church.
URL:https://northparktheatre.org/shows/wake-up-dead-man-a-knives-out-mystery-5/2025-11-30/2/
CATEGORIES:Wake Up Dead Man: A Knives Out Mystery
ATTACH;FMTTYPE=image/jpeg:https://northparktheatre.org/wp-content/uploads/poster-wake.jpg
END:VEVENT
BEGIN:VEVENT
DTSTART;TZID=America/New_York:20251130T203000
DTEND;TZID=America/New_York:20251130T223000
DTSTAMP:20260424T151800
CREATED:20251112T003211Z
LAST-MODIFIED:20251130T172751Z
UID:10014061-1764534600-1764541800@northparktheatre.org
SUMMARY:"Wake Up Dead Man: A Knives Out Mystery"
DESCRIPTION:“It is a film so rich in ideas that it’s the rare whodunit that seems likely to play even better the second time when following the mystery can take a back seat to considering how Johnson has crafted one of his best screenplays.”\n– RogerEbert.com \n \nStarts November 26th! \nGet tickets HERE. \nBenoit Blanc (Daniel Craig) returns for his most dangerous case yet in the third and darkest chapter of Rian Johnson’s murder mystery opus. \nStarring Daniel Craig\, Josh O’Connor\, Glenn Close\, Josh Brolin\, Mila Kunis\, Jeremy Renner\, Kerry Washington\, Andrew Scott\, Cailee Spaeny\, Daryl McCormack\, and Thomas Haden Church.
URL:https://northparktheatre.org/shows/wake-up-dead-man-a-knives-out-mystery-5/2025-11-30/3/
CATEGORIES:Wake Up Dead Man: A Knives Out Mystery
ATTACH;FMTTYPE=image/jpeg:https://northparktheatre.org/wp-content/uploads/poster-wake.jpg
END:VEVENT
END:VCALENDAR