BEGIN:VCALENDAR
VERSION:2.0
PRODID:-//North Park Theatre - ECPv6.15.20//NONSGML v1.0//EN
CALSCALE:GREGORIAN
METHOD:PUBLISH
X-WR-CALNAME:North Park Theatre
X-ORIGINAL-URL:https://northparktheatre.org
X-WR-CALDESC:Events for North Park Theatre
REFRESH-INTERVAL;VALUE=DURATION:PT1H
X-Robots-Tag:noindex
X-PUBLISHED-TTL:PT1H
BEGIN:VTIMEZONE
TZID:America/New_York
BEGIN:DAYLIGHT
TZOFFSETFROM:-0500
TZOFFSETTO:-0400
TZNAME:EDT
DTSTART:20240310T070000
END:DAYLIGHT
BEGIN:STANDARD
TZOFFSETFROM:-0400
TZOFFSETTO:-0500
TZNAME:EST
DTSTART:20241103T060000
END:STANDARD
BEGIN:DAYLIGHT
TZOFFSETFROM:-0500
TZOFFSETTO:-0400
TZNAME:EDT
DTSTART:20250309T070000
END:DAYLIGHT
BEGIN:STANDARD
TZOFFSETFROM:-0400
TZOFFSETTO:-0500
TZNAME:EST
DTSTART:20251102T060000
END:STANDARD
BEGIN:DAYLIGHT
TZOFFSETFROM:-0500
TZOFFSETTO:-0400
TZNAME:EDT
DTSTART:20260308T070000
END:DAYLIGHT
BEGIN:STANDARD
TZOFFSETFROM:-0400
TZOFFSETTO:-0500
TZNAME:EST
DTSTART:20261101T060000
END:STANDARD
END:VTIMEZONE
BEGIN:VEVENT
DTSTART;TZID=America/New_York:20250301T133000
DTEND;TZID=America/New_York:20250301T153000
DTSTAMP:20260425T155437
CREATED:20250226T015205Z
LAST-MODIFIED:20250226T015205Z
UID:10007479-1740835800-1740843000@northparktheatre.org
SUMMARY:"Vermiglio"
DESCRIPTION:Italy’s Official Selection for the 2025 Academy Awards \n \nScreening February 28th – March 6th!\n\nGet tickets HERE. \nThe lush and breathtaking beauty of the Alps\, filmed with painterly grace under natural light from frigid winter to redemptive spring\, provides the physical and emotional backdrop for Vermiglio\, Maura Delpero’s visionary film\, which won the Silver Lion at the 2024 Venice Film Festival. \nThis singular portrait of a sprawling family\, set in the small\, mountainous village of Vermiglio during the waning days of WWII\, follows a series of dramatic\, consequential events after the arrival of a taciturn Sicilian soldier (Giuseppe De Domenico)\, who hides out in town after deserting the army. While there\, the soldier develops a romance with the family’s eldest daughter\, Lucia (Martina Scrinzi). \nVermiglio shows the lives of a provincial family in a remote village suspended in time by the customs of a fading era. Conjuring stories from her own family’s past\, Delpero creates a deeply personal and human tale that recalls the great neorealist movement in Italian cinema\, but through Lucia’s perspective Vermiglio feels distinct and novel.
URL:https://northparktheatre.org/shows/vermiglio/2025-03-01/1/
CATEGORIES:Vermiglio
ATTACH;FMTTYPE=image/jpeg:https://northparktheatre.org/wp-content/uploads/poster-vermiglio.jpg
END:VEVENT
BEGIN:VEVENT
DTSTART;TZID=America/New_York:20250301T161000
DTEND;TZID=America/New_York:20250301T180000
DTSTAMP:20260425T155437
CREATED:20250226T015205Z
LAST-MODIFIED:20250226T015205Z
UID:10007480-1740845400-1740852000@northparktheatre.org
SUMMARY:"Vermiglio"
DESCRIPTION:Italy’s Official Selection for the 2025 Academy Awards \n \nScreening February 28th – March 6th!\n\nGet tickets HERE. \nThe lush and breathtaking beauty of the Alps\, filmed with painterly grace under natural light from frigid winter to redemptive spring\, provides the physical and emotional backdrop for Vermiglio\, Maura Delpero’s visionary film\, which won the Silver Lion at the 2024 Venice Film Festival. \nThis singular portrait of a sprawling family\, set in the small\, mountainous village of Vermiglio during the waning days of WWII\, follows a series of dramatic\, consequential events after the arrival of a taciturn Sicilian soldier (Giuseppe De Domenico)\, who hides out in town after deserting the army. While there\, the soldier develops a romance with the family’s eldest daughter\, Lucia (Martina Scrinzi). \nVermiglio shows the lives of a provincial family in a remote village suspended in time by the customs of a fading era. Conjuring stories from her own family’s past\, Delpero creates a deeply personal and human tale that recalls the great neorealist movement in Italian cinema\, but through Lucia’s perspective Vermiglio feels distinct and novel.
URL:https://northparktheatre.org/shows/vermiglio/2025-03-01/2/
CATEGORIES:Vermiglio
ATTACH;FMTTYPE=image/jpeg:https://northparktheatre.org/wp-content/uploads/poster-vermiglio.jpg
END:VEVENT
BEGIN:VEVENT
DTSTART;TZID=America/New_York:20250302T133000
DTEND;TZID=America/New_York:20250302T153000
DTSTAMP:20260425T155437
CREATED:20250226T015205Z
LAST-MODIFIED:20250226T015205Z
UID:10007481-1740922200-1740929400@northparktheatre.org
SUMMARY:"Vermiglio"
DESCRIPTION:Italy’s Official Selection for the 2025 Academy Awards \n \nScreening February 28th – March 6th!\n\nGet tickets HERE. \nThe lush and breathtaking beauty of the Alps\, filmed with painterly grace under natural light from frigid winter to redemptive spring\, provides the physical and emotional backdrop for Vermiglio\, Maura Delpero’s visionary film\, which won the Silver Lion at the 2024 Venice Film Festival. \nThis singular portrait of a sprawling family\, set in the small\, mountainous village of Vermiglio during the waning days of WWII\, follows a series of dramatic\, consequential events after the arrival of a taciturn Sicilian soldier (Giuseppe De Domenico)\, who hides out in town after deserting the army. While there\, the soldier develops a romance with the family’s eldest daughter\, Lucia (Martina Scrinzi). \nVermiglio shows the lives of a provincial family in a remote village suspended in time by the customs of a fading era. Conjuring stories from her own family’s past\, Delpero creates a deeply personal and human tale that recalls the great neorealist movement in Italian cinema\, but through Lucia’s perspective Vermiglio feels distinct and novel.
URL:https://northparktheatre.org/shows/vermiglio/2025-03-02/1/
CATEGORIES:Vermiglio
ATTACH;FMTTYPE=image/jpeg:https://northparktheatre.org/wp-content/uploads/poster-vermiglio.jpg
END:VEVENT
BEGIN:VEVENT
DTSTART;TZID=America/New_York:20250302T161000
DTEND;TZID=America/New_York:20250302T180000
DTSTAMP:20260425T155437
CREATED:20250226T015205Z
LAST-MODIFIED:20250226T015205Z
UID:10007482-1740931800-1740938400@northparktheatre.org
SUMMARY:"Vermiglio"
DESCRIPTION:Italy’s Official Selection for the 2025 Academy Awards \n \nScreening February 28th – March 6th!\n\nGet tickets HERE. \nThe lush and breathtaking beauty of the Alps\, filmed with painterly grace under natural light from frigid winter to redemptive spring\, provides the physical and emotional backdrop for Vermiglio\, Maura Delpero’s visionary film\, which won the Silver Lion at the 2024 Venice Film Festival. \nThis singular portrait of a sprawling family\, set in the small\, mountainous village of Vermiglio during the waning days of WWII\, follows a series of dramatic\, consequential events after the arrival of a taciturn Sicilian soldier (Giuseppe De Domenico)\, who hides out in town after deserting the army. While there\, the soldier develops a romance with the family’s eldest daughter\, Lucia (Martina Scrinzi). \nVermiglio shows the lives of a provincial family in a remote village suspended in time by the customs of a fading era. Conjuring stories from her own family’s past\, Delpero creates a deeply personal and human tale that recalls the great neorealist movement in Italian cinema\, but through Lucia’s perspective Vermiglio feels distinct and novel.
URL:https://northparktheatre.org/shows/vermiglio/2025-03-02/2/
CATEGORIES:Vermiglio
ATTACH;FMTTYPE=image/jpeg:https://northparktheatre.org/wp-content/uploads/poster-vermiglio.jpg
END:VEVENT
BEGIN:VEVENT
DTSTART;TZID=America/New_York:20250303T133000
DTEND;TZID=America/New_York:20250303T153000
DTSTAMP:20260425T155437
CREATED:20250226T015205Z
LAST-MODIFIED:20250226T015205Z
UID:10007483-1741008600-1741015800@northparktheatre.org
SUMMARY:"Vermiglio"
DESCRIPTION:Italy’s Official Selection for the 2025 Academy Awards \n \nScreening February 28th – March 6th!\n\nGet tickets HERE. \nThe lush and breathtaking beauty of the Alps\, filmed with painterly grace under natural light from frigid winter to redemptive spring\, provides the physical and emotional backdrop for Vermiglio\, Maura Delpero’s visionary film\, which won the Silver Lion at the 2024 Venice Film Festival. \nThis singular portrait of a sprawling family\, set in the small\, mountainous village of Vermiglio during the waning days of WWII\, follows a series of dramatic\, consequential events after the arrival of a taciturn Sicilian soldier (Giuseppe De Domenico)\, who hides out in town after deserting the army. While there\, the soldier develops a romance with the family’s eldest daughter\, Lucia (Martina Scrinzi). \nVermiglio shows the lives of a provincial family in a remote village suspended in time by the customs of a fading era. Conjuring stories from her own family’s past\, Delpero creates a deeply personal and human tale that recalls the great neorealist movement in Italian cinema\, but through Lucia’s perspective Vermiglio feels distinct and novel.
URL:https://northparktheatre.org/shows/vermiglio/2025-03-03/1/
CATEGORIES:Vermiglio
ATTACH;FMTTYPE=image/jpeg:https://northparktheatre.org/wp-content/uploads/poster-vermiglio.jpg
END:VEVENT
BEGIN:VEVENT
DTSTART;TZID=America/New_York:20250303T161000
DTEND;TZID=America/New_York:20250303T180000
DTSTAMP:20260425T155437
CREATED:20250226T015205Z
LAST-MODIFIED:20250226T015205Z
UID:10007484-1741018200-1741024800@northparktheatre.org
SUMMARY:"Vermiglio"
DESCRIPTION:Italy’s Official Selection for the 2025 Academy Awards \n \nScreening February 28th – March 6th!\n\nGet tickets HERE. \nThe lush and breathtaking beauty of the Alps\, filmed with painterly grace under natural light from frigid winter to redemptive spring\, provides the physical and emotional backdrop for Vermiglio\, Maura Delpero’s visionary film\, which won the Silver Lion at the 2024 Venice Film Festival. \nThis singular portrait of a sprawling family\, set in the small\, mountainous village of Vermiglio during the waning days of WWII\, follows a series of dramatic\, consequential events after the arrival of a taciturn Sicilian soldier (Giuseppe De Domenico)\, who hides out in town after deserting the army. While there\, the soldier develops a romance with the family’s eldest daughter\, Lucia (Martina Scrinzi). \nVermiglio shows the lives of a provincial family in a remote village suspended in time by the customs of a fading era. Conjuring stories from her own family’s past\, Delpero creates a deeply personal and human tale that recalls the great neorealist movement in Italian cinema\, but through Lucia’s perspective Vermiglio feels distinct and novel.
URL:https://northparktheatre.org/shows/vermiglio/2025-03-03/2/
CATEGORIES:Vermiglio
ATTACH;FMTTYPE=image/jpeg:https://northparktheatre.org/wp-content/uploads/poster-vermiglio.jpg
END:VEVENT
BEGIN:VEVENT
DTSTART;TZID=America/New_York:20250304T134000
DTEND;TZID=America/New_York:20250304T153000
DTSTAMP:20260425T155437
CREATED:20250226T015205Z
LAST-MODIFIED:20250226T015205Z
UID:10007485-1741095600-1741102200@northparktheatre.org
SUMMARY:"Vermiglio"
DESCRIPTION:Italy’s Official Selection for the 2025 Academy Awards \n \nScreening February 28th – March 6th!\n\nGet tickets HERE. \nThe lush and breathtaking beauty of the Alps\, filmed with painterly grace under natural light from frigid winter to redemptive spring\, provides the physical and emotional backdrop for Vermiglio\, Maura Delpero’s visionary film\, which won the Silver Lion at the 2024 Venice Film Festival. \nThis singular portrait of a sprawling family\, set in the small\, mountainous village of Vermiglio during the waning days of WWII\, follows a series of dramatic\, consequential events after the arrival of a taciturn Sicilian soldier (Giuseppe De Domenico)\, who hides out in town after deserting the army. While there\, the soldier develops a romance with the family’s eldest daughter\, Lucia (Martina Scrinzi). \nVermiglio shows the lives of a provincial family in a remote village suspended in time by the customs of a fading era. Conjuring stories from her own family’s past\, Delpero creates a deeply personal and human tale that recalls the great neorealist movement in Italian cinema\, but through Lucia’s perspective Vermiglio feels distinct and novel.
URL:https://northparktheatre.org/shows/vermiglio/2025-03-04/1/
CATEGORIES:Vermiglio
ATTACH;FMTTYPE=image/jpeg:https://northparktheatre.org/wp-content/uploads/poster-vermiglio.jpg
END:VEVENT
BEGIN:VEVENT
DTSTART;TZID=America/New_York:20250304T162000
DTEND;TZID=America/New_York:20250304T183000
DTSTAMP:20260425T155437
CREATED:20250226T015205Z
LAST-MODIFIED:20250226T015205Z
UID:10007486-1741105200-1741113000@northparktheatre.org
SUMMARY:"Vermiglio"
DESCRIPTION:Italy’s Official Selection for the 2025 Academy Awards \n \nScreening February 28th – March 6th!\n\nGet tickets HERE. \nThe lush and breathtaking beauty of the Alps\, filmed with painterly grace under natural light from frigid winter to redemptive spring\, provides the physical and emotional backdrop for Vermiglio\, Maura Delpero’s visionary film\, which won the Silver Lion at the 2024 Venice Film Festival. \nThis singular portrait of a sprawling family\, set in the small\, mountainous village of Vermiglio during the waning days of WWII\, follows a series of dramatic\, consequential events after the arrival of a taciturn Sicilian soldier (Giuseppe De Domenico)\, who hides out in town after deserting the army. While there\, the soldier develops a romance with the family’s eldest daughter\, Lucia (Martina Scrinzi). \nVermiglio shows the lives of a provincial family in a remote village suspended in time by the customs of a fading era. Conjuring stories from her own family’s past\, Delpero creates a deeply personal and human tale that recalls the great neorealist movement in Italian cinema\, but through Lucia’s perspective Vermiglio feels distinct and novel.
URL:https://northparktheatre.org/shows/vermiglio/2025-03-04/2/
CATEGORIES:Vermiglio
ATTACH;FMTTYPE=image/jpeg:https://northparktheatre.org/wp-content/uploads/poster-vermiglio.jpg
END:VEVENT
BEGIN:VEVENT
DTSTART;TZID=America/New_York:20250304T190000
DTEND;TZID=America/New_York:20250304T210000
DTSTAMP:20260425T155437
CREATED:20250226T015205Z
LAST-MODIFIED:20250226T015205Z
UID:10007487-1741114800-1741122000@northparktheatre.org
SUMMARY:"Vermiglio"
DESCRIPTION:Italy’s Official Selection for the 2025 Academy Awards \n \nScreening February 28th – March 6th!\n\nGet tickets HERE. \nThe lush and breathtaking beauty of the Alps\, filmed with painterly grace under natural light from frigid winter to redemptive spring\, provides the physical and emotional backdrop for Vermiglio\, Maura Delpero’s visionary film\, which won the Silver Lion at the 2024 Venice Film Festival. \nThis singular portrait of a sprawling family\, set in the small\, mountainous village of Vermiglio during the waning days of WWII\, follows a series of dramatic\, consequential events after the arrival of a taciturn Sicilian soldier (Giuseppe De Domenico)\, who hides out in town after deserting the army. While there\, the soldier develops a romance with the family’s eldest daughter\, Lucia (Martina Scrinzi). \nVermiglio shows the lives of a provincial family in a remote village suspended in time by the customs of a fading era. Conjuring stories from her own family’s past\, Delpero creates a deeply personal and human tale that recalls the great neorealist movement in Italian cinema\, but through Lucia’s perspective Vermiglio feels distinct and novel.
URL:https://northparktheatre.org/shows/vermiglio/2025-03-04/3/
CATEGORIES:Vermiglio
ATTACH;FMTTYPE=image/jpeg:https://northparktheatre.org/wp-content/uploads/poster-vermiglio.jpg
END:VEVENT
BEGIN:VEVENT
DTSTART;TZID=America/New_York:20250305T134000
DTEND;TZID=America/New_York:20250305T153000
DTSTAMP:20260425T155437
CREATED:20250226T015205Z
LAST-MODIFIED:20250226T015205Z
UID:10007488-1741182000-1741188600@northparktheatre.org
SUMMARY:"Vermiglio"
DESCRIPTION:Italy’s Official Selection for the 2025 Academy Awards \n \nScreening February 28th – March 6th!\n\nGet tickets HERE. \nThe lush and breathtaking beauty of the Alps\, filmed with painterly grace under natural light from frigid winter to redemptive spring\, provides the physical and emotional backdrop for Vermiglio\, Maura Delpero’s visionary film\, which won the Silver Lion at the 2024 Venice Film Festival. \nThis singular portrait of a sprawling family\, set in the small\, mountainous village of Vermiglio during the waning days of WWII\, follows a series of dramatic\, consequential events after the arrival of a taciturn Sicilian soldier (Giuseppe De Domenico)\, who hides out in town after deserting the army. While there\, the soldier develops a romance with the family’s eldest daughter\, Lucia (Martina Scrinzi). \nVermiglio shows the lives of a provincial family in a remote village suspended in time by the customs of a fading era. Conjuring stories from her own family’s past\, Delpero creates a deeply personal and human tale that recalls the great neorealist movement in Italian cinema\, but through Lucia’s perspective Vermiglio feels distinct and novel.
URL:https://northparktheatre.org/shows/vermiglio/2025-03-05/1/
CATEGORIES:Vermiglio
ATTACH;FMTTYPE=image/jpeg:https://northparktheatre.org/wp-content/uploads/poster-vermiglio.jpg
END:VEVENT
BEGIN:VEVENT
DTSTART;TZID=America/New_York:20250305T162000
DTEND;TZID=America/New_York:20250305T180000
DTSTAMP:20260425T155437
CREATED:20250226T015205Z
LAST-MODIFIED:20250226T015205Z
UID:10007489-1741191600-1741197600@northparktheatre.org
SUMMARY:"Vermiglio"
DESCRIPTION:Italy’s Official Selection for the 2025 Academy Awards \n \nScreening February 28th – March 6th!\n\nGet tickets HERE. \nThe lush and breathtaking beauty of the Alps\, filmed with painterly grace under natural light from frigid winter to redemptive spring\, provides the physical and emotional backdrop for Vermiglio\, Maura Delpero’s visionary film\, which won the Silver Lion at the 2024 Venice Film Festival. \nThis singular portrait of a sprawling family\, set in the small\, mountainous village of Vermiglio during the waning days of WWII\, follows a series of dramatic\, consequential events after the arrival of a taciturn Sicilian soldier (Giuseppe De Domenico)\, who hides out in town after deserting the army. While there\, the soldier develops a romance with the family’s eldest daughter\, Lucia (Martina Scrinzi). \nVermiglio shows the lives of a provincial family in a remote village suspended in time by the customs of a fading era. Conjuring stories from her own family’s past\, Delpero creates a deeply personal and human tale that recalls the great neorealist movement in Italian cinema\, but through Lucia’s perspective Vermiglio feels distinct and novel.
URL:https://northparktheatre.org/shows/vermiglio/2025-03-05/2/
CATEGORIES:Vermiglio
ATTACH;FMTTYPE=image/jpeg:https://northparktheatre.org/wp-content/uploads/poster-vermiglio.jpg
END:VEVENT
BEGIN:VEVENT
DTSTART;TZID=America/New_York:20250306T134000
DTEND;TZID=America/New_York:20250306T153000
DTSTAMP:20260425T155437
CREATED:20250226T015205Z
LAST-MODIFIED:20250226T015205Z
UID:10007490-1741268400-1741275000@northparktheatre.org
SUMMARY:"Vermiglio"
DESCRIPTION:Italy’s Official Selection for the 2025 Academy Awards \n \nScreening February 28th – March 6th!\n\nGet tickets HERE. \nThe lush and breathtaking beauty of the Alps\, filmed with painterly grace under natural light from frigid winter to redemptive spring\, provides the physical and emotional backdrop for Vermiglio\, Maura Delpero’s visionary film\, which won the Silver Lion at the 2024 Venice Film Festival. \nThis singular portrait of a sprawling family\, set in the small\, mountainous village of Vermiglio during the waning days of WWII\, follows a series of dramatic\, consequential events after the arrival of a taciturn Sicilian soldier (Giuseppe De Domenico)\, who hides out in town after deserting the army. While there\, the soldier develops a romance with the family’s eldest daughter\, Lucia (Martina Scrinzi). \nVermiglio shows the lives of a provincial family in a remote village suspended in time by the customs of a fading era. Conjuring stories from her own family’s past\, Delpero creates a deeply personal and human tale that recalls the great neorealist movement in Italian cinema\, but through Lucia’s perspective Vermiglio feels distinct and novel.
URL:https://northparktheatre.org/shows/vermiglio/2025-03-06/1/
CATEGORIES:Vermiglio
ATTACH;FMTTYPE=image/jpeg:https://northparktheatre.org/wp-content/uploads/poster-vermiglio.jpg
END:VEVENT
BEGIN:VEVENT
DTSTART;TZID=America/New_York:20250306T162000
DTEND;TZID=America/New_York:20250306T183000
DTSTAMP:20260425T155437
CREATED:20250226T015205Z
LAST-MODIFIED:20250226T015205Z
UID:10007491-1741278000-1741285800@northparktheatre.org
SUMMARY:"Vermiglio"
DESCRIPTION:Italy’s Official Selection for the 2025 Academy Awards \n \nScreening February 28th – March 6th!\n\nGet tickets HERE. \nThe lush and breathtaking beauty of the Alps\, filmed with painterly grace under natural light from frigid winter to redemptive spring\, provides the physical and emotional backdrop for Vermiglio\, Maura Delpero’s visionary film\, which won the Silver Lion at the 2024 Venice Film Festival. \nThis singular portrait of a sprawling family\, set in the small\, mountainous village of Vermiglio during the waning days of WWII\, follows a series of dramatic\, consequential events after the arrival of a taciturn Sicilian soldier (Giuseppe De Domenico)\, who hides out in town after deserting the army. While there\, the soldier develops a romance with the family’s eldest daughter\, Lucia (Martina Scrinzi). \nVermiglio shows the lives of a provincial family in a remote village suspended in time by the customs of a fading era. Conjuring stories from her own family’s past\, Delpero creates a deeply personal and human tale that recalls the great neorealist movement in Italian cinema\, but through Lucia’s perspective Vermiglio feels distinct and novel.
URL:https://northparktheatre.org/shows/vermiglio/2025-03-06/2/
CATEGORIES:Vermiglio
ATTACH;FMTTYPE=image/jpeg:https://northparktheatre.org/wp-content/uploads/poster-vermiglio.jpg
END:VEVENT
BEGIN:VEVENT
DTSTART;TZID=America/New_York:20250306T190000
DTEND;TZID=America/New_York:20250306T210000
DTSTAMP:20260425T155437
CREATED:20250226T015205Z
LAST-MODIFIED:20250226T015205Z
UID:10007492-1741287600-1741294800@northparktheatre.org
SUMMARY:"Vermiglio"
DESCRIPTION:Italy’s Official Selection for the 2025 Academy Awards \n \nScreening February 28th – March 6th!\n\nGet tickets HERE. \nThe lush and breathtaking beauty of the Alps\, filmed with painterly grace under natural light from frigid winter to redemptive spring\, provides the physical and emotional backdrop for Vermiglio\, Maura Delpero’s visionary film\, which won the Silver Lion at the 2024 Venice Film Festival. \nThis singular portrait of a sprawling family\, set in the small\, mountainous village of Vermiglio during the waning days of WWII\, follows a series of dramatic\, consequential events after the arrival of a taciturn Sicilian soldier (Giuseppe De Domenico)\, who hides out in town after deserting the army. While there\, the soldier develops a romance with the family’s eldest daughter\, Lucia (Martina Scrinzi). \nVermiglio shows the lives of a provincial family in a remote village suspended in time by the customs of a fading era. Conjuring stories from her own family’s past\, Delpero creates a deeply personal and human tale that recalls the great neorealist movement in Italian cinema\, but through Lucia’s perspective Vermiglio feels distinct and novel.
URL:https://northparktheatre.org/shows/vermiglio/2025-03-06/3/
CATEGORIES:Vermiglio
ATTACH;FMTTYPE=image/jpeg:https://northparktheatre.org/wp-content/uploads/poster-vermiglio.jpg
END:VEVENT
END:VCALENDAR