BEGIN:VCALENDAR
VERSION:2.0
PRODID:-//North Park Theatre - ECPv6.15.20//NONSGML v1.0//EN
CALSCALE:GREGORIAN
METHOD:PUBLISH
X-ORIGINAL-URL:https://northparktheatre.org
X-WR-CALDESC:Events for North Park Theatre
REFRESH-INTERVAL;VALUE=DURATION:PT1H
X-Robots-Tag:noindex
X-PUBLISHED-TTL:PT1H
BEGIN:VTIMEZONE
TZID:America/New_York
BEGIN:DAYLIGHT
TZOFFSETFROM:-0500
TZOFFSETTO:-0400
TZNAME:EDT
DTSTART:20250309T070000
END:DAYLIGHT
BEGIN:STANDARD
TZOFFSETFROM:-0400
TZOFFSETTO:-0500
TZNAME:EST
DTSTART:20251102T060000
END:STANDARD
BEGIN:DAYLIGHT
TZOFFSETFROM:-0500
TZOFFSETTO:-0400
TZNAME:EDT
DTSTART:20260308T070000
END:DAYLIGHT
BEGIN:STANDARD
TZOFFSETFROM:-0400
TZOFFSETTO:-0500
TZNAME:EST
DTSTART:20261101T060000
END:STANDARD
BEGIN:DAYLIGHT
TZOFFSETFROM:-0500
TZOFFSETTO:-0400
TZNAME:EDT
DTSTART:20270314T070000
END:DAYLIGHT
BEGIN:STANDARD
TZOFFSETFROM:-0400
TZOFFSETTO:-0500
TZNAME:EST
DTSTART:20271107T060000
END:STANDARD
END:VTIMEZONE
BEGIN:VEVENT
DTSTART;TZID=America/New_York:20260313T213000
DTEND;TZID=America/New_York:20260313T230000
DTSTAMP:20260423T210413
CREATED:20260224T213453Z
LAST-MODIFIED:20260227T210950Z
UID:10014411-1773437400-1773442800@northparktheatre.org
SUMMARY:"Twin Peaks: Season 1" - Episodes 5 & 6
DESCRIPTION:UPDATE: TWIN PEAKS continues March 13th! \nThe search for Laura Palmer’s killer is heating up! \nLocally designed prints at the stand. \n“We’re gonna need some more coffee!” \nStay tuned for more! \n☕☕☕ \nJoin us in 2026 as the North Park enters the town of TWIN PEAKS! \nFor the first time ever\, CBS has licensed David Lynch’s landmark television series for theatrical exhibition\, finally letting us bring some of the director’s greatest work to the big screen. \nWe’ll be showing exclusive ProRes HD masters provided directly by the distributor\, so if you think the mystery of Laura Palmer was an open-and-shut case\, keep your eyes peeled. The big screen has a way of revealing details you may have missed… 🔍 \nMARCH 13th – 16th \nS01E05: “The One-Armed Man”\nS01E06: “Cooper’s Dreams” \nFRI March 13th at 9:30 PM \nSAT March 14th at 11:30 AM \nSAT March 14th at 9:30 PM\nSUN March 15th at 8:45 PM\nMON March 16th at 9:30 PM
URL:https://northparktheatre.org/shows/twin-peaks-season-1-episodes-5-6/2026-03-13/
CATEGORIES:Twin Peaks: Season 1
ATTACH;FMTTYPE=image/jpeg:https://northparktheatre.org/wp-content/uploads/poster-tpseason1.jpg
END:VEVENT
BEGIN:VEVENT
DTSTART;TZID=America/New_York:20260314T113000
DTEND;TZID=America/New_York:20260314T130000
DTSTAMP:20260423T210413
CREATED:20260224T213453Z
LAST-MODIFIED:20260227T210950Z
UID:10014473-1773487800-1773493200@northparktheatre.org
SUMMARY:"Twin Peaks: Season 1" - Episodes 5 & 6
DESCRIPTION:UPDATE: TWIN PEAKS continues March 13th! \nThe search for Laura Palmer’s killer is heating up! \nLocally designed prints at the stand. \n“We’re gonna need some more coffee!” \nStay tuned for more! \n☕☕☕ \nJoin us in 2026 as the North Park enters the town of TWIN PEAKS! \nFor the first time ever\, CBS has licensed David Lynch’s landmark television series for theatrical exhibition\, finally letting us bring some of the director’s greatest work to the big screen. \nWe’ll be showing exclusive ProRes HD masters provided directly by the distributor\, so if you think the mystery of Laura Palmer was an open-and-shut case\, keep your eyes peeled. The big screen has a way of revealing details you may have missed… 🔍 \nMARCH 13th – 16th \nS01E05: “The One-Armed Man”\nS01E06: “Cooper’s Dreams” \nFRI March 13th at 9:30 PM \nSAT March 14th at 11:30 AM \nSAT March 14th at 9:30 PM\nSUN March 15th at 8:45 PM\nMON March 16th at 9:30 PM
URL:https://northparktheatre.org/shows/twin-peaks-season-1-episodes-5-6/2026-03-14/1/
CATEGORIES:Twin Peaks: Season 1
ATTACH;FMTTYPE=image/jpeg:https://northparktheatre.org/wp-content/uploads/poster-tpseason1.jpg
END:VEVENT
BEGIN:VEVENT
DTSTART;TZID=America/New_York:20260314T213000
DTEND;TZID=America/New_York:20260314T230000
DTSTAMP:20260423T210413
CREATED:20260224T213453Z
LAST-MODIFIED:20260227T210950Z
UID:10014412-1773523800-1773529200@northparktheatre.org
SUMMARY:"Twin Peaks: Season 1" - Episodes 5 & 6
DESCRIPTION:UPDATE: TWIN PEAKS continues March 13th! \nThe search for Laura Palmer’s killer is heating up! \nLocally designed prints at the stand. \n“We’re gonna need some more coffee!” \nStay tuned for more! \n☕☕☕ \nJoin us in 2026 as the North Park enters the town of TWIN PEAKS! \nFor the first time ever\, CBS has licensed David Lynch’s landmark television series for theatrical exhibition\, finally letting us bring some of the director’s greatest work to the big screen. \nWe’ll be showing exclusive ProRes HD masters provided directly by the distributor\, so if you think the mystery of Laura Palmer was an open-and-shut case\, keep your eyes peeled. The big screen has a way of revealing details you may have missed… 🔍 \nMARCH 13th – 16th \nS01E05: “The One-Armed Man”\nS01E06: “Cooper’s Dreams” \nFRI March 13th at 9:30 PM \nSAT March 14th at 11:30 AM \nSAT March 14th at 9:30 PM\nSUN March 15th at 8:45 PM\nMON March 16th at 9:30 PM
URL:https://northparktheatre.org/shows/twin-peaks-season-1-episodes-5-6/2026-03-14/2/
CATEGORIES:Twin Peaks: Season 1
ATTACH;FMTTYPE=image/jpeg:https://northparktheatre.org/wp-content/uploads/poster-tpseason1.jpg
END:VEVENT
BEGIN:VEVENT
DTSTART;TZID=America/New_York:20260315T204500
DTEND;TZID=America/New_York:20260315T223000
DTSTAMP:20260423T210413
CREATED:20260224T213453Z
LAST-MODIFIED:20260227T210950Z
UID:10014413-1773607500-1773613800@northparktheatre.org
SUMMARY:"Twin Peaks: Season 1" - Episodes 5 & 6
DESCRIPTION:UPDATE: TWIN PEAKS continues March 13th! \nThe search for Laura Palmer’s killer is heating up! \nLocally designed prints at the stand. \n“We’re gonna need some more coffee!” \nStay tuned for more! \n☕☕☕ \nJoin us in 2026 as the North Park enters the town of TWIN PEAKS! \nFor the first time ever\, CBS has licensed David Lynch’s landmark television series for theatrical exhibition\, finally letting us bring some of the director’s greatest work to the big screen. \nWe’ll be showing exclusive ProRes HD masters provided directly by the distributor\, so if you think the mystery of Laura Palmer was an open-and-shut case\, keep your eyes peeled. The big screen has a way of revealing details you may have missed… 🔍 \nMARCH 13th – 16th \nS01E05: “The One-Armed Man”\nS01E06: “Cooper’s Dreams” \nFRI March 13th at 9:30 PM \nSAT March 14th at 11:30 AM \nSAT March 14th at 9:30 PM\nSUN March 15th at 8:45 PM\nMON March 16th at 9:30 PM
URL:https://northparktheatre.org/shows/twin-peaks-season-1-episodes-5-6/2026-03-15/
CATEGORIES:Twin Peaks: Season 1
ATTACH;FMTTYPE=image/jpeg:https://northparktheatre.org/wp-content/uploads/poster-tpseason1.jpg
END:VEVENT
BEGIN:VEVENT
DTSTART;TZID=America/New_York:20260316T213000
DTEND;TZID=America/New_York:20260316T230000
DTSTAMP:20260423T210413
CREATED:20260224T213453Z
LAST-MODIFIED:20260227T210950Z
UID:10014414-1773696600-1773702000@northparktheatre.org
SUMMARY:"Twin Peaks: Season 1" - Episodes 5 & 6
DESCRIPTION:UPDATE: TWIN PEAKS continues March 13th! \nThe search for Laura Palmer’s killer is heating up! \nLocally designed prints at the stand. \n“We’re gonna need some more coffee!” \nStay tuned for more! \n☕☕☕ \nJoin us in 2026 as the North Park enters the town of TWIN PEAKS! \nFor the first time ever\, CBS has licensed David Lynch’s landmark television series for theatrical exhibition\, finally letting us bring some of the director’s greatest work to the big screen. \nWe’ll be showing exclusive ProRes HD masters provided directly by the distributor\, so if you think the mystery of Laura Palmer was an open-and-shut case\, keep your eyes peeled. The big screen has a way of revealing details you may have missed… 🔍 \nMARCH 13th – 16th \nS01E05: “The One-Armed Man”\nS01E06: “Cooper’s Dreams” \nFRI March 13th at 9:30 PM \nSAT March 14th at 11:30 AM \nSAT March 14th at 9:30 PM\nSUN March 15th at 8:45 PM\nMON March 16th at 9:30 PM
URL:https://northparktheatre.org/shows/twin-peaks-season-1-episodes-5-6/2026-03-16/
CATEGORIES:Twin Peaks: Season 1
ATTACH;FMTTYPE=image/jpeg:https://northparktheatre.org/wp-content/uploads/poster-tpseason1.jpg
END:VEVENT
END:VCALENDAR