BEGIN:VCALENDAR
VERSION:2.0
PRODID:-//North Park Theatre - ECPv6.15.20//NONSGML v1.0//EN
CALSCALE:GREGORIAN
METHOD:PUBLISH
X-WR-CALNAME:North Park Theatre
X-ORIGINAL-URL:https://northparktheatre.org
X-WR-CALDESC:Events for North Park Theatre
REFRESH-INTERVAL;VALUE=DURATION:PT1H
X-Robots-Tag:noindex
X-PUBLISHED-TTL:PT1H
BEGIN:VTIMEZONE
TZID:America/New_York
BEGIN:DAYLIGHT
TZOFFSETFROM:-0500
TZOFFSETTO:-0400
TZNAME:EDT
DTSTART:20250309T070000
END:DAYLIGHT
BEGIN:STANDARD
TZOFFSETFROM:-0400
TZOFFSETTO:-0500
TZNAME:EST
DTSTART:20251102T060000
END:STANDARD
BEGIN:DAYLIGHT
TZOFFSETFROM:-0500
TZOFFSETTO:-0400
TZNAME:EDT
DTSTART:20260308T070000
END:DAYLIGHT
BEGIN:STANDARD
TZOFFSETFROM:-0400
TZOFFSETTO:-0500
TZNAME:EST
DTSTART:20261101T060000
END:STANDARD
BEGIN:DAYLIGHT
TZOFFSETFROM:-0500
TZOFFSETTO:-0400
TZNAME:EDT
DTSTART:20270314T070000
END:DAYLIGHT
BEGIN:STANDARD
TZOFFSETFROM:-0400
TZOFFSETTO:-0500
TZNAME:EST
DTSTART:20271107T060000
END:STANDARD
END:VTIMEZONE
BEGIN:VEVENT
DTSTART;TZID=America/New_York:20260206T220000
DTEND;TZID=America/New_York:20260206T233000
DTSTAMP:20260423T222611
CREATED:20260131T033011Z
LAST-MODIFIED:20260202T202245Z
UID:10014293-1770415200-1770420600@northparktheatre.org
SUMMARY:"Twin Peaks: Season 1" - Episodes 3 & 4
DESCRIPTION:Join us in 2026 as the North Park enters the town of TWIN PEAKS! \nFor the first time ever\, CBS has licensed David Lynch’s landmark television series for theatrical exhibition\, finally letting us bring some of the director’s greatest work to the big screen. \nWe’ll be showing exclusive ProRes HD masters provided directly by the distributor\, so if you think the mystery of Laura Palmer was an open-and-shut case\, keep your eyes peeled. The big screen has a way of revealing details you may have missed… 🔍 \nPlus: On Friday\, we’ll have our neighbors from Spoke and Dagger in our lobby selling damn fine coffee! \nFEBRUARY 6th – FEBRUARY 10th \nS01E03: “Zen\, or the Skill to Catch a Killer”\nS01E04: “Rest in Pain” \nFRI February 6th at 10:00 PM\nSAT February 7th at 11:30 AM\nSAT February 7th at 9:30 PM\nSUN February 7th at 11:30 AM\nSUN February 7th at 9:30 PM\nMON February 7th at 9:30 PM\nTUE February 7th at 9:30 PM
URL:https://northparktheatre.org/shows/twin-peaks-season-1-episodes-3-4/2026-02-06/
CATEGORIES:Twin Peaks: Season 1
ATTACH;FMTTYPE=image/jpeg:https://northparktheatre.org/wp-content/uploads/poster-tpseason1.jpg
END:VEVENT
BEGIN:VEVENT
DTSTART;TZID=America/New_York:20260207T113000
DTEND;TZID=America/New_York:20260207T130000
DTSTAMP:20260423T222611
CREATED:20260131T033011Z
LAST-MODIFIED:20260202T202245Z
UID:10014294-1770463800-1770469200@northparktheatre.org
SUMMARY:"Twin Peaks: Season 1" - Episodes 3 & 4
DESCRIPTION:Join us in 2026 as the North Park enters the town of TWIN PEAKS! \nFor the first time ever\, CBS has licensed David Lynch’s landmark television series for theatrical exhibition\, finally letting us bring some of the director’s greatest work to the big screen. \nWe’ll be showing exclusive ProRes HD masters provided directly by the distributor\, so if you think the mystery of Laura Palmer was an open-and-shut case\, keep your eyes peeled. The big screen has a way of revealing details you may have missed… 🔍 \nPlus: On Friday\, we’ll have our neighbors from Spoke and Dagger in our lobby selling damn fine coffee! \nFEBRUARY 6th – FEBRUARY 10th \nS01E03: “Zen\, or the Skill to Catch a Killer”\nS01E04: “Rest in Pain” \nFRI February 6th at 10:00 PM\nSAT February 7th at 11:30 AM\nSAT February 7th at 9:30 PM\nSUN February 7th at 11:30 AM\nSUN February 7th at 9:30 PM\nMON February 7th at 9:30 PM\nTUE February 7th at 9:30 PM
URL:https://northparktheatre.org/shows/twin-peaks-season-1-episodes-3-4/2026-02-07/1/
CATEGORIES:Twin Peaks: Season 1
ATTACH;FMTTYPE=image/jpeg:https://northparktheatre.org/wp-content/uploads/poster-tpseason1.jpg
END:VEVENT
BEGIN:VEVENT
DTSTART;TZID=America/New_York:20260207T213000
DTEND;TZID=America/New_York:20260207T230000
DTSTAMP:20260423T222611
CREATED:20260131T033011Z
LAST-MODIFIED:20260202T202245Z
UID:10014295-1770499800-1770505200@northparktheatre.org
SUMMARY:"Twin Peaks: Season 1" - Episodes 3 & 4
DESCRIPTION:Join us in 2026 as the North Park enters the town of TWIN PEAKS! \nFor the first time ever\, CBS has licensed David Lynch’s landmark television series for theatrical exhibition\, finally letting us bring some of the director’s greatest work to the big screen. \nWe’ll be showing exclusive ProRes HD masters provided directly by the distributor\, so if you think the mystery of Laura Palmer was an open-and-shut case\, keep your eyes peeled. The big screen has a way of revealing details you may have missed… 🔍 \nPlus: On Friday\, we’ll have our neighbors from Spoke and Dagger in our lobby selling damn fine coffee! \nFEBRUARY 6th – FEBRUARY 10th \nS01E03: “Zen\, or the Skill to Catch a Killer”\nS01E04: “Rest in Pain” \nFRI February 6th at 10:00 PM\nSAT February 7th at 11:30 AM\nSAT February 7th at 9:30 PM\nSUN February 7th at 11:30 AM\nSUN February 7th at 9:30 PM\nMON February 7th at 9:30 PM\nTUE February 7th at 9:30 PM
URL:https://northparktheatre.org/shows/twin-peaks-season-1-episodes-3-4/2026-02-07/2/
CATEGORIES:Twin Peaks: Season 1
ATTACH;FMTTYPE=image/jpeg:https://northparktheatre.org/wp-content/uploads/poster-tpseason1.jpg
END:VEVENT
BEGIN:VEVENT
DTSTART;TZID=America/New_York:20260208T113000
DTEND;TZID=America/New_York:20260208T130000
DTSTAMP:20260423T222611
CREATED:20260131T033011Z
LAST-MODIFIED:20260202T202245Z
UID:10014296-1770550200-1770555600@northparktheatre.org
SUMMARY:"Twin Peaks: Season 1" - Episodes 3 & 4
DESCRIPTION:Join us in 2026 as the North Park enters the town of TWIN PEAKS! \nFor the first time ever\, CBS has licensed David Lynch’s landmark television series for theatrical exhibition\, finally letting us bring some of the director’s greatest work to the big screen. \nWe’ll be showing exclusive ProRes HD masters provided directly by the distributor\, so if you think the mystery of Laura Palmer was an open-and-shut case\, keep your eyes peeled. The big screen has a way of revealing details you may have missed… 🔍 \nPlus: On Friday\, we’ll have our neighbors from Spoke and Dagger in our lobby selling damn fine coffee! \nFEBRUARY 6th – FEBRUARY 10th \nS01E03: “Zen\, or the Skill to Catch a Killer”\nS01E04: “Rest in Pain” \nFRI February 6th at 10:00 PM\nSAT February 7th at 11:30 AM\nSAT February 7th at 9:30 PM\nSUN February 7th at 11:30 AM\nSUN February 7th at 9:30 PM\nMON February 7th at 9:30 PM\nTUE February 7th at 9:30 PM
URL:https://northparktheatre.org/shows/twin-peaks-season-1-episodes-3-4/2026-02-08/1/
CATEGORIES:Twin Peaks: Season 1
ATTACH;FMTTYPE=image/jpeg:https://northparktheatre.org/wp-content/uploads/poster-tpseason1.jpg
END:VEVENT
BEGIN:VEVENT
DTSTART;TZID=America/New_York:20260208T213000
DTEND;TZID=America/New_York:20260208T230000
DTSTAMP:20260423T222611
CREATED:20260131T033011Z
LAST-MODIFIED:20260202T202245Z
UID:10014297-1770586200-1770591600@northparktheatre.org
SUMMARY:"Twin Peaks: Season 1" - Episodes 3 & 4
DESCRIPTION:Join us in 2026 as the North Park enters the town of TWIN PEAKS! \nFor the first time ever\, CBS has licensed David Lynch’s landmark television series for theatrical exhibition\, finally letting us bring some of the director’s greatest work to the big screen. \nWe’ll be showing exclusive ProRes HD masters provided directly by the distributor\, so if you think the mystery of Laura Palmer was an open-and-shut case\, keep your eyes peeled. The big screen has a way of revealing details you may have missed… 🔍 \nPlus: On Friday\, we’ll have our neighbors from Spoke and Dagger in our lobby selling damn fine coffee! \nFEBRUARY 6th – FEBRUARY 10th \nS01E03: “Zen\, or the Skill to Catch a Killer”\nS01E04: “Rest in Pain” \nFRI February 6th at 10:00 PM\nSAT February 7th at 11:30 AM\nSAT February 7th at 9:30 PM\nSUN February 7th at 11:30 AM\nSUN February 7th at 9:30 PM\nMON February 7th at 9:30 PM\nTUE February 7th at 9:30 PM
URL:https://northparktheatre.org/shows/twin-peaks-season-1-episodes-3-4/2026-02-08/2/
CATEGORIES:Twin Peaks: Season 1
ATTACH;FMTTYPE=image/jpeg:https://northparktheatre.org/wp-content/uploads/poster-tpseason1.jpg
END:VEVENT
BEGIN:VEVENT
DTSTART;TZID=America/New_York:20260209T213000
DTEND;TZID=America/New_York:20260209T230000
DTSTAMP:20260423T222611
CREATED:20260131T033011Z
LAST-MODIFIED:20260202T202245Z
UID:10014298-1770672600-1770678000@northparktheatre.org
SUMMARY:"Twin Peaks: Season 1" - Episodes 3 & 4
DESCRIPTION:Join us in 2026 as the North Park enters the town of TWIN PEAKS! \nFor the first time ever\, CBS has licensed David Lynch’s landmark television series for theatrical exhibition\, finally letting us bring some of the director’s greatest work to the big screen. \nWe’ll be showing exclusive ProRes HD masters provided directly by the distributor\, so if you think the mystery of Laura Palmer was an open-and-shut case\, keep your eyes peeled. The big screen has a way of revealing details you may have missed… 🔍 \nPlus: On Friday\, we’ll have our neighbors from Spoke and Dagger in our lobby selling damn fine coffee! \nFEBRUARY 6th – FEBRUARY 10th \nS01E03: “Zen\, or the Skill to Catch a Killer”\nS01E04: “Rest in Pain” \nFRI February 6th at 10:00 PM\nSAT February 7th at 11:30 AM\nSAT February 7th at 9:30 PM\nSUN February 7th at 11:30 AM\nSUN February 7th at 9:30 PM\nMON February 7th at 9:30 PM\nTUE February 7th at 9:30 PM
URL:https://northparktheatre.org/shows/twin-peaks-season-1-episodes-3-4/2026-02-09/
CATEGORIES:Twin Peaks: Season 1
ATTACH;FMTTYPE=image/jpeg:https://northparktheatre.org/wp-content/uploads/poster-tpseason1.jpg
END:VEVENT
BEGIN:VEVENT
DTSTART;TZID=America/New_York:20260210T213000
DTEND;TZID=America/New_York:20260210T230000
DTSTAMP:20260423T222611
CREATED:20260131T033011Z
LAST-MODIFIED:20260202T202245Z
UID:10014299-1770759000-1770764400@northparktheatre.org
SUMMARY:"Twin Peaks: Season 1" - Episodes 3 & 4
DESCRIPTION:Join us in 2026 as the North Park enters the town of TWIN PEAKS! \nFor the first time ever\, CBS has licensed David Lynch’s landmark television series for theatrical exhibition\, finally letting us bring some of the director’s greatest work to the big screen. \nWe’ll be showing exclusive ProRes HD masters provided directly by the distributor\, so if you think the mystery of Laura Palmer was an open-and-shut case\, keep your eyes peeled. The big screen has a way of revealing details you may have missed… 🔍 \nPlus: On Friday\, we’ll have our neighbors from Spoke and Dagger in our lobby selling damn fine coffee! \nFEBRUARY 6th – FEBRUARY 10th \nS01E03: “Zen\, or the Skill to Catch a Killer”\nS01E04: “Rest in Pain” \nFRI February 6th at 10:00 PM\nSAT February 7th at 11:30 AM\nSAT February 7th at 9:30 PM\nSUN February 7th at 11:30 AM\nSUN February 7th at 9:30 PM\nMON February 7th at 9:30 PM\nTUE February 7th at 9:30 PM
URL:https://northparktheatre.org/shows/twin-peaks-season-1-episodes-3-4/2026-02-10/
CATEGORIES:Twin Peaks: Season 1
ATTACH;FMTTYPE=image/jpeg:https://northparktheatre.org/wp-content/uploads/poster-tpseason1.jpg
END:VEVENT
END:VCALENDAR