BEGIN:VCALENDAR
VERSION:2.0
PRODID:-//North Park Theatre - ECPv6.15.20//NONSGML v1.0//EN
CALSCALE:GREGORIAN
METHOD:PUBLISH
X-WR-CALNAME:North Park Theatre
X-ORIGINAL-URL:https://northparktheatre.org
X-WR-CALDESC:Events for North Park Theatre
REFRESH-INTERVAL;VALUE=DURATION:PT1H
X-Robots-Tag:noindex
X-PUBLISHED-TTL:PT1H
BEGIN:VTIMEZONE
TZID:America/New_York
BEGIN:DAYLIGHT
TZOFFSETFROM:-0500
TZOFFSETTO:-0400
TZNAME:EDT
DTSTART:20240310T070000
END:DAYLIGHT
BEGIN:STANDARD
TZOFFSETFROM:-0400
TZOFFSETTO:-0500
TZNAME:EST
DTSTART:20241103T060000
END:STANDARD
BEGIN:DAYLIGHT
TZOFFSETFROM:-0500
TZOFFSETTO:-0400
TZNAME:EDT
DTSTART:20250309T070000
END:DAYLIGHT
BEGIN:STANDARD
TZOFFSETFROM:-0400
TZOFFSETTO:-0500
TZNAME:EST
DTSTART:20251102T060000
END:STANDARD
BEGIN:DAYLIGHT
TZOFFSETFROM:-0500
TZOFFSETTO:-0400
TZNAME:EDT
DTSTART:20260308T070000
END:DAYLIGHT
BEGIN:STANDARD
TZOFFSETFROM:-0400
TZOFFSETTO:-0500
TZNAME:EST
DTSTART:20261101T060000
END:STANDARD
END:VTIMEZONE
BEGIN:VEVENT
DTSTART;TZID=America/New_York:20250509T190000
DTEND;TZID=America/New_York:20250509T210000
DTSTAMP:20260425T101648
CREATED:20250508T140257Z
LAST-MODIFIED:20250513T010950Z
UID:10009352-1746817200-1746824400@northparktheatre.org
SUMMARY:"The Shrouds" (dir. David Cronenberg)
DESCRIPTION:“Its morgue-like coldness eventually reveals itself to be deeply comforting to some degree — if not while you’re watching it\, then perhaps as its big ideas begin to seep into your bone marrow during the days and weeks that follow.”\n— David Ehrlich\, INDIEWIRE \n“With The Shrouds\, the filmmaker — not only one of Canada’s greatest creations\, but cinema’s\, too — has delivered what might be his career-defining masterpiece.”\n— GLOBE AND MAIL \n“A Cronenbergian body horror of integrity and force.”\n— RogerEbert.com \n \nGet tickets HERE. \nIn an eerie\, deceptively placid near-future\, a techno-entrepreneur named Karsh (Vincent Cassel) has developed a new software that will allow the bereaved to bear witness to the gradual decay of loved ones dead and buried in the earth. \nWhile Karsh is still reeling from the loss of his wife (Diane Kruger) from cancer—and falling into a peculiar sexual relationship with his wife’s sister (also Kruger)—a spate of vandalized graves utilizing his “shroud” technology begins to put his enterprise at risk\, leading him to uncover a potentially vast conspiracy.  \nWritten following the death of the director’s wife\, the new film from David Cronenberg is both a profoundly personal reckoning with grief and a descent into noir-tinged dystopia\, set in an ominous world of self-driving cars\, data theft\, and A.I. personal assistants. Offering Cronenberg’s customary balance of malevolence and wit\, The Shrouds is a sly and thought-provoking consideration of the corporeal and the digital\, the mortal and the infinite.
URL:https://northparktheatre.org/shows/the-shrouds-dir-david-cronenberg/2025-05-09/1/
CATEGORIES:The Shrouds
ATTACH;FMTTYPE=image/jpeg:https://northparktheatre.org/wp-content/uploads/poster-shrouds.jpg
END:VEVENT
BEGIN:VEVENT
DTSTART;TZID=America/New_York:20250509T214000
DTEND;TZID=America/New_York:20250509T233000
DTSTAMP:20260425T101648
CREATED:20250508T140257Z
LAST-MODIFIED:20250513T010950Z
UID:10009380-1746826800-1746833400@northparktheatre.org
SUMMARY:"The Shrouds" (dir. David Cronenberg)
DESCRIPTION:“Its morgue-like coldness eventually reveals itself to be deeply comforting to some degree — if not while you’re watching it\, then perhaps as its big ideas begin to seep into your bone marrow during the days and weeks that follow.”\n— David Ehrlich\, INDIEWIRE \n“With The Shrouds\, the filmmaker — not only one of Canada’s greatest creations\, but cinema’s\, too — has delivered what might be his career-defining masterpiece.”\n— GLOBE AND MAIL \n“A Cronenbergian body horror of integrity and force.”\n— RogerEbert.com \n \nGet tickets HERE. \nIn an eerie\, deceptively placid near-future\, a techno-entrepreneur named Karsh (Vincent Cassel) has developed a new software that will allow the bereaved to bear witness to the gradual decay of loved ones dead and buried in the earth. \nWhile Karsh is still reeling from the loss of his wife (Diane Kruger) from cancer—and falling into a peculiar sexual relationship with his wife’s sister (also Kruger)—a spate of vandalized graves utilizing his “shroud” technology begins to put his enterprise at risk\, leading him to uncover a potentially vast conspiracy.  \nWritten following the death of the director’s wife\, the new film from David Cronenberg is both a profoundly personal reckoning with grief and a descent into noir-tinged dystopia\, set in an ominous world of self-driving cars\, data theft\, and A.I. personal assistants. Offering Cronenberg’s customary balance of malevolence and wit\, The Shrouds is a sly and thought-provoking consideration of the corporeal and the digital\, the mortal and the infinite.
URL:https://northparktheatre.org/shows/the-shrouds-dir-david-cronenberg/2025-05-09/3/
CATEGORIES:The Shrouds
ATTACH;FMTTYPE=image/jpeg:https://northparktheatre.org/wp-content/uploads/poster-shrouds.jpg
END:VEVENT
BEGIN:VEVENT
DTSTART;TZID=America/New_York:20250510T190000
DTEND;TZID=America/New_York:20250510T210000
DTSTAMP:20260425T101648
CREATED:20250508T140257Z
LAST-MODIFIED:20250513T010950Z
UID:10009354-1746903600-1746910800@northparktheatre.org
SUMMARY:"The Shrouds" (dir. David Cronenberg)
DESCRIPTION:“Its morgue-like coldness eventually reveals itself to be deeply comforting to some degree — if not while you’re watching it\, then perhaps as its big ideas begin to seep into your bone marrow during the days and weeks that follow.”\n— David Ehrlich\, INDIEWIRE \n“With The Shrouds\, the filmmaker — not only one of Canada’s greatest creations\, but cinema’s\, too — has delivered what might be his career-defining masterpiece.”\n— GLOBE AND MAIL \n“A Cronenbergian body horror of integrity and force.”\n— RogerEbert.com \n \nGet tickets HERE. \nIn an eerie\, deceptively placid near-future\, a techno-entrepreneur named Karsh (Vincent Cassel) has developed a new software that will allow the bereaved to bear witness to the gradual decay of loved ones dead and buried in the earth. \nWhile Karsh is still reeling from the loss of his wife (Diane Kruger) from cancer—and falling into a peculiar sexual relationship with his wife’s sister (also Kruger)—a spate of vandalized graves utilizing his “shroud” technology begins to put his enterprise at risk\, leading him to uncover a potentially vast conspiracy.  \nWritten following the death of the director’s wife\, the new film from David Cronenberg is both a profoundly personal reckoning with grief and a descent into noir-tinged dystopia\, set in an ominous world of self-driving cars\, data theft\, and A.I. personal assistants. Offering Cronenberg’s customary balance of malevolence and wit\, The Shrouds is a sly and thought-provoking consideration of the corporeal and the digital\, the mortal and the infinite.
URL:https://northparktheatre.org/shows/the-shrouds-dir-david-cronenberg/2025-05-10/1/
CATEGORIES:The Shrouds
ATTACH;FMTTYPE=image/jpeg:https://northparktheatre.org/wp-content/uploads/poster-shrouds.jpg
END:VEVENT
BEGIN:VEVENT
DTSTART;TZID=America/New_York:20250510T214000
DTEND;TZID=America/New_York:20250510T233000
DTSTAMP:20260425T101648
CREATED:20250508T140257Z
LAST-MODIFIED:20250513T010950Z
UID:10009381-1746913200-1746919800@northparktheatre.org
SUMMARY:"The Shrouds" (dir. David Cronenberg)
DESCRIPTION:“Its morgue-like coldness eventually reveals itself to be deeply comforting to some degree — if not while you’re watching it\, then perhaps as its big ideas begin to seep into your bone marrow during the days and weeks that follow.”\n— David Ehrlich\, INDIEWIRE \n“With The Shrouds\, the filmmaker — not only one of Canada’s greatest creations\, but cinema’s\, too — has delivered what might be his career-defining masterpiece.”\n— GLOBE AND MAIL \n“A Cronenbergian body horror of integrity and force.”\n— RogerEbert.com \n \nGet tickets HERE. \nIn an eerie\, deceptively placid near-future\, a techno-entrepreneur named Karsh (Vincent Cassel) has developed a new software that will allow the bereaved to bear witness to the gradual decay of loved ones dead and buried in the earth. \nWhile Karsh is still reeling from the loss of his wife (Diane Kruger) from cancer—and falling into a peculiar sexual relationship with his wife’s sister (also Kruger)—a spate of vandalized graves utilizing his “shroud” technology begins to put his enterprise at risk\, leading him to uncover a potentially vast conspiracy.  \nWritten following the death of the director’s wife\, the new film from David Cronenberg is both a profoundly personal reckoning with grief and a descent into noir-tinged dystopia\, set in an ominous world of self-driving cars\, data theft\, and A.I. personal assistants. Offering Cronenberg’s customary balance of malevolence and wit\, The Shrouds is a sly and thought-provoking consideration of the corporeal and the digital\, the mortal and the infinite.
URL:https://northparktheatre.org/shows/the-shrouds-dir-david-cronenberg/2025-05-10/3/
CATEGORIES:The Shrouds
ATTACH;FMTTYPE=image/jpeg:https://northparktheatre.org/wp-content/uploads/poster-shrouds.jpg
END:VEVENT
BEGIN:VEVENT
DTSTART;TZID=America/New_York:20250511T214000
DTEND;TZID=America/New_York:20250511T233000
DTSTAMP:20260425T101648
CREATED:20250508T140257Z
LAST-MODIFIED:20250513T010950Z
UID:10009382-1746999600-1747006200@northparktheatre.org
SUMMARY:"The Shrouds" (dir. David Cronenberg)
DESCRIPTION:“Its morgue-like coldness eventually reveals itself to be deeply comforting to some degree — if not while you’re watching it\, then perhaps as its big ideas begin to seep into your bone marrow during the days and weeks that follow.”\n— David Ehrlich\, INDIEWIRE \n“With The Shrouds\, the filmmaker — not only one of Canada’s greatest creations\, but cinema’s\, too — has delivered what might be his career-defining masterpiece.”\n— GLOBE AND MAIL \n“A Cronenbergian body horror of integrity and force.”\n— RogerEbert.com \n \nGet tickets HERE. \nIn an eerie\, deceptively placid near-future\, a techno-entrepreneur named Karsh (Vincent Cassel) has developed a new software that will allow the bereaved to bear witness to the gradual decay of loved ones dead and buried in the earth. \nWhile Karsh is still reeling from the loss of his wife (Diane Kruger) from cancer—and falling into a peculiar sexual relationship with his wife’s sister (also Kruger)—a spate of vandalized graves utilizing his “shroud” technology begins to put his enterprise at risk\, leading him to uncover a potentially vast conspiracy.  \nWritten following the death of the director’s wife\, the new film from David Cronenberg is both a profoundly personal reckoning with grief and a descent into noir-tinged dystopia\, set in an ominous world of self-driving cars\, data theft\, and A.I. personal assistants. Offering Cronenberg’s customary balance of malevolence and wit\, The Shrouds is a sly and thought-provoking consideration of the corporeal and the digital\, the mortal and the infinite.
URL:https://northparktheatre.org/shows/the-shrouds-dir-david-cronenberg/2025-05-11/
CATEGORIES:The Shrouds
ATTACH;FMTTYPE=image/jpeg:https://northparktheatre.org/wp-content/uploads/poster-shrouds.jpg
END:VEVENT
BEGIN:VEVENT
DTSTART;TZID=America/New_York:20250512T214000
DTEND;TZID=America/New_York:20250512T233000
DTSTAMP:20260425T101648
CREATED:20250508T140257Z
LAST-MODIFIED:20250513T010950Z
UID:10009383-1747086000-1747092600@northparktheatre.org
SUMMARY:"The Shrouds" (dir. David Cronenberg)
DESCRIPTION:“Its morgue-like coldness eventually reveals itself to be deeply comforting to some degree — if not while you’re watching it\, then perhaps as its big ideas begin to seep into your bone marrow during the days and weeks that follow.”\n— David Ehrlich\, INDIEWIRE \n“With The Shrouds\, the filmmaker — not only one of Canada’s greatest creations\, but cinema’s\, too — has delivered what might be his career-defining masterpiece.”\n— GLOBE AND MAIL \n“A Cronenbergian body horror of integrity and force.”\n— RogerEbert.com \n \nGet tickets HERE. \nIn an eerie\, deceptively placid near-future\, a techno-entrepreneur named Karsh (Vincent Cassel) has developed a new software that will allow the bereaved to bear witness to the gradual decay of loved ones dead and buried in the earth. \nWhile Karsh is still reeling from the loss of his wife (Diane Kruger) from cancer—and falling into a peculiar sexual relationship with his wife’s sister (also Kruger)—a spate of vandalized graves utilizing his “shroud” technology begins to put his enterprise at risk\, leading him to uncover a potentially vast conspiracy.  \nWritten following the death of the director’s wife\, the new film from David Cronenberg is both a profoundly personal reckoning with grief and a descent into noir-tinged dystopia\, set in an ominous world of self-driving cars\, data theft\, and A.I. personal assistants. Offering Cronenberg’s customary balance of malevolence and wit\, The Shrouds is a sly and thought-provoking consideration of the corporeal and the digital\, the mortal and the infinite.
URL:https://northparktheatre.org/shows/the-shrouds-dir-david-cronenberg/2025-05-12/
CATEGORIES:The Shrouds
ATTACH;FMTTYPE=image/jpeg:https://northparktheatre.org/wp-content/uploads/poster-shrouds.jpg
END:VEVENT
BEGIN:VEVENT
DTSTART;TZID=America/New_York:20250513T214000
DTEND;TZID=America/New_York:20250513T233000
DTSTAMP:20260425T101648
CREATED:20250508T140257Z
LAST-MODIFIED:20250513T010950Z
UID:10009384-1747172400-1747179000@northparktheatre.org
SUMMARY:"The Shrouds" (dir. David Cronenberg)
DESCRIPTION:“Its morgue-like coldness eventually reveals itself to be deeply comforting to some degree — if not while you’re watching it\, then perhaps as its big ideas begin to seep into your bone marrow during the days and weeks that follow.”\n— David Ehrlich\, INDIEWIRE \n“With The Shrouds\, the filmmaker — not only one of Canada’s greatest creations\, but cinema’s\, too — has delivered what might be his career-defining masterpiece.”\n— GLOBE AND MAIL \n“A Cronenbergian body horror of integrity and force.”\n— RogerEbert.com \n \nGet tickets HERE. \nIn an eerie\, deceptively placid near-future\, a techno-entrepreneur named Karsh (Vincent Cassel) has developed a new software that will allow the bereaved to bear witness to the gradual decay of loved ones dead and buried in the earth. \nWhile Karsh is still reeling from the loss of his wife (Diane Kruger) from cancer—and falling into a peculiar sexual relationship with his wife’s sister (also Kruger)—a spate of vandalized graves utilizing his “shroud” technology begins to put his enterprise at risk\, leading him to uncover a potentially vast conspiracy.  \nWritten following the death of the director’s wife\, the new film from David Cronenberg is both a profoundly personal reckoning with grief and a descent into noir-tinged dystopia\, set in an ominous world of self-driving cars\, data theft\, and A.I. personal assistants. Offering Cronenberg’s customary balance of malevolence and wit\, The Shrouds is a sly and thought-provoking consideration of the corporeal and the digital\, the mortal and the infinite.
URL:https://northparktheatre.org/shows/the-shrouds-dir-david-cronenberg/2025-05-13/
CATEGORIES:The Shrouds
ATTACH;FMTTYPE=image/jpeg:https://northparktheatre.org/wp-content/uploads/poster-shrouds.jpg
END:VEVENT
BEGIN:VEVENT
DTSTART;TZID=America/New_York:20250514T190000
DTEND;TZID=America/New_York:20250514T210000
DTSTAMP:20260425T101648
CREATED:20250508T140257Z
LAST-MODIFIED:20250513T010950Z
UID:10009359-1747249200-1747256400@northparktheatre.org
SUMMARY:"The Shrouds" (dir. David Cronenberg)
DESCRIPTION:“Its morgue-like coldness eventually reveals itself to be deeply comforting to some degree — if not while you’re watching it\, then perhaps as its big ideas begin to seep into your bone marrow during the days and weeks that follow.”\n— David Ehrlich\, INDIEWIRE \n“With The Shrouds\, the filmmaker — not only one of Canada’s greatest creations\, but cinema’s\, too — has delivered what might be his career-defining masterpiece.”\n— GLOBE AND MAIL \n“A Cronenbergian body horror of integrity and force.”\n— RogerEbert.com \n \nGet tickets HERE. \nIn an eerie\, deceptively placid near-future\, a techno-entrepreneur named Karsh (Vincent Cassel) has developed a new software that will allow the bereaved to bear witness to the gradual decay of loved ones dead and buried in the earth. \nWhile Karsh is still reeling from the loss of his wife (Diane Kruger) from cancer—and falling into a peculiar sexual relationship with his wife’s sister (also Kruger)—a spate of vandalized graves utilizing his “shroud” technology begins to put his enterprise at risk\, leading him to uncover a potentially vast conspiracy.  \nWritten following the death of the director’s wife\, the new film from David Cronenberg is both a profoundly personal reckoning with grief and a descent into noir-tinged dystopia\, set in an ominous world of self-driving cars\, data theft\, and A.I. personal assistants. Offering Cronenberg’s customary balance of malevolence and wit\, The Shrouds is a sly and thought-provoking consideration of the corporeal and the digital\, the mortal and the infinite.
URL:https://northparktheatre.org/shows/the-shrouds-dir-david-cronenberg/2025-05-14/1/
CATEGORIES:The Shrouds
ATTACH;FMTTYPE=image/jpeg:https://northparktheatre.org/wp-content/uploads/poster-shrouds.jpg
END:VEVENT
BEGIN:VEVENT
DTSTART;TZID=America/New_York:20250514T214000
DTEND;TZID=America/New_York:20250514T233000
DTSTAMP:20260425T101648
CREATED:20250508T140257Z
LAST-MODIFIED:20250513T010950Z
UID:10009385-1747258800-1747265400@northparktheatre.org
SUMMARY:"The Shrouds" (dir. David Cronenberg)
DESCRIPTION:“Its morgue-like coldness eventually reveals itself to be deeply comforting to some degree — if not while you’re watching it\, then perhaps as its big ideas begin to seep into your bone marrow during the days and weeks that follow.”\n— David Ehrlich\, INDIEWIRE \n“With The Shrouds\, the filmmaker — not only one of Canada’s greatest creations\, but cinema’s\, too — has delivered what might be his career-defining masterpiece.”\n— GLOBE AND MAIL \n“A Cronenbergian body horror of integrity and force.”\n— RogerEbert.com \n \nGet tickets HERE. \nIn an eerie\, deceptively placid near-future\, a techno-entrepreneur named Karsh (Vincent Cassel) has developed a new software that will allow the bereaved to bear witness to the gradual decay of loved ones dead and buried in the earth. \nWhile Karsh is still reeling from the loss of his wife (Diane Kruger) from cancer—and falling into a peculiar sexual relationship with his wife’s sister (also Kruger)—a spate of vandalized graves utilizing his “shroud” technology begins to put his enterprise at risk\, leading him to uncover a potentially vast conspiracy.  \nWritten following the death of the director’s wife\, the new film from David Cronenberg is both a profoundly personal reckoning with grief and a descent into noir-tinged dystopia\, set in an ominous world of self-driving cars\, data theft\, and A.I. personal assistants. Offering Cronenberg’s customary balance of malevolence and wit\, The Shrouds is a sly and thought-provoking consideration of the corporeal and the digital\, the mortal and the infinite.
URL:https://northparktheatre.org/shows/the-shrouds-dir-david-cronenberg/2025-05-14/3/
CATEGORIES:The Shrouds
ATTACH;FMTTYPE=image/jpeg:https://northparktheatre.org/wp-content/uploads/poster-shrouds.jpg
END:VEVENT
BEGIN:VEVENT
DTSTART;TZID=America/New_York:20250515T190000
DTEND;TZID=America/New_York:20250515T210000
DTSTAMP:20260425T101648
CREATED:20250508T140257Z
LAST-MODIFIED:20250513T010950Z
UID:10009361-1747335600-1747342800@northparktheatre.org
SUMMARY:"The Shrouds" (dir. David Cronenberg)
DESCRIPTION:“Its morgue-like coldness eventually reveals itself to be deeply comforting to some degree — if not while you’re watching it\, then perhaps as its big ideas begin to seep into your bone marrow during the days and weeks that follow.”\n— David Ehrlich\, INDIEWIRE \n“With The Shrouds\, the filmmaker — not only one of Canada’s greatest creations\, but cinema’s\, too — has delivered what might be his career-defining masterpiece.”\n— GLOBE AND MAIL \n“A Cronenbergian body horror of integrity and force.”\n— RogerEbert.com \n \nGet tickets HERE. \nIn an eerie\, deceptively placid near-future\, a techno-entrepreneur named Karsh (Vincent Cassel) has developed a new software that will allow the bereaved to bear witness to the gradual decay of loved ones dead and buried in the earth. \nWhile Karsh is still reeling from the loss of his wife (Diane Kruger) from cancer—and falling into a peculiar sexual relationship with his wife’s sister (also Kruger)—a spate of vandalized graves utilizing his “shroud” technology begins to put his enterprise at risk\, leading him to uncover a potentially vast conspiracy.  \nWritten following the death of the director’s wife\, the new film from David Cronenberg is both a profoundly personal reckoning with grief and a descent into noir-tinged dystopia\, set in an ominous world of self-driving cars\, data theft\, and A.I. personal assistants. Offering Cronenberg’s customary balance of malevolence and wit\, The Shrouds is a sly and thought-provoking consideration of the corporeal and the digital\, the mortal and the infinite.
URL:https://northparktheatre.org/shows/the-shrouds-dir-david-cronenberg/2025-05-15/1/
CATEGORIES:The Shrouds
ATTACH;FMTTYPE=image/jpeg:https://northparktheatre.org/wp-content/uploads/poster-shrouds.jpg
END:VEVENT
BEGIN:VEVENT
DTSTART;TZID=America/New_York:20250515T214000
DTEND;TZID=America/New_York:20250515T233000
DTSTAMP:20260425T101648
CREATED:20250508T140257Z
LAST-MODIFIED:20250513T010950Z
UID:10009386-1747345200-1747351800@northparktheatre.org
SUMMARY:"The Shrouds" (dir. David Cronenberg)
DESCRIPTION:“Its morgue-like coldness eventually reveals itself to be deeply comforting to some degree — if not while you’re watching it\, then perhaps as its big ideas begin to seep into your bone marrow during the days and weeks that follow.”\n— David Ehrlich\, INDIEWIRE \n“With The Shrouds\, the filmmaker — not only one of Canada’s greatest creations\, but cinema’s\, too — has delivered what might be his career-defining masterpiece.”\n— GLOBE AND MAIL \n“A Cronenbergian body horror of integrity and force.”\n— RogerEbert.com \n \nGet tickets HERE. \nIn an eerie\, deceptively placid near-future\, a techno-entrepreneur named Karsh (Vincent Cassel) has developed a new software that will allow the bereaved to bear witness to the gradual decay of loved ones dead and buried in the earth. \nWhile Karsh is still reeling from the loss of his wife (Diane Kruger) from cancer—and falling into a peculiar sexual relationship with his wife’s sister (also Kruger)—a spate of vandalized graves utilizing his “shroud” technology begins to put his enterprise at risk\, leading him to uncover a potentially vast conspiracy.  \nWritten following the death of the director’s wife\, the new film from David Cronenberg is both a profoundly personal reckoning with grief and a descent into noir-tinged dystopia\, set in an ominous world of self-driving cars\, data theft\, and A.I. personal assistants. Offering Cronenberg’s customary balance of malevolence and wit\, The Shrouds is a sly and thought-provoking consideration of the corporeal and the digital\, the mortal and the infinite.
URL:https://northparktheatre.org/shows/the-shrouds-dir-david-cronenberg/2025-05-15/3/
CATEGORIES:The Shrouds
ATTACH;FMTTYPE=image/jpeg:https://northparktheatre.org/wp-content/uploads/poster-shrouds.jpg
END:VEVENT
END:VCALENDAR