BEGIN:VCALENDAR
VERSION:2.0
PRODID:-//North Park Theatre - ECPv6.15.20//NONSGML v1.0//EN
CALSCALE:GREGORIAN
METHOD:PUBLISH
X-WR-CALNAME:North Park Theatre
X-ORIGINAL-URL:https://northparktheatre.org
X-WR-CALDESC:Events for North Park Theatre
REFRESH-INTERVAL;VALUE=DURATION:PT1H
X-Robots-Tag:noindex
X-PUBLISHED-TTL:PT1H
BEGIN:VTIMEZONE
TZID:America/New_York
BEGIN:DAYLIGHT
TZOFFSETFROM:-0500
TZOFFSETTO:-0400
TZNAME:EDT
DTSTART:20240310T070000
END:DAYLIGHT
BEGIN:STANDARD
TZOFFSETFROM:-0400
TZOFFSETTO:-0500
TZNAME:EST
DTSTART:20241103T060000
END:STANDARD
BEGIN:DAYLIGHT
TZOFFSETFROM:-0500
TZOFFSETTO:-0400
TZNAME:EDT
DTSTART:20250309T070000
END:DAYLIGHT
BEGIN:STANDARD
TZOFFSETFROM:-0400
TZOFFSETTO:-0500
TZNAME:EST
DTSTART:20251102T060000
END:STANDARD
BEGIN:DAYLIGHT
TZOFFSETFROM:-0500
TZOFFSETTO:-0400
TZNAME:EDT
DTSTART:20260308T070000
END:DAYLIGHT
BEGIN:STANDARD
TZOFFSETFROM:-0400
TZOFFSETTO:-0500
TZNAME:EST
DTSTART:20261101T060000
END:STANDARD
END:VTIMEZONE
BEGIN:VEVENT
DTSTART;TZID=America/New_York:20250829T140000
DTEND;TZID=America/New_York:20250829T160000
DTSTAMP:20260425T181806
CREATED:20250820T113149Z
LAST-MODIFIED:20250906T203931Z
UID:10010768-1756476000-1756483200@northparktheatre.org
SUMMARY:"The Roses"
DESCRIPTION:Starring Olivia Colman and Benedict Cumberbatch\, THE ROSES is a reimagining of the 1989 classic film THE WAR OF THE ROSES\, based on the novel by Warren Adler. \n \nStarts August 29th! \nGet tickets HERE. \nLife seems easy for picture-perfect couple Ivy (Olivia Colman) and Theo (Benedict Cumberbatch): successful careers\, a loving marriage\, great kids. But beneath the façade of their supposed ideal life\, a storm is brewing – as Theo’s career nosedives while Ivy’s own ambitions take off\, a tinderbox of fierce competition and hidden resentment ignites.
URL:https://northparktheatre.org/shows/the-roses/2025-08-29/
CATEGORIES:The Roses
ATTACH;FMTTYPE=image/jpeg:https://northparktheatre.org/wp-content/uploads/poster-roses.jpg
END:VEVENT
BEGIN:VEVENT
DTSTART;TZID=America/New_York:20250829T163000
DTEND;TZID=America/New_York:20250829T180000
DTSTAMP:20260425T181806
CREATED:20250820T113257Z
LAST-MODIFIED:20250906T204022Z
UID:10010781-1756485000-1756490400@northparktheatre.org
SUMMARY:"The Roses"
DESCRIPTION:Starring Olivia Colman and Benedict Cumberbatch\, THE ROSES is a reimagining of the 1989 classic film THE WAR OF THE ROSES\, based on the novel by Warren Adler. \n \nStarts August 29th! \nGet tickets HERE. \nLife seems easy for picture-perfect couple Ivy (Olivia Colman) and Theo (Benedict Cumberbatch): successful careers\, a loving marriage\, great kids. But beneath the façade of their supposed ideal life\, a storm is brewing – as Theo’s career nosedives while Ivy’s own ambitions take off\, a tinderbox of fierce competition and hidden resentment ignites.
URL:https://northparktheatre.org/shows/the-roses-2/2025-08-29/
CATEGORIES:The Roses
ATTACH;FMTTYPE=image/jpeg:https://northparktheatre.org/wp-content/uploads/poster-roses.jpg
END:VEVENT
BEGIN:VEVENT
DTSTART;TZID=America/New_York:20250829T190000
DTEND;TZID=America/New_York:20250829T210000
DTSTAMP:20260425T181806
CREATED:20250820T113349Z
LAST-MODIFIED:20250820T113349Z
UID:10010664-1756494000-1756501200@northparktheatre.org
SUMMARY:"The Roses"
DESCRIPTION:Starring Olivia Colman and Benedict Cumberbatch\, THE ROSES is a reimagining of the 1989 classic film THE WAR OF THE ROSES\, based on the novel by Warren Adler. \n \nStarts August 29th! \nGet tickets HERE. \nLife seems easy for picture-perfect couple Ivy (Olivia Colman) and Theo (Benedict Cumberbatch): successful careers\, a loving marriage\, great kids. But beneath the façade of their supposed ideal life\, a storm is brewing – as Theo’s career nosedives while Ivy’s own ambitions take off\, a tinderbox of fierce competition and hidden resentment ignites.
URL:https://northparktheatre.org/shows/the-roses-3/2025-08-29/
CATEGORIES:The Roses
ATTACH;FMTTYPE=image/jpeg:https://northparktheatre.org/wp-content/uploads/poster-roses.jpg
END:VEVENT
BEGIN:VEVENT
DTSTART;TZID=America/New_York:20250829T213000
DTEND;TZID=America/New_York:20250829T233000
DTSTAMP:20260425T181806
CREATED:20250820T113451Z
LAST-MODIFIED:20250909T025010Z
UID:10010794-1756503000-1756510200@northparktheatre.org
SUMMARY:"The Roses"
DESCRIPTION:Starring Olivia Colman and Benedict Cumberbatch\, THE ROSES is a reimagining of the 1989 classic film THE WAR OF THE ROSES\, based on the novel by Warren Adler. \n \nStarts August 29th! \nGet tickets HERE. \nLife seems easy for picture-perfect couple Ivy (Olivia Colman) and Theo (Benedict Cumberbatch): successful careers\, a loving marriage\, great kids. But beneath the façade of their supposed ideal life\, a storm is brewing – as Theo’s career nosedives while Ivy’s own ambitions take off\, a tinderbox of fierce competition and hidden resentment ignites.
URL:https://northparktheatre.org/shows/the-roses-4/2025-08-29/
CATEGORIES:The Roses
ATTACH;FMTTYPE=image/jpeg:https://northparktheatre.org/wp-content/uploads/poster-roses.jpg
END:VEVENT
BEGIN:VEVENT
DTSTART;TZID=America/New_York:20250830T140000
DTEND;TZID=America/New_York:20250830T160000
DTSTAMP:20260425T181806
CREATED:20250820T113149Z
LAST-MODIFIED:20250906T203931Z
UID:10010769-1756562400-1756569600@northparktheatre.org
SUMMARY:"The Roses"
DESCRIPTION:Starring Olivia Colman and Benedict Cumberbatch\, THE ROSES is a reimagining of the 1989 classic film THE WAR OF THE ROSES\, based on the novel by Warren Adler. \n \nStarts August 29th! \nGet tickets HERE. \nLife seems easy for picture-perfect couple Ivy (Olivia Colman) and Theo (Benedict Cumberbatch): successful careers\, a loving marriage\, great kids. But beneath the façade of their supposed ideal life\, a storm is brewing – as Theo’s career nosedives while Ivy’s own ambitions take off\, a tinderbox of fierce competition and hidden resentment ignites.
URL:https://northparktheatre.org/shows/the-roses/2025-08-30/
CATEGORIES:The Roses
ATTACH;FMTTYPE=image/jpeg:https://northparktheatre.org/wp-content/uploads/poster-roses.jpg
END:VEVENT
BEGIN:VEVENT
DTSTART;TZID=America/New_York:20250830T163000
DTEND;TZID=America/New_York:20250830T180000
DTSTAMP:20260425T181806
CREATED:20250820T113257Z
LAST-MODIFIED:20250906T204022Z
UID:10010782-1756571400-1756576800@northparktheatre.org
SUMMARY:"The Roses"
DESCRIPTION:Starring Olivia Colman and Benedict Cumberbatch\, THE ROSES is a reimagining of the 1989 classic film THE WAR OF THE ROSES\, based on the novel by Warren Adler. \n \nStarts August 29th! \nGet tickets HERE. \nLife seems easy for picture-perfect couple Ivy (Olivia Colman) and Theo (Benedict Cumberbatch): successful careers\, a loving marriage\, great kids. But beneath the façade of their supposed ideal life\, a storm is brewing – as Theo’s career nosedives while Ivy’s own ambitions take off\, a tinderbox of fierce competition and hidden resentment ignites.
URL:https://northparktheatre.org/shows/the-roses-2/2025-08-30/
CATEGORIES:The Roses
ATTACH;FMTTYPE=image/jpeg:https://northparktheatre.org/wp-content/uploads/poster-roses.jpg
END:VEVENT
BEGIN:VEVENT
DTSTART;TZID=America/New_York:20250830T190000
DTEND;TZID=America/New_York:20250830T210000
DTSTAMP:20260425T181806
CREATED:20250820T113349Z
LAST-MODIFIED:20250820T113349Z
UID:10010665-1756580400-1756587600@northparktheatre.org
SUMMARY:"The Roses"
DESCRIPTION:Starring Olivia Colman and Benedict Cumberbatch\, THE ROSES is a reimagining of the 1989 classic film THE WAR OF THE ROSES\, based on the novel by Warren Adler. \n \nStarts August 29th! \nGet tickets HERE. \nLife seems easy for picture-perfect couple Ivy (Olivia Colman) and Theo (Benedict Cumberbatch): successful careers\, a loving marriage\, great kids. But beneath the façade of their supposed ideal life\, a storm is brewing – as Theo’s career nosedives while Ivy’s own ambitions take off\, a tinderbox of fierce competition and hidden resentment ignites.
URL:https://northparktheatre.org/shows/the-roses-3/2025-08-30/
CATEGORIES:The Roses
ATTACH;FMTTYPE=image/jpeg:https://northparktheatre.org/wp-content/uploads/poster-roses.jpg
END:VEVENT
BEGIN:VEVENT
DTSTART;TZID=America/New_York:20250830T213000
DTEND;TZID=America/New_York:20250830T233000
DTSTAMP:20260425T181806
CREATED:20250820T113451Z
LAST-MODIFIED:20250909T025010Z
UID:10010795-1756589400-1756596600@northparktheatre.org
SUMMARY:"The Roses"
DESCRIPTION:Starring Olivia Colman and Benedict Cumberbatch\, THE ROSES is a reimagining of the 1989 classic film THE WAR OF THE ROSES\, based on the novel by Warren Adler. \n \nStarts August 29th! \nGet tickets HERE. \nLife seems easy for picture-perfect couple Ivy (Olivia Colman) and Theo (Benedict Cumberbatch): successful careers\, a loving marriage\, great kids. But beneath the façade of their supposed ideal life\, a storm is brewing – as Theo’s career nosedives while Ivy’s own ambitions take off\, a tinderbox of fierce competition and hidden resentment ignites.
URL:https://northparktheatre.org/shows/the-roses-4/2025-08-30/
CATEGORIES:The Roses
ATTACH;FMTTYPE=image/jpeg:https://northparktheatre.org/wp-content/uploads/poster-roses.jpg
END:VEVENT
BEGIN:VEVENT
DTSTART;TZID=America/New_York:20250831T140000
DTEND;TZID=America/New_York:20250831T160000
DTSTAMP:20260425T181806
CREATED:20250820T113149Z
LAST-MODIFIED:20250906T203931Z
UID:10010770-1756648800-1756656000@northparktheatre.org
SUMMARY:"The Roses"
DESCRIPTION:Starring Olivia Colman and Benedict Cumberbatch\, THE ROSES is a reimagining of the 1989 classic film THE WAR OF THE ROSES\, based on the novel by Warren Adler. \n \nStarts August 29th! \nGet tickets HERE. \nLife seems easy for picture-perfect couple Ivy (Olivia Colman) and Theo (Benedict Cumberbatch): successful careers\, a loving marriage\, great kids. But beneath the façade of their supposed ideal life\, a storm is brewing – as Theo’s career nosedives while Ivy’s own ambitions take off\, a tinderbox of fierce competition and hidden resentment ignites.
URL:https://northparktheatre.org/shows/the-roses/2025-08-31/
CATEGORIES:The Roses
ATTACH;FMTTYPE=image/jpeg:https://northparktheatre.org/wp-content/uploads/poster-roses.jpg
END:VEVENT
BEGIN:VEVENT
DTSTART;TZID=America/New_York:20250831T163000
DTEND;TZID=America/New_York:20250831T180000
DTSTAMP:20260425T181806
CREATED:20250820T113257Z
LAST-MODIFIED:20250906T204022Z
UID:10010783-1756657800-1756663200@northparktheatre.org
SUMMARY:"The Roses"
DESCRIPTION:Starring Olivia Colman and Benedict Cumberbatch\, THE ROSES is a reimagining of the 1989 classic film THE WAR OF THE ROSES\, based on the novel by Warren Adler. \n \nStarts August 29th! \nGet tickets HERE. \nLife seems easy for picture-perfect couple Ivy (Olivia Colman) and Theo (Benedict Cumberbatch): successful careers\, a loving marriage\, great kids. But beneath the façade of their supposed ideal life\, a storm is brewing – as Theo’s career nosedives while Ivy’s own ambitions take off\, a tinderbox of fierce competition and hidden resentment ignites.
URL:https://northparktheatre.org/shows/the-roses-2/2025-08-31/
CATEGORIES:The Roses
ATTACH;FMTTYPE=image/jpeg:https://northparktheatre.org/wp-content/uploads/poster-roses.jpg
END:VEVENT
BEGIN:VEVENT
DTSTART;TZID=America/New_York:20250831T190000
DTEND;TZID=America/New_York:20250831T210000
DTSTAMP:20260425T181806
CREATED:20250820T113349Z
LAST-MODIFIED:20250820T113349Z
UID:10010666-1756666800-1756674000@northparktheatre.org
SUMMARY:"The Roses"
DESCRIPTION:Starring Olivia Colman and Benedict Cumberbatch\, THE ROSES is a reimagining of the 1989 classic film THE WAR OF THE ROSES\, based on the novel by Warren Adler. \n \nStarts August 29th! \nGet tickets HERE. \nLife seems easy for picture-perfect couple Ivy (Olivia Colman) and Theo (Benedict Cumberbatch): successful careers\, a loving marriage\, great kids. But beneath the façade of their supposed ideal life\, a storm is brewing – as Theo’s career nosedives while Ivy’s own ambitions take off\, a tinderbox of fierce competition and hidden resentment ignites.
URL:https://northparktheatre.org/shows/the-roses-3/2025-08-31/
CATEGORIES:The Roses
ATTACH;FMTTYPE=image/jpeg:https://northparktheatre.org/wp-content/uploads/poster-roses.jpg
END:VEVENT
BEGIN:VEVENT
DTSTART;TZID=America/New_York:20250831T213000
DTEND;TZID=America/New_York:20250831T233000
DTSTAMP:20260425T181806
CREATED:20250820T113451Z
LAST-MODIFIED:20250909T025010Z
UID:10010796-1756675800-1756683000@northparktheatre.org
SUMMARY:"The Roses"
DESCRIPTION:Starring Olivia Colman and Benedict Cumberbatch\, THE ROSES is a reimagining of the 1989 classic film THE WAR OF THE ROSES\, based on the novel by Warren Adler. \n \nStarts August 29th! \nGet tickets HERE. \nLife seems easy for picture-perfect couple Ivy (Olivia Colman) and Theo (Benedict Cumberbatch): successful careers\, a loving marriage\, great kids. But beneath the façade of their supposed ideal life\, a storm is brewing – as Theo’s career nosedives while Ivy’s own ambitions take off\, a tinderbox of fierce competition and hidden resentment ignites.
URL:https://northparktheatre.org/shows/the-roses-4/2025-08-31/
CATEGORIES:The Roses
ATTACH;FMTTYPE=image/jpeg:https://northparktheatre.org/wp-content/uploads/poster-roses.jpg
END:VEVENT
END:VCALENDAR