BEGIN:VCALENDAR
VERSION:2.0
PRODID:-//North Park Theatre - ECPv6.15.20//NONSGML v1.0//EN
CALSCALE:GREGORIAN
METHOD:PUBLISH
X-WR-CALNAME:North Park Theatre
X-ORIGINAL-URL:https://northparktheatre.org
X-WR-CALDESC:Events for North Park Theatre
REFRESH-INTERVAL;VALUE=DURATION:PT1H
X-Robots-Tag:noindex
X-PUBLISHED-TTL:PT1H
BEGIN:VTIMEZONE
TZID:America/New_York
BEGIN:DAYLIGHT
TZOFFSETFROM:-0500
TZOFFSETTO:-0400
TZNAME:EDT
DTSTART:20240310T070000
END:DAYLIGHT
BEGIN:STANDARD
TZOFFSETFROM:-0400
TZOFFSETTO:-0500
TZNAME:EST
DTSTART:20241103T060000
END:STANDARD
BEGIN:DAYLIGHT
TZOFFSETFROM:-0500
TZOFFSETTO:-0400
TZNAME:EDT
DTSTART:20250309T070000
END:DAYLIGHT
BEGIN:STANDARD
TZOFFSETFROM:-0400
TZOFFSETTO:-0500
TZNAME:EST
DTSTART:20251102T060000
END:STANDARD
BEGIN:DAYLIGHT
TZOFFSETFROM:-0500
TZOFFSETTO:-0400
TZNAME:EDT
DTSTART:20260308T070000
END:DAYLIGHT
BEGIN:STANDARD
TZOFFSETFROM:-0400
TZOFFSETTO:-0500
TZNAME:EST
DTSTART:20261101T060000
END:STANDARD
END:VTIMEZONE
BEGIN:VEVENT
DTSTART;TZID=America/New_York:20250401T140000
DTEND;TZID=America/New_York:20250401T160000
DTSTAMP:20260425T125440
CREATED:20250325T030303Z
LAST-MODIFIED:20250331T092523Z
UID:10007973-1743516000-1743523200@northparktheatre.org
SUMMARY:"The Penguin Lessons"
DESCRIPTION:“Steve Coogan finds his happy feet in a gentle true-life tale.”\n— VARIETY \n \nScreening 3/28 – 4/3!\nGet tickets HERE. \nInspired by the true story of a disillusioned Englishman who went to work in a school in Argentina in 1976. Expecting an easy ride\, Tom discovers a divided nation and a class of unteachable students. However\, after he rescues a penguin from an oil-slicked beach\, his life is turned upside-down.
URL:https://northparktheatre.org/shows/the-penguin-lessons/2025-04-01/
CATEGORIES:The Penguin Lessons
ATTACH;FMTTYPE=image/jpeg:https://northparktheatre.org/wp-content/uploads/poster-lessons.jpg
END:VEVENT
BEGIN:VEVENT
DTSTART;TZID=America/New_York:20250401T163000
DTEND;TZID=America/New_York:20250401T183000
DTSTAMP:20260425T125440
CREATED:20250325T030407Z
LAST-MODIFIED:20250331T092457Z
UID:10007980-1743525000-1743532200@northparktheatre.org
SUMMARY:"The Penguin Lessons"
DESCRIPTION:“Steve Coogan finds his happy feet in a gentle true-life tale.”\n— VARIETY \n \nScreening 3/28 – 4/3!\nGet tickets HERE. \nInspired by the true story of a disillusioned Englishman who went to work in a school in Argentina in 1976. Expecting an easy ride\, Tom discovers a divided nation and a class of unteachable students. However\, after he rescues a penguin from an oil-slicked beach\, his life is turned upside-down.
URL:https://northparktheatre.org/shows/the-penguin-lessons-2/2025-04-01/
CATEGORIES:The Penguin Lessons
ATTACH;FMTTYPE=image/jpeg:https://northparktheatre.org/wp-content/uploads/poster-lessons.jpg
END:VEVENT
BEGIN:VEVENT
DTSTART;TZID=America/New_York:20250401T190000
DTEND;TZID=America/New_York:20250401T210000
DTSTAMP:20260425T125440
CREATED:20250325T030502Z
LAST-MODIFIED:20250331T092425Z
UID:10007987-1743534000-1743541200@northparktheatre.org
SUMMARY:"The Penguin Lessons"
DESCRIPTION:“Steve Coogan finds his happy feet in a gentle true-life tale.”\n— VARIETY \n \nScreening 3/28 – 4/3!\nGet tickets HERE. \nInspired by the true story of a disillusioned Englishman who went to work in a school in Argentina in 1976. Expecting an easy ride\, Tom discovers a divided nation and a class of unteachable students. However\, after he rescues a penguin from an oil-slicked beach\, his life is turned upside-down.
URL:https://northparktheatre.org/shows/the-penguin-lessons-3/2025-04-01/
CATEGORIES:The Penguin Lessons
ATTACH;FMTTYPE=image/jpeg:https://northparktheatre.org/wp-content/uploads/poster-lessons.jpg
END:VEVENT
BEGIN:VEVENT
DTSTART;TZID=America/New_York:20250401T213000
DTEND;TZID=America/New_York:20250401T233000
DTSTAMP:20260425T125440
CREATED:20250325T030746Z
LAST-MODIFIED:20250325T030746Z
UID:10007994-1743543000-1743550200@northparktheatre.org
SUMMARY:"The Penguin Lessons"
DESCRIPTION:“Steve Coogan finds his happy feet in a gentle true-life tale.”\n— VARIETY \n \nScreening 3/28 – 4/3!\nGet tickets HERE. \nInspired by the true story of a disillusioned Englishman who went to work in a school in Argentina in 1976. Expecting an easy ride\, Tom discovers a divided nation and a class of unteachable students. However\, after he rescues a penguin from an oil-slicked beach\, his life is turned upside-down.
URL:https://northparktheatre.org/shows/the-penguin-lessons-4/2025-04-01/
CATEGORIES:The Penguin Lessons
ATTACH;FMTTYPE=image/jpeg:https://northparktheatre.org/wp-content/uploads/poster-lessons.jpg
END:VEVENT
BEGIN:VEVENT
DTSTART;TZID=America/New_York:20250402T140000
DTEND;TZID=America/New_York:20250402T160000
DTSTAMP:20260425T125440
CREATED:20250325T030303Z
LAST-MODIFIED:20250331T092523Z
UID:10007974-1743602400-1743609600@northparktheatre.org
SUMMARY:"The Penguin Lessons"
DESCRIPTION:“Steve Coogan finds his happy feet in a gentle true-life tale.”\n— VARIETY \n \nScreening 3/28 – 4/3!\nGet tickets HERE. \nInspired by the true story of a disillusioned Englishman who went to work in a school in Argentina in 1976. Expecting an easy ride\, Tom discovers a divided nation and a class of unteachable students. However\, after he rescues a penguin from an oil-slicked beach\, his life is turned upside-down.
URL:https://northparktheatre.org/shows/the-penguin-lessons/2025-04-02/
CATEGORIES:The Penguin Lessons
ATTACH;FMTTYPE=image/jpeg:https://northparktheatre.org/wp-content/uploads/poster-lessons.jpg
END:VEVENT
BEGIN:VEVENT
DTSTART;TZID=America/New_York:20250402T163000
DTEND;TZID=America/New_York:20250402T183000
DTSTAMP:20260425T125440
CREATED:20250325T030407Z
LAST-MODIFIED:20250331T092457Z
UID:10007981-1743611400-1743618600@northparktheatre.org
SUMMARY:"The Penguin Lessons"
DESCRIPTION:“Steve Coogan finds his happy feet in a gentle true-life tale.”\n— VARIETY \n \nScreening 3/28 – 4/3!\nGet tickets HERE. \nInspired by the true story of a disillusioned Englishman who went to work in a school in Argentina in 1976. Expecting an easy ride\, Tom discovers a divided nation and a class of unteachable students. However\, after he rescues a penguin from an oil-slicked beach\, his life is turned upside-down.
URL:https://northparktheatre.org/shows/the-penguin-lessons-2/2025-04-02/
CATEGORIES:The Penguin Lessons
ATTACH;FMTTYPE=image/jpeg:https://northparktheatre.org/wp-content/uploads/poster-lessons.jpg
END:VEVENT
BEGIN:VEVENT
DTSTART;TZID=America/New_York:20250402T190000
DTEND;TZID=America/New_York:20250402T210000
DTSTAMP:20260425T125440
CREATED:20250325T030502Z
LAST-MODIFIED:20250331T092425Z
UID:10007988-1743620400-1743627600@northparktheatre.org
SUMMARY:"The Penguin Lessons"
DESCRIPTION:“Steve Coogan finds his happy feet in a gentle true-life tale.”\n— VARIETY \n \nScreening 3/28 – 4/3!\nGet tickets HERE. \nInspired by the true story of a disillusioned Englishman who went to work in a school in Argentina in 1976. Expecting an easy ride\, Tom discovers a divided nation and a class of unteachable students. However\, after he rescues a penguin from an oil-slicked beach\, his life is turned upside-down.
URL:https://northparktheatre.org/shows/the-penguin-lessons-3/2025-04-02/
CATEGORIES:The Penguin Lessons
ATTACH;FMTTYPE=image/jpeg:https://northparktheatre.org/wp-content/uploads/poster-lessons.jpg
END:VEVENT
BEGIN:VEVENT
DTSTART;TZID=America/New_York:20250402T213000
DTEND;TZID=America/New_York:20250402T233000
DTSTAMP:20260425T125440
CREATED:20250325T030746Z
LAST-MODIFIED:20250325T030746Z
UID:10007995-1743629400-1743636600@northparktheatre.org
SUMMARY:"The Penguin Lessons"
DESCRIPTION:“Steve Coogan finds his happy feet in a gentle true-life tale.”\n— VARIETY \n \nScreening 3/28 – 4/3!\nGet tickets HERE. \nInspired by the true story of a disillusioned Englishman who went to work in a school in Argentina in 1976. Expecting an easy ride\, Tom discovers a divided nation and a class of unteachable students. However\, after he rescues a penguin from an oil-slicked beach\, his life is turned upside-down.
URL:https://northparktheatre.org/shows/the-penguin-lessons-4/2025-04-02/
CATEGORIES:The Penguin Lessons
ATTACH;FMTTYPE=image/jpeg:https://northparktheatre.org/wp-content/uploads/poster-lessons.jpg
END:VEVENT
BEGIN:VEVENT
DTSTART;TZID=America/New_York:20250403T140000
DTEND;TZID=America/New_York:20250403T160000
DTSTAMP:20260425T125440
CREATED:20250325T030303Z
LAST-MODIFIED:20250331T092523Z
UID:10007975-1743688800-1743696000@northparktheatre.org
SUMMARY:"The Penguin Lessons"
DESCRIPTION:“Steve Coogan finds his happy feet in a gentle true-life tale.”\n— VARIETY \n \nScreening 3/28 – 4/3!\nGet tickets HERE. \nInspired by the true story of a disillusioned Englishman who went to work in a school in Argentina in 1976. Expecting an easy ride\, Tom discovers a divided nation and a class of unteachable students. However\, after he rescues a penguin from an oil-slicked beach\, his life is turned upside-down.
URL:https://northparktheatre.org/shows/the-penguin-lessons/2025-04-03/
CATEGORIES:The Penguin Lessons
ATTACH;FMTTYPE=image/jpeg:https://northparktheatre.org/wp-content/uploads/poster-lessons.jpg
END:VEVENT
BEGIN:VEVENT
DTSTART;TZID=America/New_York:20250403T163000
DTEND;TZID=America/New_York:20250403T183000
DTSTAMP:20260425T125440
CREATED:20250325T030407Z
LAST-MODIFIED:20250331T092457Z
UID:10007982-1743697800-1743705000@northparktheatre.org
SUMMARY:"The Penguin Lessons"
DESCRIPTION:“Steve Coogan finds his happy feet in a gentle true-life tale.”\n— VARIETY \n \nScreening 3/28 – 4/3!\nGet tickets HERE. \nInspired by the true story of a disillusioned Englishman who went to work in a school in Argentina in 1976. Expecting an easy ride\, Tom discovers a divided nation and a class of unteachable students. However\, after he rescues a penguin from an oil-slicked beach\, his life is turned upside-down.
URL:https://northparktheatre.org/shows/the-penguin-lessons-2/2025-04-03/
CATEGORIES:The Penguin Lessons
ATTACH;FMTTYPE=image/jpeg:https://northparktheatre.org/wp-content/uploads/poster-lessons.jpg
END:VEVENT
BEGIN:VEVENT
DTSTART;TZID=America/New_York:20250404T140000
DTEND;TZID=America/New_York:20250404T160000
DTSTAMP:20260425T125440
CREATED:20250325T030303Z
LAST-MODIFIED:20250331T092523Z
UID:10008010-1743775200-1743782400@northparktheatre.org
SUMMARY:"The Penguin Lessons"
DESCRIPTION:“Steve Coogan finds his happy feet in a gentle true-life tale.”\n— VARIETY \n \nScreening 3/28 – 4/3!\nGet tickets HERE. \nInspired by the true story of a disillusioned Englishman who went to work in a school in Argentina in 1976. Expecting an easy ride\, Tom discovers a divided nation and a class of unteachable students. However\, after he rescues a penguin from an oil-slicked beach\, his life is turned upside-down.
URL:https://northparktheatre.org/shows/the-penguin-lessons/2025-04-04/
CATEGORIES:The Penguin Lessons
ATTACH;FMTTYPE=image/jpeg:https://northparktheatre.org/wp-content/uploads/poster-lessons.jpg
END:VEVENT
BEGIN:VEVENT
DTSTART;TZID=America/New_York:20250404T163000
DTEND;TZID=America/New_York:20250404T183000
DTSTAMP:20260425T125440
CREATED:20250325T030407Z
LAST-MODIFIED:20250331T092457Z
UID:10008003-1743784200-1743791400@northparktheatre.org
SUMMARY:"The Penguin Lessons"
DESCRIPTION:“Steve Coogan finds his happy feet in a gentle true-life tale.”\n— VARIETY \n \nScreening 3/28 – 4/3!\nGet tickets HERE. \nInspired by the true story of a disillusioned Englishman who went to work in a school in Argentina in 1976. Expecting an easy ride\, Tom discovers a divided nation and a class of unteachable students. However\, after he rescues a penguin from an oil-slicked beach\, his life is turned upside-down.
URL:https://northparktheatre.org/shows/the-penguin-lessons-2/2025-04-04/
CATEGORIES:The Penguin Lessons
ATTACH;FMTTYPE=image/jpeg:https://northparktheatre.org/wp-content/uploads/poster-lessons.jpg
END:VEVENT
BEGIN:VEVENT
DTSTART;TZID=America/New_York:20250404T190000
DTEND;TZID=America/New_York:20250404T210000
DTSTAMP:20260425T125440
CREATED:20250325T030502Z
LAST-MODIFIED:20250331T092425Z
UID:10007996-1743793200-1743800400@northparktheatre.org
SUMMARY:"The Penguin Lessons"
DESCRIPTION:“Steve Coogan finds his happy feet in a gentle true-life tale.”\n— VARIETY \n \nScreening 3/28 – 4/3!\nGet tickets HERE. \nInspired by the true story of a disillusioned Englishman who went to work in a school in Argentina in 1976. Expecting an easy ride\, Tom discovers a divided nation and a class of unteachable students. However\, after he rescues a penguin from an oil-slicked beach\, his life is turned upside-down.
URL:https://northparktheatre.org/shows/the-penguin-lessons-3/2025-04-04/
CATEGORIES:The Penguin Lessons
ATTACH;FMTTYPE=image/jpeg:https://northparktheatre.org/wp-content/uploads/poster-lessons.jpg
END:VEVENT
BEGIN:VEVENT
DTSTART;TZID=America/New_York:20250405T140000
DTEND;TZID=America/New_York:20250405T160000
DTSTAMP:20260425T125440
CREATED:20250325T030303Z
LAST-MODIFIED:20250331T092523Z
UID:10008011-1743861600-1743868800@northparktheatre.org
SUMMARY:"The Penguin Lessons"
DESCRIPTION:“Steve Coogan finds his happy feet in a gentle true-life tale.”\n— VARIETY \n \nScreening 3/28 – 4/3!\nGet tickets HERE. \nInspired by the true story of a disillusioned Englishman who went to work in a school in Argentina in 1976. Expecting an easy ride\, Tom discovers a divided nation and a class of unteachable students. However\, after he rescues a penguin from an oil-slicked beach\, his life is turned upside-down.
URL:https://northparktheatre.org/shows/the-penguin-lessons/2025-04-05/
CATEGORIES:The Penguin Lessons
ATTACH;FMTTYPE=image/jpeg:https://northparktheatre.org/wp-content/uploads/poster-lessons.jpg
END:VEVENT
BEGIN:VEVENT
DTSTART;TZID=America/New_York:20250405T163000
DTEND;TZID=America/New_York:20250405T183000
DTSTAMP:20260425T125440
CREATED:20250325T030407Z
LAST-MODIFIED:20250331T092457Z
UID:10008004-1743870600-1743877800@northparktheatre.org
SUMMARY:"The Penguin Lessons"
DESCRIPTION:“Steve Coogan finds his happy feet in a gentle true-life tale.”\n— VARIETY \n \nScreening 3/28 – 4/3!\nGet tickets HERE. \nInspired by the true story of a disillusioned Englishman who went to work in a school in Argentina in 1976. Expecting an easy ride\, Tom discovers a divided nation and a class of unteachable students. However\, after he rescues a penguin from an oil-slicked beach\, his life is turned upside-down.
URL:https://northparktheatre.org/shows/the-penguin-lessons-2/2025-04-05/
CATEGORIES:The Penguin Lessons
ATTACH;FMTTYPE=image/jpeg:https://northparktheatre.org/wp-content/uploads/poster-lessons.jpg
END:VEVENT
BEGIN:VEVENT
DTSTART;TZID=America/New_York:20250405T190000
DTEND;TZID=America/New_York:20250405T210000
DTSTAMP:20260425T125440
CREATED:20250325T030502Z
LAST-MODIFIED:20250331T092425Z
UID:10007997-1743879600-1743886800@northparktheatre.org
SUMMARY:"The Penguin Lessons"
DESCRIPTION:“Steve Coogan finds his happy feet in a gentle true-life tale.”\n— VARIETY \n \nScreening 3/28 – 4/3!\nGet tickets HERE. \nInspired by the true story of a disillusioned Englishman who went to work in a school in Argentina in 1976. Expecting an easy ride\, Tom discovers a divided nation and a class of unteachable students. However\, after he rescues a penguin from an oil-slicked beach\, his life is turned upside-down.
URL:https://northparktheatre.org/shows/the-penguin-lessons-3/2025-04-05/
CATEGORIES:The Penguin Lessons
ATTACH;FMTTYPE=image/jpeg:https://northparktheatre.org/wp-content/uploads/poster-lessons.jpg
END:VEVENT
BEGIN:VEVENT
DTSTART;TZID=America/New_York:20250406T140000
DTEND;TZID=America/New_York:20250406T160000
DTSTAMP:20260425T125440
CREATED:20250325T030303Z
LAST-MODIFIED:20250331T092523Z
UID:10008012-1743948000-1743955200@northparktheatre.org
SUMMARY:"The Penguin Lessons"
DESCRIPTION:“Steve Coogan finds his happy feet in a gentle true-life tale.”\n— VARIETY \n \nScreening 3/28 – 4/3!\nGet tickets HERE. \nInspired by the true story of a disillusioned Englishman who went to work in a school in Argentina in 1976. Expecting an easy ride\, Tom discovers a divided nation and a class of unteachable students. However\, after he rescues a penguin from an oil-slicked beach\, his life is turned upside-down.
URL:https://northparktheatre.org/shows/the-penguin-lessons/2025-04-06/
CATEGORIES:The Penguin Lessons
ATTACH;FMTTYPE=image/jpeg:https://northparktheatre.org/wp-content/uploads/poster-lessons.jpg
END:VEVENT
BEGIN:VEVENT
DTSTART;TZID=America/New_York:20250406T163000
DTEND;TZID=America/New_York:20250406T183000
DTSTAMP:20260425T125440
CREATED:20250325T030407Z
LAST-MODIFIED:20250331T092457Z
UID:10008005-1743957000-1743964200@northparktheatre.org
SUMMARY:"The Penguin Lessons"
DESCRIPTION:“Steve Coogan finds his happy feet in a gentle true-life tale.”\n— VARIETY \n \nScreening 3/28 – 4/3!\nGet tickets HERE. \nInspired by the true story of a disillusioned Englishman who went to work in a school in Argentina in 1976. Expecting an easy ride\, Tom discovers a divided nation and a class of unteachable students. However\, after he rescues a penguin from an oil-slicked beach\, his life is turned upside-down.
URL:https://northparktheatre.org/shows/the-penguin-lessons-2/2025-04-06/
CATEGORIES:The Penguin Lessons
ATTACH;FMTTYPE=image/jpeg:https://northparktheatre.org/wp-content/uploads/poster-lessons.jpg
END:VEVENT
BEGIN:VEVENT
DTSTART;TZID=America/New_York:20250406T190000
DTEND;TZID=America/New_York:20250406T210000
DTSTAMP:20260425T125440
CREATED:20250325T030502Z
LAST-MODIFIED:20250331T092425Z
UID:10007998-1743966000-1743973200@northparktheatre.org
SUMMARY:"The Penguin Lessons"
DESCRIPTION:“Steve Coogan finds his happy feet in a gentle true-life tale.”\n— VARIETY \n \nScreening 3/28 – 4/3!\nGet tickets HERE. \nInspired by the true story of a disillusioned Englishman who went to work in a school in Argentina in 1976. Expecting an easy ride\, Tom discovers a divided nation and a class of unteachable students. However\, after he rescues a penguin from an oil-slicked beach\, his life is turned upside-down.
URL:https://northparktheatre.org/shows/the-penguin-lessons-3/2025-04-06/
CATEGORIES:The Penguin Lessons
ATTACH;FMTTYPE=image/jpeg:https://northparktheatre.org/wp-content/uploads/poster-lessons.jpg
END:VEVENT
BEGIN:VEVENT
DTSTART;TZID=America/New_York:20250407T140000
DTEND;TZID=America/New_York:20250407T160000
DTSTAMP:20260425T125440
CREATED:20250325T030303Z
LAST-MODIFIED:20250331T092523Z
UID:10008013-1744034400-1744041600@northparktheatre.org
SUMMARY:"The Penguin Lessons"
DESCRIPTION:“Steve Coogan finds his happy feet in a gentle true-life tale.”\n— VARIETY \n \nScreening 3/28 – 4/3!\nGet tickets HERE. \nInspired by the true story of a disillusioned Englishman who went to work in a school in Argentina in 1976. Expecting an easy ride\, Tom discovers a divided nation and a class of unteachable students. However\, after he rescues a penguin from an oil-slicked beach\, his life is turned upside-down.
URL:https://northparktheatre.org/shows/the-penguin-lessons/2025-04-07/
CATEGORIES:The Penguin Lessons
ATTACH;FMTTYPE=image/jpeg:https://northparktheatre.org/wp-content/uploads/poster-lessons.jpg
END:VEVENT
BEGIN:VEVENT
DTSTART;TZID=America/New_York:20250407T163000
DTEND;TZID=America/New_York:20250407T183000
DTSTAMP:20260425T125440
CREATED:20250325T030407Z
LAST-MODIFIED:20250331T092457Z
UID:10008006-1744043400-1744050600@northparktheatre.org
SUMMARY:"The Penguin Lessons"
DESCRIPTION:“Steve Coogan finds his happy feet in a gentle true-life tale.”\n— VARIETY \n \nScreening 3/28 – 4/3!\nGet tickets HERE. \nInspired by the true story of a disillusioned Englishman who went to work in a school in Argentina in 1976. Expecting an easy ride\, Tom discovers a divided nation and a class of unteachable students. However\, after he rescues a penguin from an oil-slicked beach\, his life is turned upside-down.
URL:https://northparktheatre.org/shows/the-penguin-lessons-2/2025-04-07/
CATEGORIES:The Penguin Lessons
ATTACH;FMTTYPE=image/jpeg:https://northparktheatre.org/wp-content/uploads/poster-lessons.jpg
END:VEVENT
BEGIN:VEVENT
DTSTART;TZID=America/New_York:20250407T190000
DTEND;TZID=America/New_York:20250407T210000
DTSTAMP:20260425T125440
CREATED:20250325T030502Z
LAST-MODIFIED:20250331T092425Z
UID:10007999-1744052400-1744059600@northparktheatre.org
SUMMARY:"The Penguin Lessons"
DESCRIPTION:“Steve Coogan finds his happy feet in a gentle true-life tale.”\n— VARIETY \n \nScreening 3/28 – 4/3!\nGet tickets HERE. \nInspired by the true story of a disillusioned Englishman who went to work in a school in Argentina in 1976. Expecting an easy ride\, Tom discovers a divided nation and a class of unteachable students. However\, after he rescues a penguin from an oil-slicked beach\, his life is turned upside-down.
URL:https://northparktheatre.org/shows/the-penguin-lessons-3/2025-04-07/
CATEGORIES:The Penguin Lessons
ATTACH;FMTTYPE=image/jpeg:https://northparktheatre.org/wp-content/uploads/poster-lessons.jpg
END:VEVENT
BEGIN:VEVENT
DTSTART;TZID=America/New_York:20250408T140000
DTEND;TZID=America/New_York:20250408T160000
DTSTAMP:20260425T125440
CREATED:20250325T030303Z
LAST-MODIFIED:20250331T092523Z
UID:10008014-1744120800-1744128000@northparktheatre.org
SUMMARY:"The Penguin Lessons"
DESCRIPTION:“Steve Coogan finds his happy feet in a gentle true-life tale.”\n— VARIETY \n \nScreening 3/28 – 4/3!\nGet tickets HERE. \nInspired by the true story of a disillusioned Englishman who went to work in a school in Argentina in 1976. Expecting an easy ride\, Tom discovers a divided nation and a class of unteachable students. However\, after he rescues a penguin from an oil-slicked beach\, his life is turned upside-down.
URL:https://northparktheatre.org/shows/the-penguin-lessons/2025-04-08/
CATEGORIES:The Penguin Lessons
ATTACH;FMTTYPE=image/jpeg:https://northparktheatre.org/wp-content/uploads/poster-lessons.jpg
END:VEVENT
BEGIN:VEVENT
DTSTART;TZID=America/New_York:20250408T163000
DTEND;TZID=America/New_York:20250408T183000
DTSTAMP:20260425T125440
CREATED:20250325T030407Z
LAST-MODIFIED:20250331T092457Z
UID:10008007-1744129800-1744137000@northparktheatre.org
SUMMARY:"The Penguin Lessons"
DESCRIPTION:“Steve Coogan finds his happy feet in a gentle true-life tale.”\n— VARIETY \n \nScreening 3/28 – 4/3!\nGet tickets HERE. \nInspired by the true story of a disillusioned Englishman who went to work in a school in Argentina in 1976. Expecting an easy ride\, Tom discovers a divided nation and a class of unteachable students. However\, after he rescues a penguin from an oil-slicked beach\, his life is turned upside-down.
URL:https://northparktheatre.org/shows/the-penguin-lessons-2/2025-04-08/
CATEGORIES:The Penguin Lessons
ATTACH;FMTTYPE=image/jpeg:https://northparktheatre.org/wp-content/uploads/poster-lessons.jpg
END:VEVENT
BEGIN:VEVENT
DTSTART;TZID=America/New_York:20250408T190000
DTEND;TZID=America/New_York:20250408T210000
DTSTAMP:20260425T125440
CREATED:20250325T030502Z
LAST-MODIFIED:20250331T092425Z
UID:10008000-1744138800-1744146000@northparktheatre.org
SUMMARY:"The Penguin Lessons"
DESCRIPTION:“Steve Coogan finds his happy feet in a gentle true-life tale.”\n— VARIETY \n \nScreening 3/28 – 4/3!\nGet tickets HERE. \nInspired by the true story of a disillusioned Englishman who went to work in a school in Argentina in 1976. Expecting an easy ride\, Tom discovers a divided nation and a class of unteachable students. However\, after he rescues a penguin from an oil-slicked beach\, his life is turned upside-down.
URL:https://northparktheatre.org/shows/the-penguin-lessons-3/2025-04-08/
CATEGORIES:The Penguin Lessons
ATTACH;FMTTYPE=image/jpeg:https://northparktheatre.org/wp-content/uploads/poster-lessons.jpg
END:VEVENT
BEGIN:VEVENT
DTSTART;TZID=America/New_York:20250409T140000
DTEND;TZID=America/New_York:20250409T160000
DTSTAMP:20260425T125440
CREATED:20250325T030303Z
LAST-MODIFIED:20250331T092523Z
UID:10008015-1744207200-1744214400@northparktheatre.org
SUMMARY:"The Penguin Lessons"
DESCRIPTION:“Steve Coogan finds his happy feet in a gentle true-life tale.”\n— VARIETY \n \nScreening 3/28 – 4/3!\nGet tickets HERE. \nInspired by the true story of a disillusioned Englishman who went to work in a school in Argentina in 1976. Expecting an easy ride\, Tom discovers a divided nation and a class of unteachable students. However\, after he rescues a penguin from an oil-slicked beach\, his life is turned upside-down.
URL:https://northparktheatre.org/shows/the-penguin-lessons/2025-04-09/
CATEGORIES:The Penguin Lessons
ATTACH;FMTTYPE=image/jpeg:https://northparktheatre.org/wp-content/uploads/poster-lessons.jpg
END:VEVENT
BEGIN:VEVENT
DTSTART;TZID=America/New_York:20250409T163000
DTEND;TZID=America/New_York:20250409T183000
DTSTAMP:20260425T125440
CREATED:20250325T030407Z
LAST-MODIFIED:20250331T092457Z
UID:10008008-1744216200-1744223400@northparktheatre.org
SUMMARY:"The Penguin Lessons"
DESCRIPTION:“Steve Coogan finds his happy feet in a gentle true-life tale.”\n— VARIETY \n \nScreening 3/28 – 4/3!\nGet tickets HERE. \nInspired by the true story of a disillusioned Englishman who went to work in a school in Argentina in 1976. Expecting an easy ride\, Tom discovers a divided nation and a class of unteachable students. However\, after he rescues a penguin from an oil-slicked beach\, his life is turned upside-down.
URL:https://northparktheatre.org/shows/the-penguin-lessons-2/2025-04-09/
CATEGORIES:The Penguin Lessons
ATTACH;FMTTYPE=image/jpeg:https://northparktheatre.org/wp-content/uploads/poster-lessons.jpg
END:VEVENT
BEGIN:VEVENT
DTSTART;TZID=America/New_York:20250409T190000
DTEND;TZID=America/New_York:20250409T210000
DTSTAMP:20260425T125440
CREATED:20250325T030502Z
LAST-MODIFIED:20250331T092425Z
UID:10008001-1744225200-1744232400@northparktheatre.org
SUMMARY:"The Penguin Lessons"
DESCRIPTION:“Steve Coogan finds his happy feet in a gentle true-life tale.”\n— VARIETY \n \nScreening 3/28 – 4/3!\nGet tickets HERE. \nInspired by the true story of a disillusioned Englishman who went to work in a school in Argentina in 1976. Expecting an easy ride\, Tom discovers a divided nation and a class of unteachable students. However\, after he rescues a penguin from an oil-slicked beach\, his life is turned upside-down.
URL:https://northparktheatre.org/shows/the-penguin-lessons-3/2025-04-09/
CATEGORIES:The Penguin Lessons
ATTACH;FMTTYPE=image/jpeg:https://northparktheatre.org/wp-content/uploads/poster-lessons.jpg
END:VEVENT
BEGIN:VEVENT
DTSTART;TZID=America/New_York:20250410T140000
DTEND;TZID=America/New_York:20250410T160000
DTSTAMP:20260425T125440
CREATED:20250325T030303Z
LAST-MODIFIED:20250331T092523Z
UID:10008016-1744293600-1744300800@northparktheatre.org
SUMMARY:"The Penguin Lessons"
DESCRIPTION:“Steve Coogan finds his happy feet in a gentle true-life tale.”\n— VARIETY \n \nScreening 3/28 – 4/3!\nGet tickets HERE. \nInspired by the true story of a disillusioned Englishman who went to work in a school in Argentina in 1976. Expecting an easy ride\, Tom discovers a divided nation and a class of unteachable students. However\, after he rescues a penguin from an oil-slicked beach\, his life is turned upside-down.
URL:https://northparktheatre.org/shows/the-penguin-lessons/2025-04-10/
CATEGORIES:The Penguin Lessons
ATTACH;FMTTYPE=image/jpeg:https://northparktheatre.org/wp-content/uploads/poster-lessons.jpg
END:VEVENT
BEGIN:VEVENT
DTSTART;TZID=America/New_York:20250410T163000
DTEND;TZID=America/New_York:20250410T183000
DTSTAMP:20260425T125440
CREATED:20250325T030407Z
LAST-MODIFIED:20250331T092457Z
UID:10008009-1744302600-1744309800@northparktheatre.org
SUMMARY:"The Penguin Lessons"
DESCRIPTION:“Steve Coogan finds his happy feet in a gentle true-life tale.”\n— VARIETY \n \nScreening 3/28 – 4/3!\nGet tickets HERE. \nInspired by the true story of a disillusioned Englishman who went to work in a school in Argentina in 1976. Expecting an easy ride\, Tom discovers a divided nation and a class of unteachable students. However\, after he rescues a penguin from an oil-slicked beach\, his life is turned upside-down.
URL:https://northparktheatre.org/shows/the-penguin-lessons-2/2025-04-10/
CATEGORIES:The Penguin Lessons
ATTACH;FMTTYPE=image/jpeg:https://northparktheatre.org/wp-content/uploads/poster-lessons.jpg
END:VEVENT
END:VCALENDAR