BEGIN:VCALENDAR
VERSION:2.0
PRODID:-//North Park Theatre - ECPv6.15.20//NONSGML v1.0//EN
CALSCALE:GREGORIAN
METHOD:PUBLISH
X-ORIGINAL-URL:https://northparktheatre.org
X-WR-CALDESC:Events for North Park Theatre
REFRESH-INTERVAL;VALUE=DURATION:PT1H
X-Robots-Tag:noindex
X-PUBLISHED-TTL:PT1H
BEGIN:VTIMEZONE
TZID:America/New_York
BEGIN:DAYLIGHT
TZOFFSETFROM:-0500
TZOFFSETTO:-0400
TZNAME:EDT
DTSTART:20250309T070000
END:DAYLIGHT
BEGIN:STANDARD
TZOFFSETFROM:-0400
TZOFFSETTO:-0500
TZNAME:EST
DTSTART:20251102T060000
END:STANDARD
BEGIN:DAYLIGHT
TZOFFSETFROM:-0500
TZOFFSETTO:-0400
TZNAME:EDT
DTSTART:20260308T070000
END:DAYLIGHT
BEGIN:STANDARD
TZOFFSETFROM:-0400
TZOFFSETTO:-0500
TZNAME:EST
DTSTART:20261101T060000
END:STANDARD
BEGIN:DAYLIGHT
TZOFFSETFROM:-0500
TZOFFSETTO:-0400
TZNAME:EDT
DTSTART:20270314T070000
END:DAYLIGHT
BEGIN:STANDARD
TZOFFSETFROM:-0400
TZOFFSETTO:-0500
TZNAME:EST
DTSTART:20271107T060000
END:STANDARD
END:VTIMEZONE
BEGIN:VEVENT
DTSTART;TZID=America/New_York:20260501T185000
DTEND;TZID=America/New_York:20260501T203000
DTSTAMP:20260423T142420
CREATED:20260423T122046Z
LAST-MODIFIED:20260423T122112Z
UID:10014965-1777661400-1777667400@northparktheatre.org
SUMMARY:"The Lord of the Rings" (1978) - Dir. Ralph Bakshi
DESCRIPTION:“Brave and ambitious…it inspired me to read the book.”\n– Peter Jackson \nFrom director Ralph Bakshi (Fire and Ice\, Wizards) comes an ambitious animated version of the classic Tolkien tale about the Fellowship of the Ring embarking on a journey to destroy the One Ring and end the evil Sauron’s reign over Middle Earth. \nPosters at the stand. \n \nScreening May 1 – 7!\nGet tickets HERE.
URL:https://northparktheatre.org/shows/the-lord-of-the-rings-1978-dir-ralph-bakshi/2026-05-01/
CATEGORIES:The Lord of the Rings
ATTACH;FMTTYPE=image/jpeg:https://northparktheatre.org/wp-content/uploads/poster-lot.jpg
END:VEVENT
BEGIN:VEVENT
DTSTART;TZID=America/New_York:20260502T185000
DTEND;TZID=America/New_York:20260502T203000
DTSTAMP:20260423T142420
CREATED:20260423T122046Z
LAST-MODIFIED:20260423T122112Z
UID:10014966-1777747800-1777753800@northparktheatre.org
SUMMARY:"The Lord of the Rings" (1978) - Dir. Ralph Bakshi
DESCRIPTION:“Brave and ambitious…it inspired me to read the book.”\n– Peter Jackson \nFrom director Ralph Bakshi (Fire and Ice\, Wizards) comes an ambitious animated version of the classic Tolkien tale about the Fellowship of the Ring embarking on a journey to destroy the One Ring and end the evil Sauron’s reign over Middle Earth. \nPosters at the stand. \n \nScreening May 1 – 7!\nGet tickets HERE.
URL:https://northparktheatre.org/shows/the-lord-of-the-rings-1978-dir-ralph-bakshi/2026-05-02/
CATEGORIES:The Lord of the Rings
ATTACH;FMTTYPE=image/jpeg:https://northparktheatre.org/wp-content/uploads/poster-lot.jpg
END:VEVENT
BEGIN:VEVENT
DTSTART;TZID=America/New_York:20260503T185000
DTEND;TZID=America/New_York:20260503T203000
DTSTAMP:20260423T142420
CREATED:20260423T122046Z
LAST-MODIFIED:20260423T122112Z
UID:10014967-1777834200-1777840200@northparktheatre.org
SUMMARY:"The Lord of the Rings" (1978) - Dir. Ralph Bakshi
DESCRIPTION:“Brave and ambitious…it inspired me to read the book.”\n– Peter Jackson \nFrom director Ralph Bakshi (Fire and Ice\, Wizards) comes an ambitious animated version of the classic Tolkien tale about the Fellowship of the Ring embarking on a journey to destroy the One Ring and end the evil Sauron’s reign over Middle Earth. \nPosters at the stand. \n \nScreening May 1 – 7!\nGet tickets HERE.
URL:https://northparktheatre.org/shows/the-lord-of-the-rings-1978-dir-ralph-bakshi/2026-05-03/
CATEGORIES:The Lord of the Rings
ATTACH;FMTTYPE=image/jpeg:https://northparktheatre.org/wp-content/uploads/poster-lot.jpg
END:VEVENT
BEGIN:VEVENT
DTSTART;TZID=America/New_York:20260504T185000
DTEND;TZID=America/New_York:20260504T203000
DTSTAMP:20260423T142420
CREATED:20260423T122046Z
LAST-MODIFIED:20260423T122112Z
UID:10014968-1777920600-1777926600@northparktheatre.org
SUMMARY:"The Lord of the Rings" (1978) - Dir. Ralph Bakshi
DESCRIPTION:“Brave and ambitious…it inspired me to read the book.”\n– Peter Jackson \nFrom director Ralph Bakshi (Fire and Ice\, Wizards) comes an ambitious animated version of the classic Tolkien tale about the Fellowship of the Ring embarking on a journey to destroy the One Ring and end the evil Sauron’s reign over Middle Earth. \nPosters at the stand. \n \nScreening May 1 – 7!\nGet tickets HERE.
URL:https://northparktheatre.org/shows/the-lord-of-the-rings-1978-dir-ralph-bakshi/2026-05-04/
CATEGORIES:The Lord of the Rings
ATTACH;FMTTYPE=image/jpeg:https://northparktheatre.org/wp-content/uploads/poster-lot.jpg
END:VEVENT
BEGIN:VEVENT
DTSTART;TZID=America/New_York:20260505T185000
DTEND;TZID=America/New_York:20260505T203000
DTSTAMP:20260423T142420
CREATED:20260423T122046Z
LAST-MODIFIED:20260423T122112Z
UID:10014969-1778007000-1778013000@northparktheatre.org
SUMMARY:"The Lord of the Rings" (1978) - Dir. Ralph Bakshi
DESCRIPTION:“Brave and ambitious…it inspired me to read the book.”\n– Peter Jackson \nFrom director Ralph Bakshi (Fire and Ice\, Wizards) comes an ambitious animated version of the classic Tolkien tale about the Fellowship of the Ring embarking on a journey to destroy the One Ring and end the evil Sauron’s reign over Middle Earth. \nPosters at the stand. \n \nScreening May 1 – 7!\nGet tickets HERE.
URL:https://northparktheatre.org/shows/the-lord-of-the-rings-1978-dir-ralph-bakshi/2026-05-05/
CATEGORIES:The Lord of the Rings
ATTACH;FMTTYPE=image/jpeg:https://northparktheatre.org/wp-content/uploads/poster-lot.jpg
END:VEVENT
BEGIN:VEVENT
DTSTART;TZID=America/New_York:20260506T185000
DTEND;TZID=America/New_York:20260506T203000
DTSTAMP:20260423T142420
CREATED:20260423T122046Z
LAST-MODIFIED:20260423T122112Z
UID:10014970-1778093400-1778099400@northparktheatre.org
SUMMARY:"The Lord of the Rings" (1978) - Dir. Ralph Bakshi
DESCRIPTION:“Brave and ambitious…it inspired me to read the book.”\n– Peter Jackson \nFrom director Ralph Bakshi (Fire and Ice\, Wizards) comes an ambitious animated version of the classic Tolkien tale about the Fellowship of the Ring embarking on a journey to destroy the One Ring and end the evil Sauron’s reign over Middle Earth. \nPosters at the stand. \n \nScreening May 1 – 7!\nGet tickets HERE.
URL:https://northparktheatre.org/shows/the-lord-of-the-rings-1978-dir-ralph-bakshi/2026-05-06/
CATEGORIES:The Lord of the Rings
ATTACH;FMTTYPE=image/jpeg:https://northparktheatre.org/wp-content/uploads/poster-lot.jpg
END:VEVENT
BEGIN:VEVENT
DTSTART;TZID=America/New_York:20260507T185000
DTEND;TZID=America/New_York:20260507T203000
DTSTAMP:20260423T142420
CREATED:20260423T122046Z
LAST-MODIFIED:20260423T122112Z
UID:10014971-1778179800-1778185800@northparktheatre.org
SUMMARY:"The Lord of the Rings" (1978) - Dir. Ralph Bakshi
DESCRIPTION:“Brave and ambitious…it inspired me to read the book.”\n– Peter Jackson \nFrom director Ralph Bakshi (Fire and Ice\, Wizards) comes an ambitious animated version of the classic Tolkien tale about the Fellowship of the Ring embarking on a journey to destroy the One Ring and end the evil Sauron’s reign over Middle Earth. \nPosters at the stand. \n \nScreening May 1 – 7!\nGet tickets HERE.
URL:https://northparktheatre.org/shows/the-lord-of-the-rings-1978-dir-ralph-bakshi/2026-05-07/
CATEGORIES:The Lord of the Rings
ATTACH;FMTTYPE=image/jpeg:https://northparktheatre.org/wp-content/uploads/poster-lot.jpg
END:VEVENT
END:VCALENDAR