BEGIN:VCALENDAR
VERSION:2.0
PRODID:-//North Park Theatre - ECPv6.15.20//NONSGML v1.0//EN
CALSCALE:GREGORIAN
METHOD:PUBLISH
X-WR-CALNAME:North Park Theatre
X-ORIGINAL-URL:https://northparktheatre.org
X-WR-CALDESC:Events for North Park Theatre
REFRESH-INTERVAL;VALUE=DURATION:PT1H
X-Robots-Tag:noindex
X-PUBLISHED-TTL:PT1H
BEGIN:VTIMEZONE
TZID:America/New_York
BEGIN:DAYLIGHT
TZOFFSETFROM:-0500
TZOFFSETTO:-0400
TZNAME:EDT
DTSTART:20240310T070000
END:DAYLIGHT
BEGIN:STANDARD
TZOFFSETFROM:-0400
TZOFFSETTO:-0500
TZNAME:EST
DTSTART:20241103T060000
END:STANDARD
BEGIN:DAYLIGHT
TZOFFSETFROM:-0500
TZOFFSETTO:-0400
TZNAME:EDT
DTSTART:20250309T070000
END:DAYLIGHT
BEGIN:STANDARD
TZOFFSETFROM:-0400
TZOFFSETTO:-0500
TZNAME:EST
DTSTART:20251102T060000
END:STANDARD
BEGIN:DAYLIGHT
TZOFFSETFROM:-0500
TZOFFSETTO:-0400
TZNAME:EDT
DTSTART:20260308T070000
END:DAYLIGHT
BEGIN:STANDARD
TZOFFSETFROM:-0400
TZOFFSETTO:-0500
TZNAME:EST
DTSTART:20261101T060000
END:STANDARD
END:VTIMEZONE
BEGIN:VEVENT
DTSTART;TZID=America/New_York:20250411T190000
DTEND;TZID=America/New_York:20250411T210000
DTSTAMP:20260425T155043
CREATED:20250409T093613Z
LAST-MODIFIED:20250409T093613Z
UID:10008412-1744398000-1744405200@northparktheatre.org
SUMMARY:"I Know Catherine\, the Log Lady"
DESCRIPTION:“My log has something to tell you.” \n \nScreening 4/11 – 4/17th!\nGet tickets HERE. \nI Know Catherine\, The Log Lady is a touching and insightful documentary that dives into the life of Catherine E. Coulson\, best known for her iconic role as the mysterious Log Lady in the TV series Twin Peaks. \nThe film explores her personal journey\, career\, and the deep connection she shared with her most famous character. \nThrough interviews\, behind-the-scenes footage\, and reflections from those who worked with her\, the documentary highlights Coulson’s unique talent\, her love for acting\, and the lasting impact of the Log Lady on fans and the world of television.
URL:https://northparktheatre.org/shows/i-know-catherine-the-log-lady/2025-04-11/1/
CATEGORIES:the Log Lady
ATTACH;FMTTYPE=image/jpeg:https://northparktheatre.org/wp-content/uploads/poster-log.jpg
END:VEVENT
BEGIN:VEVENT
DTSTART;TZID=America/New_York:20250411T214000
DTEND;TZID=America/New_York:20250411T233000
DTSTAMP:20260425T155043
CREATED:20250409T093613Z
LAST-MODIFIED:20250409T093613Z
UID:10008413-1744407600-1744414200@northparktheatre.org
SUMMARY:"I Know Catherine\, the Log Lady"
DESCRIPTION:“My log has something to tell you.” \n \nScreening 4/11 – 4/17th!\nGet tickets HERE. \nI Know Catherine\, The Log Lady is a touching and insightful documentary that dives into the life of Catherine E. Coulson\, best known for her iconic role as the mysterious Log Lady in the TV series Twin Peaks. \nThe film explores her personal journey\, career\, and the deep connection she shared with her most famous character. \nThrough interviews\, behind-the-scenes footage\, and reflections from those who worked with her\, the documentary highlights Coulson’s unique talent\, her love for acting\, and the lasting impact of the Log Lady on fans and the world of television.
URL:https://northparktheatre.org/shows/i-know-catherine-the-log-lady/2025-04-11/2/
CATEGORIES:the Log Lady
ATTACH;FMTTYPE=image/jpeg:https://northparktheatre.org/wp-content/uploads/poster-log.jpg
END:VEVENT
BEGIN:VEVENT
DTSTART;TZID=America/New_York:20250412T183000
DTEND;TZID=America/New_York:20250412T203000
DTSTAMP:20260425T155043
CREATED:20250409T093613Z
LAST-MODIFIED:20250409T093613Z
UID:10008414-1744482600-1744489800@northparktheatre.org
SUMMARY:"I Know Catherine\, the Log Lady"
DESCRIPTION:“My log has something to tell you.” \n \nScreening 4/11 – 4/17th!\nGet tickets HERE. \nI Know Catherine\, The Log Lady is a touching and insightful documentary that dives into the life of Catherine E. Coulson\, best known for her iconic role as the mysterious Log Lady in the TV series Twin Peaks. \nThe film explores her personal journey\, career\, and the deep connection she shared with her most famous character. \nThrough interviews\, behind-the-scenes footage\, and reflections from those who worked with her\, the documentary highlights Coulson’s unique talent\, her love for acting\, and the lasting impact of the Log Lady on fans and the world of television.
URL:https://northparktheatre.org/shows/i-know-catherine-the-log-lady/2025-04-12/1/
CATEGORIES:the Log Lady
ATTACH;FMTTYPE=image/jpeg:https://northparktheatre.org/wp-content/uploads/poster-log.jpg
END:VEVENT
BEGIN:VEVENT
DTSTART;TZID=America/New_York:20250412T211500
DTEND;TZID=America/New_York:20250412T233000
DTSTAMP:20260425T155043
CREATED:20250409T093613Z
LAST-MODIFIED:20250409T093613Z
UID:10008415-1744492500-1744500600@northparktheatre.org
SUMMARY:"I Know Catherine\, the Log Lady"
DESCRIPTION:“My log has something to tell you.” \n \nScreening 4/11 – 4/17th!\nGet tickets HERE. \nI Know Catherine\, The Log Lady is a touching and insightful documentary that dives into the life of Catherine E. Coulson\, best known for her iconic role as the mysterious Log Lady in the TV series Twin Peaks. \nThe film explores her personal journey\, career\, and the deep connection she shared with her most famous character. \nThrough interviews\, behind-the-scenes footage\, and reflections from those who worked with her\, the documentary highlights Coulson’s unique talent\, her love for acting\, and the lasting impact of the Log Lady on fans and the world of television.
URL:https://northparktheatre.org/shows/i-know-catherine-the-log-lady/2025-04-12/2/
CATEGORIES:the Log Lady
ATTACH;FMTTYPE=image/jpeg:https://northparktheatre.org/wp-content/uploads/poster-log.jpg
END:VEVENT
BEGIN:VEVENT
DTSTART;TZID=America/New_York:20250413T183000
DTEND;TZID=America/New_York:20250413T203000
DTSTAMP:20260425T155043
CREATED:20250409T093613Z
LAST-MODIFIED:20250409T093613Z
UID:10008416-1744569000-1744576200@northparktheatre.org
SUMMARY:"I Know Catherine\, the Log Lady"
DESCRIPTION:“My log has something to tell you.” \n \nScreening 4/11 – 4/17th!\nGet tickets HERE. \nI Know Catherine\, The Log Lady is a touching and insightful documentary that dives into the life of Catherine E. Coulson\, best known for her iconic role as the mysterious Log Lady in the TV series Twin Peaks. \nThe film explores her personal journey\, career\, and the deep connection she shared with her most famous character. \nThrough interviews\, behind-the-scenes footage\, and reflections from those who worked with her\, the documentary highlights Coulson’s unique talent\, her love for acting\, and the lasting impact of the Log Lady on fans and the world of television.
URL:https://northparktheatre.org/shows/i-know-catherine-the-log-lady/2025-04-13/
CATEGORIES:the Log Lady
ATTACH;FMTTYPE=image/jpeg:https://northparktheatre.org/wp-content/uploads/poster-log.jpg
END:VEVENT
BEGIN:VEVENT
DTSTART;TZID=America/New_York:20250414T213000
DTEND;TZID=America/New_York:20250414T233000
DTSTAMP:20260425T155043
CREATED:20250409T093613Z
LAST-MODIFIED:20250409T093613Z
UID:10008417-1744666200-1744673400@northparktheatre.org
SUMMARY:"I Know Catherine\, the Log Lady"
DESCRIPTION:“My log has something to tell you.” \n \nScreening 4/11 – 4/17th!\nGet tickets HERE. \nI Know Catherine\, The Log Lady is a touching and insightful documentary that dives into the life of Catherine E. Coulson\, best known for her iconic role as the mysterious Log Lady in the TV series Twin Peaks. \nThe film explores her personal journey\, career\, and the deep connection she shared with her most famous character. \nThrough interviews\, behind-the-scenes footage\, and reflections from those who worked with her\, the documentary highlights Coulson’s unique talent\, her love for acting\, and the lasting impact of the Log Lady on fans and the world of television.
URL:https://northparktheatre.org/shows/i-know-catherine-the-log-lady/2025-04-14/
CATEGORIES:the Log Lady
ATTACH;FMTTYPE=image/jpeg:https://northparktheatre.org/wp-content/uploads/poster-log.jpg
END:VEVENT
BEGIN:VEVENT
DTSTART;TZID=America/New_York:20250415T190000
DTEND;TZID=America/New_York:20250415T210000
DTSTAMP:20260425T155043
CREATED:20250409T093613Z
LAST-MODIFIED:20250409T093613Z
UID:10008418-1744743600-1744750800@northparktheatre.org
SUMMARY:"I Know Catherine\, the Log Lady"
DESCRIPTION:“My log has something to tell you.” \n \nScreening 4/11 – 4/17th!\nGet tickets HERE. \nI Know Catherine\, The Log Lady is a touching and insightful documentary that dives into the life of Catherine E. Coulson\, best known for her iconic role as the mysterious Log Lady in the TV series Twin Peaks. \nThe film explores her personal journey\, career\, and the deep connection she shared with her most famous character. \nThrough interviews\, behind-the-scenes footage\, and reflections from those who worked with her\, the documentary highlights Coulson’s unique talent\, her love for acting\, and the lasting impact of the Log Lady on fans and the world of television.
URL:https://northparktheatre.org/shows/i-know-catherine-the-log-lady/2025-04-15/
CATEGORIES:the Log Lady
ATTACH;FMTTYPE=image/jpeg:https://northparktheatre.org/wp-content/uploads/poster-log.jpg
END:VEVENT
BEGIN:VEVENT
DTSTART;TZID=America/New_York:20250416T213000
DTEND;TZID=America/New_York:20250416T233000
DTSTAMP:20260425T155043
CREATED:20250409T093613Z
LAST-MODIFIED:20250409T093613Z
UID:10008419-1744839000-1744846200@northparktheatre.org
SUMMARY:"I Know Catherine\, the Log Lady"
DESCRIPTION:“My log has something to tell you.” \n \nScreening 4/11 – 4/17th!\nGet tickets HERE. \nI Know Catherine\, The Log Lady is a touching and insightful documentary that dives into the life of Catherine E. Coulson\, best known for her iconic role as the mysterious Log Lady in the TV series Twin Peaks. \nThe film explores her personal journey\, career\, and the deep connection she shared with her most famous character. \nThrough interviews\, behind-the-scenes footage\, and reflections from those who worked with her\, the documentary highlights Coulson’s unique talent\, her love for acting\, and the lasting impact of the Log Lady on fans and the world of television.
URL:https://northparktheatre.org/shows/i-know-catherine-the-log-lady/2025-04-16/
CATEGORIES:the Log Lady
ATTACH;FMTTYPE=image/jpeg:https://northparktheatre.org/wp-content/uploads/poster-log.jpg
END:VEVENT
BEGIN:VEVENT
DTSTART;TZID=America/New_York:20250417T214000
DTEND;TZID=America/New_York:20250417T233000
DTSTAMP:20260425T155043
CREATED:20250409T093613Z
LAST-MODIFIED:20250409T093613Z
UID:10008420-1744926000-1744932600@northparktheatre.org
SUMMARY:"I Know Catherine\, the Log Lady"
DESCRIPTION:“My log has something to tell you.” \n \nScreening 4/11 – 4/17th!\nGet tickets HERE. \nI Know Catherine\, The Log Lady is a touching and insightful documentary that dives into the life of Catherine E. Coulson\, best known for her iconic role as the mysterious Log Lady in the TV series Twin Peaks. \nThe film explores her personal journey\, career\, and the deep connection she shared with her most famous character. \nThrough interviews\, behind-the-scenes footage\, and reflections from those who worked with her\, the documentary highlights Coulson’s unique talent\, her love for acting\, and the lasting impact of the Log Lady on fans and the world of television.
URL:https://northparktheatre.org/shows/i-know-catherine-the-log-lady/2025-04-17/
CATEGORIES:the Log Lady
ATTACH;FMTTYPE=image/jpeg:https://northparktheatre.org/wp-content/uploads/poster-log.jpg
END:VEVENT
END:VCALENDAR