BEGIN:VCALENDAR
VERSION:2.0
PRODID:-//North Park Theatre - ECPv6.15.20//NONSGML v1.0//EN
CALSCALE:GREGORIAN
METHOD:PUBLISH
X-WR-CALNAME:North Park Theatre
X-ORIGINAL-URL:https://northparktheatre.org
X-WR-CALDESC:Events for North Park Theatre
REFRESH-INTERVAL;VALUE=DURATION:PT1H
X-Robots-Tag:noindex
X-PUBLISHED-TTL:PT1H
BEGIN:VTIMEZONE
TZID:America/New_York
BEGIN:DAYLIGHT
TZOFFSETFROM:-0500
TZOFFSETTO:-0400
TZNAME:EDT
DTSTART:20240310T070000
END:DAYLIGHT
BEGIN:STANDARD
TZOFFSETFROM:-0400
TZOFFSETTO:-0500
TZNAME:EST
DTSTART:20241103T060000
END:STANDARD
BEGIN:DAYLIGHT
TZOFFSETFROM:-0500
TZOFFSETTO:-0400
TZNAME:EDT
DTSTART:20250309T070000
END:DAYLIGHT
BEGIN:STANDARD
TZOFFSETFROM:-0400
TZOFFSETTO:-0500
TZNAME:EST
DTSTART:20251102T060000
END:STANDARD
BEGIN:DAYLIGHT
TZOFFSETFROM:-0500
TZOFFSETTO:-0400
TZNAME:EDT
DTSTART:20260308T070000
END:DAYLIGHT
BEGIN:STANDARD
TZOFFSETFROM:-0400
TZOFFSETTO:-0500
TZNAME:EST
DTSTART:20261101T060000
END:STANDARD
END:VTIMEZONE
BEGIN:VEVENT
DTSTART;TZID=America/New_York:20250207T123000
DTEND;TZID=America/New_York:20250207T150000
DTSTAMP:20260425T184448
CREATED:20250204T163700Z
LAST-MODIFIED:20250204T163700Z
UID:10007013-1738931400-1738940400@northparktheatre.org
SUMMARY:"The Count of Monte Cristo"
DESCRIPTION:“A stunning\, emotionally satisfying adventure tale\, built on rock-solid source material. Compared to earlier adaptations\, this latest version is briskly paced and rousingly acted by an all-around stellar ensemble.”\n– VARIETY \n“The movie might be set in the early 19th century\, but its hero is a 21st century badass.”\n– NEW YORK MAGAZINE \n“Stirringly acted and gorgeously filmed\, this swashbuckler leaves previous versions of Dumas’s famous revenge saga in the dust.”\n– NEW YORK TIMES \n\nThe target of a sinister plot\, young Edmond Dantès is arrested on his wedding day for a crime he did not commit. \nScreening February 7 – 13th!\nGet tickets HERE. \nAfter fourteen years in the island prison of Château d’If\, he manages a daring escape. \nNow rich beyond his dreams\, he assumes the identity of the Count of Monte Cristo and exacts his revenge on the three men who betrayed him.
URL:https://northparktheatre.org/shows/the-count-of-monte-cristo/2025-02-07/
CATEGORIES:The Count of Monte Cristo
ATTACH;FMTTYPE=image/jpeg:https://northparktheatre.org/wp-content/uploads/poster-cristo.jpg
END:VEVENT
BEGIN:VEVENT
DTSTART;TZID=America/New_York:20250207T160000
DTEND;TZID=America/New_York:20250207T183000
DTSTAMP:20260425T184448
CREATED:20250205T010725Z
LAST-MODIFIED:20250205T011302Z
UID:10007017-1738944000-1738953000@northparktheatre.org
SUMMARY:"The Count of Monte Cristo"
DESCRIPTION:“A stunning\, emotionally satisfying adventure tale\, built on rock-solid source material. Compared to earlier adaptations\, this latest version is briskly paced and rousingly acted by an all-around stellar ensemble.”\n– VARIETY \n“The movie might be set in the early 19th century\, but its hero is a 21st century badass.”\n– NEW YORK MAGAZINE \n“Stirringly acted and gorgeously filmed\, this swashbuckler leaves previous versions of Dumas’s famous revenge saga in the dust.”\n– NEW YORK TIMES \n\nThe target of a sinister plot\, young Edmond Dantès is arrested on his wedding day for a crime he did not commit. \nScreening February 7 – 13th!\nGet tickets HERE. \nAfter fourteen years in the island prison of Château d’If\, he manages a daring escape. \nNow rich beyond his dreams\, he assumes the identity of the Count of Monte Cristo and exacts his revenge on the three men who betrayed him.
URL:https://northparktheatre.org/shows/the-count-of-monte-cristo-2/2025-02-07/
CATEGORIES:The Count of Monte Cristo
ATTACH;FMTTYPE=image/jpeg:https://northparktheatre.org/wp-content/uploads/poster-cristo.jpg
END:VEVENT
BEGIN:VEVENT
DTSTART;TZID=America/New_York:20250207T193500
DTEND;TZID=America/New_York:20250207T230000
DTSTAMP:20260425T184448
CREATED:20250205T010837Z
LAST-MODIFIED:20250205T011215Z
UID:10007024-1738956900-1738969200@northparktheatre.org
SUMMARY:"The Count of Monte Cristo"
DESCRIPTION:“A stunning\, emotionally satisfying adventure tale\, built on rock-solid source material. Compared to earlier adaptations\, this latest version is briskly paced and rousingly acted by an all-around stellar ensemble.”\n– VARIETY \n“The movie might be set in the early 19th century\, but its hero is a 21st century badass.”\n– NEW YORK MAGAZINE \n“Stirringly acted and gorgeously filmed\, this swashbuckler leaves previous versions of Dumas’s famous revenge saga in the dust.”\n– NEW YORK TIMES \n\nThe target of a sinister plot\, young Edmond Dantès is arrested on his wedding day for a crime he did not commit. \nScreening February 7 – 13th!\nGet tickets HERE. \nAfter fourteen years in the island prison of Château d’If\, he manages a daring escape. \nNow rich beyond his dreams\, he assumes the identity of the Count of Monte Cristo and exacts his revenge on the three men who betrayed him.
URL:https://northparktheatre.org/shows/the-count-of-monte-cristo-3/2025-02-07/
CATEGORIES:The Count of Monte Cristo
ATTACH;FMTTYPE=image/jpeg:https://northparktheatre.org/wp-content/uploads/poster-cristo.jpg
END:VEVENT
BEGIN:VEVENT
DTSTART;TZID=America/New_York:20250208T134000
DTEND;TZID=America/New_York:20250208T160000
DTSTAMP:20260425T184448
CREATED:20250205T011101Z
LAST-MODIFIED:20250205T011101Z
UID:10007031-1739022000-1739030400@northparktheatre.org
SUMMARY:"The Count of Monte Cristo"
DESCRIPTION:“A stunning\, emotionally satisfying adventure tale\, built on rock-solid source material. Compared to earlier adaptations\, this latest version is briskly paced and rousingly acted by an all-around stellar ensemble.”\n– VARIETY \n“The movie might be set in the early 19th century\, but its hero is a 21st century badass.”\n– NEW YORK MAGAZINE \n“Stirringly acted and gorgeously filmed\, this swashbuckler leaves previous versions of Dumas’s famous revenge saga in the dust.”\n– NEW YORK TIMES \n\nThe target of a sinister plot\, young Edmond Dantès is arrested on his wedding day for a crime he did not commit. \nScreening February 7 – 13th!\nGet tickets HERE. \nAfter fourteen years in the island prison of Château d’If\, he manages a daring escape. \nNow rich beyond his dreams\, he assumes the identity of the Count of Monte Cristo and exacts his revenge on the three men who betrayed him.
URL:https://northparktheatre.org/shows/the-count-of-monte-cristo-4/2025-02-08/1/
CATEGORIES:The Count of Monte Cristo
ATTACH;FMTTYPE=image/jpeg:https://northparktheatre.org/wp-content/uploads/poster-cristo.jpg
END:VEVENT
BEGIN:VEVENT
DTSTART;TZID=America/New_York:20250208T193000
DTEND;TZID=America/New_York:20250208T203000
DTSTAMP:20260425T184448
CREATED:20250205T011101Z
LAST-MODIFIED:20250205T011101Z
UID:10007032-1739043000-1739046600@northparktheatre.org
SUMMARY:"The Count of Monte Cristo"
DESCRIPTION:“A stunning\, emotionally satisfying adventure tale\, built on rock-solid source material. Compared to earlier adaptations\, this latest version is briskly paced and rousingly acted by an all-around stellar ensemble.”\n– VARIETY \n“The movie might be set in the early 19th century\, but its hero is a 21st century badass.”\n– NEW YORK MAGAZINE \n“Stirringly acted and gorgeously filmed\, this swashbuckler leaves previous versions of Dumas’s famous revenge saga in the dust.”\n– NEW YORK TIMES \n\nThe target of a sinister plot\, young Edmond Dantès is arrested on his wedding day for a crime he did not commit. \nScreening February 7 – 13th!\nGet tickets HERE. \nAfter fourteen years in the island prison of Château d’If\, he manages a daring escape. \nNow rich beyond his dreams\, he assumes the identity of the Count of Monte Cristo and exacts his revenge on the three men who betrayed him.
URL:https://northparktheatre.org/shows/the-count-of-monte-cristo-4/2025-02-08/2/
CATEGORIES:The Count of Monte Cristo
ATTACH;FMTTYPE=image/jpeg:https://northparktheatre.org/wp-content/uploads/poster-cristo.jpg
END:VEVENT
BEGIN:VEVENT
DTSTART;TZID=America/New_York:20250209T162000
DTEND;TZID=America/New_York:20250209T190000
DTSTAMP:20260425T184448
CREATED:20250205T011101Z
LAST-MODIFIED:20250205T011101Z
UID:10007033-1739118000-1739127600@northparktheatre.org
SUMMARY:"The Count of Monte Cristo"
DESCRIPTION:“A stunning\, emotionally satisfying adventure tale\, built on rock-solid source material. Compared to earlier adaptations\, this latest version is briskly paced and rousingly acted by an all-around stellar ensemble.”\n– VARIETY \n“The movie might be set in the early 19th century\, but its hero is a 21st century badass.”\n– NEW YORK MAGAZINE \n“Stirringly acted and gorgeously filmed\, this swashbuckler leaves previous versions of Dumas’s famous revenge saga in the dust.”\n– NEW YORK TIMES \n\nThe target of a sinister plot\, young Edmond Dantès is arrested on his wedding day for a crime he did not commit. \nScreening February 7 – 13th!\nGet tickets HERE. \nAfter fourteen years in the island prison of Château d’If\, he manages a daring escape. \nNow rich beyond his dreams\, he assumes the identity of the Count of Monte Cristo and exacts his revenge on the three men who betrayed him.
URL:https://northparktheatre.org/shows/the-count-of-monte-cristo-4/2025-02-09/1/
CATEGORIES:The Count of Monte Cristo
ATTACH;FMTTYPE=image/jpeg:https://northparktheatre.org/wp-content/uploads/poster-cristo.jpg
END:VEVENT
BEGIN:VEVENT
DTSTART;TZID=America/New_York:20250209T200000
DTEND;TZID=America/New_York:20250209T223000
DTSTAMP:20260425T184448
CREATED:20250205T011101Z
LAST-MODIFIED:20250205T011101Z
UID:10007034-1739131200-1739140200@northparktheatre.org
SUMMARY:"The Count of Monte Cristo"
DESCRIPTION:“A stunning\, emotionally satisfying adventure tale\, built on rock-solid source material. Compared to earlier adaptations\, this latest version is briskly paced and rousingly acted by an all-around stellar ensemble.”\n– VARIETY \n“The movie might be set in the early 19th century\, but its hero is a 21st century badass.”\n– NEW YORK MAGAZINE \n“Stirringly acted and gorgeously filmed\, this swashbuckler leaves previous versions of Dumas’s famous revenge saga in the dust.”\n– NEW YORK TIMES \n\nThe target of a sinister plot\, young Edmond Dantès is arrested on his wedding day for a crime he did not commit. \nScreening February 7 – 13th!\nGet tickets HERE. \nAfter fourteen years in the island prison of Château d’If\, he manages a daring escape. \nNow rich beyond his dreams\, he assumes the identity of the Count of Monte Cristo and exacts his revenge on the three men who betrayed him.
URL:https://northparktheatre.org/shows/the-count-of-monte-cristo-4/2025-02-09/2/
CATEGORIES:The Count of Monte Cristo
ATTACH;FMTTYPE=image/jpeg:https://northparktheatre.org/wp-content/uploads/poster-cristo.jpg
END:VEVENT
BEGIN:VEVENT
DTSTART;TZID=America/New_York:20250210T140000
DTEND;TZID=America/New_York:20250210T163000
DTSTAMP:20260425T184448
CREATED:20250205T011101Z
LAST-MODIFIED:20250205T011101Z
UID:10007035-1739196000-1739205000@northparktheatre.org
SUMMARY:"The Count of Monte Cristo"
DESCRIPTION:“A stunning\, emotionally satisfying adventure tale\, built on rock-solid source material. Compared to earlier adaptations\, this latest version is briskly paced and rousingly acted by an all-around stellar ensemble.”\n– VARIETY \n“The movie might be set in the early 19th century\, but its hero is a 21st century badass.”\n– NEW YORK MAGAZINE \n“Stirringly acted and gorgeously filmed\, this swashbuckler leaves previous versions of Dumas’s famous revenge saga in the dust.”\n– NEW YORK TIMES \n\nThe target of a sinister plot\, young Edmond Dantès is arrested on his wedding day for a crime he did not commit. \nScreening February 7 – 13th!\nGet tickets HERE. \nAfter fourteen years in the island prison of Château d’If\, he manages a daring escape. \nNow rich beyond his dreams\, he assumes the identity of the Count of Monte Cristo and exacts his revenge on the three men who betrayed him.
URL:https://northparktheatre.org/shows/the-count-of-monte-cristo-4/2025-02-10/
CATEGORIES:The Count of Monte Cristo
ATTACH;FMTTYPE=image/jpeg:https://northparktheatre.org/wp-content/uploads/poster-cristo.jpg
END:VEVENT
BEGIN:VEVENT
DTSTART;TZID=America/New_York:20250211T123000
DTEND;TZID=America/New_York:20250211T150000
DTSTAMP:20260425T184448
CREATED:20250204T163700Z
LAST-MODIFIED:20250204T163700Z
UID:10007014-1739277000-1739286000@northparktheatre.org
SUMMARY:"The Count of Monte Cristo"
DESCRIPTION:“A stunning\, emotionally satisfying adventure tale\, built on rock-solid source material. Compared to earlier adaptations\, this latest version is briskly paced and rousingly acted by an all-around stellar ensemble.”\n– VARIETY \n“The movie might be set in the early 19th century\, but its hero is a 21st century badass.”\n– NEW YORK MAGAZINE \n“Stirringly acted and gorgeously filmed\, this swashbuckler leaves previous versions of Dumas’s famous revenge saga in the dust.”\n– NEW YORK TIMES \n\nThe target of a sinister plot\, young Edmond Dantès is arrested on his wedding day for a crime he did not commit. \nScreening February 7 – 13th!\nGet tickets HERE. \nAfter fourteen years in the island prison of Château d’If\, he manages a daring escape. \nNow rich beyond his dreams\, he assumes the identity of the Count of Monte Cristo and exacts his revenge on the three men who betrayed him.
URL:https://northparktheatre.org/shows/the-count-of-monte-cristo/2025-02-11/
CATEGORIES:The Count of Monte Cristo
ATTACH;FMTTYPE=image/jpeg:https://northparktheatre.org/wp-content/uploads/poster-cristo.jpg
END:VEVENT
BEGIN:VEVENT
DTSTART;TZID=America/New_York:20250211T160000
DTEND;TZID=America/New_York:20250211T183000
DTSTAMP:20260425T184448
CREATED:20250205T010725Z
LAST-MODIFIED:20250205T011302Z
UID:10007021-1739289600-1739298600@northparktheatre.org
SUMMARY:"The Count of Monte Cristo"
DESCRIPTION:“A stunning\, emotionally satisfying adventure tale\, built on rock-solid source material. Compared to earlier adaptations\, this latest version is briskly paced and rousingly acted by an all-around stellar ensemble.”\n– VARIETY \n“The movie might be set in the early 19th century\, but its hero is a 21st century badass.”\n– NEW YORK MAGAZINE \n“Stirringly acted and gorgeously filmed\, this swashbuckler leaves previous versions of Dumas’s famous revenge saga in the dust.”\n– NEW YORK TIMES \n\nThe target of a sinister plot\, young Edmond Dantès is arrested on his wedding day for a crime he did not commit. \nScreening February 7 – 13th!\nGet tickets HERE. \nAfter fourteen years in the island prison of Château d’If\, he manages a daring escape. \nNow rich beyond his dreams\, he assumes the identity of the Count of Monte Cristo and exacts his revenge on the three men who betrayed him.
URL:https://northparktheatre.org/shows/the-count-of-monte-cristo-2/2025-02-11/
CATEGORIES:The Count of Monte Cristo
ATTACH;FMTTYPE=image/jpeg:https://northparktheatre.org/wp-content/uploads/poster-cristo.jpg
END:VEVENT
BEGIN:VEVENT
DTSTART;TZID=America/New_York:20250211T193500
DTEND;TZID=America/New_York:20250211T230000
DTSTAMP:20260425T184448
CREATED:20250205T010837Z
LAST-MODIFIED:20250205T011215Z
UID:10007028-1739302500-1739314800@northparktheatre.org
SUMMARY:"The Count of Monte Cristo"
DESCRIPTION:“A stunning\, emotionally satisfying adventure tale\, built on rock-solid source material. Compared to earlier adaptations\, this latest version is briskly paced and rousingly acted by an all-around stellar ensemble.”\n– VARIETY \n“The movie might be set in the early 19th century\, but its hero is a 21st century badass.”\n– NEW YORK MAGAZINE \n“Stirringly acted and gorgeously filmed\, this swashbuckler leaves previous versions of Dumas’s famous revenge saga in the dust.”\n– NEW YORK TIMES \n\nThe target of a sinister plot\, young Edmond Dantès is arrested on his wedding day for a crime he did not commit. \nScreening February 7 – 13th!\nGet tickets HERE. \nAfter fourteen years in the island prison of Château d’If\, he manages a daring escape. \nNow rich beyond his dreams\, he assumes the identity of the Count of Monte Cristo and exacts his revenge on the three men who betrayed him.
URL:https://northparktheatre.org/shows/the-count-of-monte-cristo-3/2025-02-11/
CATEGORIES:The Count of Monte Cristo
ATTACH;FMTTYPE=image/jpeg:https://northparktheatre.org/wp-content/uploads/poster-cristo.jpg
END:VEVENT
BEGIN:VEVENT
DTSTART;TZID=America/New_York:20250212T123000
DTEND;TZID=America/New_York:20250212T150000
DTSTAMP:20260425T184448
CREATED:20250204T163700Z
LAST-MODIFIED:20250204T163700Z
UID:10007015-1739363400-1739372400@northparktheatre.org
SUMMARY:"The Count of Monte Cristo"
DESCRIPTION:“A stunning\, emotionally satisfying adventure tale\, built on rock-solid source material. Compared to earlier adaptations\, this latest version is briskly paced and rousingly acted by an all-around stellar ensemble.”\n– VARIETY \n“The movie might be set in the early 19th century\, but its hero is a 21st century badass.”\n– NEW YORK MAGAZINE \n“Stirringly acted and gorgeously filmed\, this swashbuckler leaves previous versions of Dumas’s famous revenge saga in the dust.”\n– NEW YORK TIMES \n\nThe target of a sinister plot\, young Edmond Dantès is arrested on his wedding day for a crime he did not commit. \nScreening February 7 – 13th!\nGet tickets HERE. \nAfter fourteen years in the island prison of Château d’If\, he manages a daring escape. \nNow rich beyond his dreams\, he assumes the identity of the Count of Monte Cristo and exacts his revenge on the three men who betrayed him.
URL:https://northparktheatre.org/shows/the-count-of-monte-cristo/2025-02-12/
CATEGORIES:The Count of Monte Cristo
ATTACH;FMTTYPE=image/jpeg:https://northparktheatre.org/wp-content/uploads/poster-cristo.jpg
END:VEVENT
BEGIN:VEVENT
DTSTART;TZID=America/New_York:20250212T160000
DTEND;TZID=America/New_York:20250212T183000
DTSTAMP:20260425T184448
CREATED:20250205T010725Z
LAST-MODIFIED:20250205T011302Z
UID:10007022-1739376000-1739385000@northparktheatre.org
SUMMARY:"The Count of Monte Cristo"
DESCRIPTION:“A stunning\, emotionally satisfying adventure tale\, built on rock-solid source material. Compared to earlier adaptations\, this latest version is briskly paced and rousingly acted by an all-around stellar ensemble.”\n– VARIETY \n“The movie might be set in the early 19th century\, but its hero is a 21st century badass.”\n– NEW YORK MAGAZINE \n“Stirringly acted and gorgeously filmed\, this swashbuckler leaves previous versions of Dumas’s famous revenge saga in the dust.”\n– NEW YORK TIMES \n\nThe target of a sinister plot\, young Edmond Dantès is arrested on his wedding day for a crime he did not commit. \nScreening February 7 – 13th!\nGet tickets HERE. \nAfter fourteen years in the island prison of Château d’If\, he manages a daring escape. \nNow rich beyond his dreams\, he assumes the identity of the Count of Monte Cristo and exacts his revenge on the three men who betrayed him.
URL:https://northparktheatre.org/shows/the-count-of-monte-cristo-2/2025-02-12/
CATEGORIES:The Count of Monte Cristo
ATTACH;FMTTYPE=image/jpeg:https://northparktheatre.org/wp-content/uploads/poster-cristo.jpg
END:VEVENT
BEGIN:VEVENT
DTSTART;TZID=America/New_York:20250212T193500
DTEND;TZID=America/New_York:20250212T230000
DTSTAMP:20260425T184448
CREATED:20250205T010837Z
LAST-MODIFIED:20250205T011215Z
UID:10007029-1739388900-1739401200@northparktheatre.org
SUMMARY:"The Count of Monte Cristo"
DESCRIPTION:“A stunning\, emotionally satisfying adventure tale\, built on rock-solid source material. Compared to earlier adaptations\, this latest version is briskly paced and rousingly acted by an all-around stellar ensemble.”\n– VARIETY \n“The movie might be set in the early 19th century\, but its hero is a 21st century badass.”\n– NEW YORK MAGAZINE \n“Stirringly acted and gorgeously filmed\, this swashbuckler leaves previous versions of Dumas’s famous revenge saga in the dust.”\n– NEW YORK TIMES \n\nThe target of a sinister plot\, young Edmond Dantès is arrested on his wedding day for a crime he did not commit. \nScreening February 7 – 13th!\nGet tickets HERE. \nAfter fourteen years in the island prison of Château d’If\, he manages a daring escape. \nNow rich beyond his dreams\, he assumes the identity of the Count of Monte Cristo and exacts his revenge on the three men who betrayed him.
URL:https://northparktheatre.org/shows/the-count-of-monte-cristo-3/2025-02-12/
CATEGORIES:The Count of Monte Cristo
ATTACH;FMTTYPE=image/jpeg:https://northparktheatre.org/wp-content/uploads/poster-cristo.jpg
END:VEVENT
BEGIN:VEVENT
DTSTART;TZID=America/New_York:20250213T123000
DTEND;TZID=America/New_York:20250213T150000
DTSTAMP:20260425T184448
CREATED:20250204T163700Z
LAST-MODIFIED:20250204T163700Z
UID:10007016-1739449800-1739458800@northparktheatre.org
SUMMARY:"The Count of Monte Cristo"
DESCRIPTION:“A stunning\, emotionally satisfying adventure tale\, built on rock-solid source material. Compared to earlier adaptations\, this latest version is briskly paced and rousingly acted by an all-around stellar ensemble.”\n– VARIETY \n“The movie might be set in the early 19th century\, but its hero is a 21st century badass.”\n– NEW YORK MAGAZINE \n“Stirringly acted and gorgeously filmed\, this swashbuckler leaves previous versions of Dumas’s famous revenge saga in the dust.”\n– NEW YORK TIMES \n\nThe target of a sinister plot\, young Edmond Dantès is arrested on his wedding day for a crime he did not commit. \nScreening February 7 – 13th!\nGet tickets HERE. \nAfter fourteen years in the island prison of Château d’If\, he manages a daring escape. \nNow rich beyond his dreams\, he assumes the identity of the Count of Monte Cristo and exacts his revenge on the three men who betrayed him.
URL:https://northparktheatre.org/shows/the-count-of-monte-cristo/2025-02-13/
CATEGORIES:The Count of Monte Cristo
ATTACH;FMTTYPE=image/jpeg:https://northparktheatre.org/wp-content/uploads/poster-cristo.jpg
END:VEVENT
BEGIN:VEVENT
DTSTART;TZID=America/New_York:20250213T160000
DTEND;TZID=America/New_York:20250213T183000
DTSTAMP:20260425T184448
CREATED:20250205T010725Z
LAST-MODIFIED:20250205T011302Z
UID:10007023-1739462400-1739471400@northparktheatre.org
SUMMARY:"The Count of Monte Cristo"
DESCRIPTION:“A stunning\, emotionally satisfying adventure tale\, built on rock-solid source material. Compared to earlier adaptations\, this latest version is briskly paced and rousingly acted by an all-around stellar ensemble.”\n– VARIETY \n“The movie might be set in the early 19th century\, but its hero is a 21st century badass.”\n– NEW YORK MAGAZINE \n“Stirringly acted and gorgeously filmed\, this swashbuckler leaves previous versions of Dumas’s famous revenge saga in the dust.”\n– NEW YORK TIMES \n\nThe target of a sinister plot\, young Edmond Dantès is arrested on his wedding day for a crime he did not commit. \nScreening February 7 – 13th!\nGet tickets HERE. \nAfter fourteen years in the island prison of Château d’If\, he manages a daring escape. \nNow rich beyond his dreams\, he assumes the identity of the Count of Monte Cristo and exacts his revenge on the three men who betrayed him.
URL:https://northparktheatre.org/shows/the-count-of-monte-cristo-2/2025-02-13/
CATEGORIES:The Count of Monte Cristo
ATTACH;FMTTYPE=image/jpeg:https://northparktheatre.org/wp-content/uploads/poster-cristo.jpg
END:VEVENT
BEGIN:VEVENT
DTSTART;TZID=America/New_York:20250213T193500
DTEND;TZID=America/New_York:20250213T230000
DTSTAMP:20260425T184448
CREATED:20250205T010837Z
LAST-MODIFIED:20250205T011215Z
UID:10007030-1739475300-1739487600@northparktheatre.org
SUMMARY:"The Count of Monte Cristo"
DESCRIPTION:“A stunning\, emotionally satisfying adventure tale\, built on rock-solid source material. Compared to earlier adaptations\, this latest version is briskly paced and rousingly acted by an all-around stellar ensemble.”\n– VARIETY \n“The movie might be set in the early 19th century\, but its hero is a 21st century badass.”\n– NEW YORK MAGAZINE \n“Stirringly acted and gorgeously filmed\, this swashbuckler leaves previous versions of Dumas’s famous revenge saga in the dust.”\n– NEW YORK TIMES \n\nThe target of a sinister plot\, young Edmond Dantès is arrested on his wedding day for a crime he did not commit. \nScreening February 7 – 13th!\nGet tickets HERE. \nAfter fourteen years in the island prison of Château d’If\, he manages a daring escape. \nNow rich beyond his dreams\, he assumes the identity of the Count of Monte Cristo and exacts his revenge on the three men who betrayed him.
URL:https://northparktheatre.org/shows/the-count-of-monte-cristo-3/2025-02-13/
CATEGORIES:The Count of Monte Cristo
ATTACH;FMTTYPE=image/jpeg:https://northparktheatre.org/wp-content/uploads/poster-cristo.jpg
END:VEVENT
END:VCALENDAR