BEGIN:VCALENDAR
VERSION:2.0
PRODID:-//North Park Theatre - ECPv6.15.20//NONSGML v1.0//EN
CALSCALE:GREGORIAN
METHOD:PUBLISH
X-ORIGINAL-URL:https://northparktheatre.org
X-WR-CALDESC:Events for North Park Theatre
REFRESH-INTERVAL;VALUE=DURATION:PT1H
X-Robots-Tag:noindex
X-PUBLISHED-TTL:PT1H
BEGIN:VTIMEZONE
TZID:America/New_York
BEGIN:DAYLIGHT
TZOFFSETFROM:-0500
TZOFFSETTO:-0400
TZNAME:EDT
DTSTART:20250309T070000
END:DAYLIGHT
BEGIN:STANDARD
TZOFFSETFROM:-0400
TZOFFSETTO:-0500
TZNAME:EST
DTSTART:20251102T060000
END:STANDARD
BEGIN:DAYLIGHT
TZOFFSETFROM:-0500
TZOFFSETTO:-0400
TZNAME:EDT
DTSTART:20260308T070000
END:DAYLIGHT
BEGIN:STANDARD
TZOFFSETFROM:-0400
TZOFFSETTO:-0500
TZNAME:EST
DTSTART:20261101T060000
END:STANDARD
BEGIN:DAYLIGHT
TZOFFSETFROM:-0500
TZOFFSETTO:-0400
TZNAME:EDT
DTSTART:20270314T070000
END:DAYLIGHT
BEGIN:STANDARD
TZOFFSETFROM:-0400
TZOFFSETTO:-0500
TZNAME:EST
DTSTART:20271107T060000
END:STANDARD
END:VTIMEZONE
BEGIN:VEVENT
DTSTART;TZID=America/New_York:20260114T190000
DTEND;TZID=America/New_York:20260114T210000
DTSTAMP:20260423T162102
CREATED:20260104T014022Z
LAST-MODIFIED:20260105T061206Z
UID:10014165-1768417200-1768424400@northparktheatre.org
SUMMARY:"Supergirl" (1984)
DESCRIPTION:Look! Up in the sky!\nIt’s a bird! It’s a plane! No\, it’s… SUPERWEEK! \nYes\, SUPERWEEK—an action-packed week in January showcasing not one\, but TWO strange visitors from another planet! \nWe start things strong with Richard Donner’s 1978 SUPERMAN\, starring Christopher Reeve\, Margot Kidder\, Gene Hackman\, and Marlon Brando. \nGorgeously restored in 4K\, you’ll believe a man can fly like never before! \nWe follow that up with a RARE big screen presentation of SUPERGIRL\, a bit of cheesy fun from 1984 starring Helen Slater as the Maid of Might. \nLaugh all you want\, but the cast is no joke\, featuring Faye Dunaway\, Peter O’Toole\, Mia Farrow and more. So yeah… the bar might be set a little higher than you think\, James Gunn! \nFRI January 9th at 7:00 PM – SUPERMAN: THE MOVIE 4K RESTORATION\nSAT January 10th at 7:00 PM – SUPERMAN: THE MOVIE 4K RESTORATION\nSUN January 11th at 7:00 PM – SUPERMAN: THE MOVIE 4K RESTORATION\nMON January 12th at 1:30 PM – SUPERMAN: THE MOVIE 4K RESTORATION\nTUE January 13th at 9:15 PM – SUPERMAN: THE MOVIE 4K RESTORATION\nWED January 14th at 7:00 PM – SUPERGIRL (1984)\nTHU January 15th at 7:00 PM – SUPERGIRL (1984)
URL:https://northparktheatre.org/shows/supergirl-1984/2026-01-14/
CATEGORIES:Supergirl (1984)
ATTACH;FMTTYPE=image/jpeg:https://northparktheatre.org/wp-content/uploads/superweek-poster.jpg
END:VEVENT
BEGIN:VEVENT
DTSTART;TZID=America/New_York:20260115T190000
DTEND;TZID=America/New_York:20260115T210000
DTSTAMP:20260423T162102
CREATED:20260104T014022Z
LAST-MODIFIED:20260105T061206Z
UID:10014166-1768503600-1768510800@northparktheatre.org
SUMMARY:"Supergirl" (1984)
DESCRIPTION:Look! Up in the sky!\nIt’s a bird! It’s a plane! No\, it’s… SUPERWEEK! \nYes\, SUPERWEEK—an action-packed week in January showcasing not one\, but TWO strange visitors from another planet! \nWe start things strong with Richard Donner’s 1978 SUPERMAN\, starring Christopher Reeve\, Margot Kidder\, Gene Hackman\, and Marlon Brando. \nGorgeously restored in 4K\, you’ll believe a man can fly like never before! \nWe follow that up with a RARE big screen presentation of SUPERGIRL\, a bit of cheesy fun from 1984 starring Helen Slater as the Maid of Might. \nLaugh all you want\, but the cast is no joke\, featuring Faye Dunaway\, Peter O’Toole\, Mia Farrow and more. So yeah… the bar might be set a little higher than you think\, James Gunn! \nFRI January 9th at 7:00 PM – SUPERMAN: THE MOVIE 4K RESTORATION\nSAT January 10th at 7:00 PM – SUPERMAN: THE MOVIE 4K RESTORATION\nSUN January 11th at 7:00 PM – SUPERMAN: THE MOVIE 4K RESTORATION\nMON January 12th at 1:30 PM – SUPERMAN: THE MOVIE 4K RESTORATION\nTUE January 13th at 9:15 PM – SUPERMAN: THE MOVIE 4K RESTORATION\nWED January 14th at 7:00 PM – SUPERGIRL (1984)\nTHU January 15th at 7:00 PM – SUPERGIRL (1984)
URL:https://northparktheatre.org/shows/supergirl-1984/2026-01-15/
CATEGORIES:Supergirl (1984)
ATTACH;FMTTYPE=image/jpeg:https://northparktheatre.org/wp-content/uploads/superweek-poster.jpg
END:VEVENT
END:VCALENDAR