BEGIN:VCALENDAR
VERSION:2.0
PRODID:-//North Park Theatre - ECPv6.15.20//NONSGML v1.0//EN
CALSCALE:GREGORIAN
METHOD:PUBLISH
X-WR-CALNAME:North Park Theatre
X-ORIGINAL-URL:https://northparktheatre.org
X-WR-CALDESC:Events for North Park Theatre
REFRESH-INTERVAL;VALUE=DURATION:PT1H
X-Robots-Tag:noindex
X-PUBLISHED-TTL:PT1H
BEGIN:VTIMEZONE
TZID:America/New_York
BEGIN:DAYLIGHT
TZOFFSETFROM:-0500
TZOFFSETTO:-0400
TZNAME:EDT
DTSTART:20250309T070000
END:DAYLIGHT
BEGIN:STANDARD
TZOFFSETFROM:-0400
TZOFFSETTO:-0500
TZNAME:EST
DTSTART:20251102T060000
END:STANDARD
BEGIN:DAYLIGHT
TZOFFSETFROM:-0500
TZOFFSETTO:-0400
TZNAME:EDT
DTSTART:20260308T070000
END:DAYLIGHT
BEGIN:STANDARD
TZOFFSETFROM:-0400
TZOFFSETTO:-0500
TZNAME:EST
DTSTART:20261101T060000
END:STANDARD
BEGIN:DAYLIGHT
TZOFFSETFROM:-0500
TZOFFSETTO:-0400
TZNAME:EDT
DTSTART:20270314T070000
END:DAYLIGHT
BEGIN:STANDARD
TZOFFSETFROM:-0400
TZOFFSETTO:-0500
TZNAME:EST
DTSTART:20271107T060000
END:STANDARD
END:VTIMEZONE
BEGIN:VEVENT
DTSTART;TZID=America/New_York:20260306T213000
DTEND;TZID=America/New_York:20260306T233000
DTSTAMP:20260423T234615
CREATED:20260120T052020Z
LAST-MODIFIED:20260120T052119Z
UID:10014253-1772832600-1772839800@northparktheatre.org
SUMMARY:"She Late!" - Mickey Harmon & Jordan Celotto Tribute Screening
DESCRIPTION:Join us for a night dedicated to Mickey Harmon & Jordan Celotto. \n \n9:30pm Friday\, March 6th\nGet tickets HERE. \nIn this intimate portrayal of friendship\, patience\, and transformation\, filmmaker Pierce McCleary follows Buffalebrity drag trio She Lives through a night of convoluted\, cross-dressing chaos. Will she ever make it?! \nA film by Pierce McCleary\, presented by She Lives \nStarring Mickey Harmon\, Max Darling\, and Vidalia May
URL:https://northparktheatre.org/shows/she-late-mickey-harmon-jordan-celotto-tribute-screening/
CATEGORIES:Special Screening
ATTACH;FMTTYPE=image/jpeg:https://northparktheatre.org/wp-content/uploads/poster-shelate.jpg
END:VEVENT
BEGIN:VEVENT
DTSTART;TZID=America/New_York:20260307T113000
DTEND;TZID=America/New_York:20260307T130000
DTSTAMP:20260423T234615
CREATED:20260304T011604Z
LAST-MODIFIED:20260304T011604Z
UID:10014474-1772883000-1772888400@northparktheatre.org
SUMMARY:"New York Intl Children's Film Festival's Kids Flicks: Native Stories"
DESCRIPTION:Contemporary Indigenous filmmakers from across North and South America provide windows into their cultures\, stories\, and lives through this vibrant collection of short animated\, narrative\, and documentary films. Ages 8+. \nFree screening!  March 7 at 11:30AM at North Park Theatre. More info + reserve your seats here: https://biff26.eventive.org/schedule/698f7982d65b18e17836d1de
URL:https://northparktheatre.org/shows/new-york-intl-childrens-film-festivals-kids-flicks-native-stories/
CATEGORIES:Special Screening
ATTACH;FMTTYPE=image/jpeg:https://northparktheatre.org/wp-content/uploads/poster-cff.jpg
END:VEVENT
END:VCALENDAR