BEGIN:VCALENDAR
VERSION:2.0
PRODID:-//North Park Theatre - ECPv6.15.20//NONSGML v1.0//EN
CALSCALE:GREGORIAN
METHOD:PUBLISH
X-WR-CALNAME:North Park Theatre
X-ORIGINAL-URL:https://northparktheatre.org
X-WR-CALDESC:Events for North Park Theatre
REFRESH-INTERVAL;VALUE=DURATION:PT1H
X-Robots-Tag:noindex
X-PUBLISHED-TTL:PT1H
BEGIN:VTIMEZONE
TZID:America/New_York
BEGIN:DAYLIGHT
TZOFFSETFROM:-0500
TZOFFSETTO:-0400
TZNAME:EDT
DTSTART:20240310T070000
END:DAYLIGHT
BEGIN:STANDARD
TZOFFSETFROM:-0400
TZOFFSETTO:-0500
TZNAME:EST
DTSTART:20241103T060000
END:STANDARD
BEGIN:DAYLIGHT
TZOFFSETFROM:-0500
TZOFFSETTO:-0400
TZNAME:EDT
DTSTART:20250309T070000
END:DAYLIGHT
BEGIN:STANDARD
TZOFFSETFROM:-0400
TZOFFSETTO:-0500
TZNAME:EST
DTSTART:20251102T060000
END:STANDARD
BEGIN:DAYLIGHT
TZOFFSETFROM:-0500
TZOFFSETTO:-0400
TZNAME:EDT
DTSTART:20260308T070000
END:DAYLIGHT
BEGIN:STANDARD
TZOFFSETFROM:-0400
TZOFFSETTO:-0500
TZNAME:EST
DTSTART:20261101T060000
END:STANDARD
END:VTIMEZONE
BEGIN:VEVENT
DTSTART;TZID=America/New_York:20251023T190000
DTEND;TZID=America/New_York:20251023T230000
DTSTAMP:20260424T070143
CREATED:20250925T175813Z
LAST-MODIFIED:20250925T181212Z
UID:10011593-1761246000-1761260400@northparktheatre.org
SUMMARY:NOSFERATU + THE PHANTOM OF THE OPERA w/ LIVE MUSIC BY THE INVINCIBLE CZARS
DESCRIPTION:One of our most popular events RETURNS with a silent horror double feature! \nJoin us as “Austin’s most adventurous band”\, The Invincible Czars\, return to Buffalo to present LIVE scores to both THE PHANTOM OF THE OPERA (1925) and F.W. Murnau’s NOSFERATU (1922). \nThis year marks the exciting debut of their soundtrack to PHANTOM\, a culmination of nearly a year of meticulous composition\, recording\, and collaboration. \nOver the years\, The Invincible Czars have taken this show to premiere venues\, indie movie theaters\, and Alamo Drafthouses all over the country. This showing marks their 7th appearance at the North Park Theatre. \nThursday 10/23 at 7:00 PM \nSingle feature and double feature tickets are now available. NOTE: “VIP” is for the double feature: \n \n\nDOUBLE FEATURE VIP at 7:00 PM \nTHE PHANTOM OF THE OPERA (SINGLE) at 7:00 PM \nNOSFERATU (SINGLE) at 9:15 PM \n \n“(The Invincibe Czars’) live Nosferatu silent film score is a brilliantly realized wedding of contemporary musical sensibility and technology with early 20th century cinema.”\n-Chico News Review \n \nMORE INFO: \nHailing from Austin\, Texas\, The Invincible Czars have been “keeping it weird” since 2003 when they could be found playing their left-of-the-dial music in clubs like Emo’s and Stubb’s.  In 2004\, they stepped into the arts realm with their re-imagined version of Tchaikovsky’s Nutcracker Suite. In 2006\, they began performing live silent film soundtracks at the first Alamo Drafthouse and have since blazed their own touring circuit of cinemas\, colleges and PACs across the US and Canada. \nTheir tastefully modern silent films soundtracks and dynamic live performances give modern day audiences a context in which to appreciate early cinema and they have earned accolades from film and music buffs alike. \nWith influences ranging from film composers like Bernard Herrmann and Graham Reynolds to their favorite oddball rockers like Primus and Sleepytime Gorilla Museum\, The Invincible Czars create an unforgettable live experience that appeals to audiences of all backgrounds. \nSince 2018\, the group has operate more like a collective with a rotating cast of players. The fall 2025 touring roster is: \nGregg Barbanell – foley sound effects (CA and AZ show only)\nStefan Castro del-Bosque – drums\, percussion\, sound effects\nPhil Davidson – violin\, keyboards\, percussion\nWes Haynes – keyboards\nJosh Robins – guitar\, bass guitar\, sound effects\nKevin Sakai – flute\, clarinet\, bass clarinet (in for Lauryn Gould) \nABOUT THE PHANTOM OF THE OPERA (1925): \nThe iconic moment when Mary Philbin removed Lon Chaney’s mask in The Phantom of the Opera (1925\, dir. Rupert Julian) is one of cinema’s most enduring images. Now\, The Invincible Czars will bring their signature blend of eclectic instrumentation\, adventurous arrangements and sense of  emotional depth to this 100-year-old classic with their new\, tastefully modern soundtrack\, performing it live with the film in art house cinemas across the US and Canada in 2025.  \nThe tour will celebrate the 100th anniversary of this early American horror film.  The band has been captivating both music and film enthusiasts across North America since 2015 when their soundtrack for Nosferatu earned them accolades in the art house community and made them staple of the silent film circuit.  \nThe Czars’ Phantom of the Opera soundtrack is the culmination of nearly a year of meticulous composition\, recording\, and collaboration. The group drew inspiration from the film’s gothic visuals and haunting narrative to craft a score using their primary instruments: piano\, violin\, electric guitar/bass\, organ\, flute\, drums and bass clarinet.  They create a live experience so immersive that it’s easy to forget the music is being played live at times! \nABOUT NOSFERATU: \nNosferatu tells the story of Hutter and Ellen\, a couple from the village of Wisborg. Hutter travels to Transylvania to sell a piece of property in Wisborg to Count Orlok. Hutter stays in Orlok’s castle only to learn that the Count is a vampire. Orlok purchases a house next to Hutter’s\, locks Hutter in the castle and travels to Wisborg. On the way\, he manages to possess Hutter’s employer and Ellen and strike the village with an outbreak of the plague. Hutter rushes home to stop him before it’s too late.
URL:https://northparktheatre.org/shows/nosferatu-the-phantom-of-the-opera-w-live-music-by-the-invincible-czars/
CATEGORIES:Special Screening
ATTACH;FMTTYPE=image/jpeg:https://northparktheatre.org/wp-content/uploads/poster-nos252.jpg
END:VEVENT
END:VCALENDAR