BEGIN:VCALENDAR
VERSION:2.0
PRODID:-//North Park Theatre - ECPv6.15.20//NONSGML v1.0//EN
CALSCALE:GREGORIAN
METHOD:PUBLISH
X-WR-CALNAME:North Park Theatre
X-ORIGINAL-URL:https://northparktheatre.org
X-WR-CALDESC:Events for North Park Theatre
REFRESH-INTERVAL;VALUE=DURATION:PT1H
X-Robots-Tag:noindex
X-PUBLISHED-TTL:PT1H
BEGIN:VTIMEZONE
TZID:America/New_York
BEGIN:DAYLIGHT
TZOFFSETFROM:-0500
TZOFFSETTO:-0400
TZNAME:EDT
DTSTART:20240310T070000
END:DAYLIGHT
BEGIN:STANDARD
TZOFFSETFROM:-0400
TZOFFSETTO:-0500
TZNAME:EST
DTSTART:20241103T060000
END:STANDARD
BEGIN:DAYLIGHT
TZOFFSETFROM:-0500
TZOFFSETTO:-0400
TZNAME:EDT
DTSTART:20250309T070000
END:DAYLIGHT
BEGIN:STANDARD
TZOFFSETFROM:-0400
TZOFFSETTO:-0500
TZNAME:EST
DTSTART:20251102T060000
END:STANDARD
BEGIN:DAYLIGHT
TZOFFSETFROM:-0500
TZOFFSETTO:-0400
TZNAME:EDT
DTSTART:20260308T070000
END:DAYLIGHT
BEGIN:STANDARD
TZOFFSETFROM:-0400
TZOFFSETTO:-0500
TZNAME:EST
DTSTART:20261101T060000
END:STANDARD
END:VTIMEZONE
BEGIN:VEVENT
DTSTART;TZID=America/New_York:20250511T162000
DTEND;TZID=America/New_York:20250511T183000
DTSTAMP:20260424T141838
CREATED:20250508T235041Z
LAST-MODIFIED:20250508T235041Z
UID:10009376-1746980400-1746988200@northparktheatre.org
SUMMARY:"Wolf Children" - 4K Remaster (SUBTITLED)
DESCRIPTION:“Love between two species has rarely seemed more intense\, more natural\, or more ineffably sad.” – Daily Telegraph \nMamoru Hosoda’s modern fairytale returns to the big screen\, vividly projected in laser-bright 4K! \n \n\n \n\nSUN May 11th at 4:20 PM  (SUBTITLED)\nSUN May 11th at 7:00 PM  (DUBBED)\nMON May 12th at 7:00 PM  (SUBTITLED)\nTUE May 13th at 7:00 PM  (SUBTITLED) \nCollege student Hana falls in love with a “wolf man” and together they have two half-human\, half-wolf children\, Ame and Yuki. The young family’s happy but humble life comes to an abrupt end when the father is tragically killed during a hunt. After struggling to raise her children in the busy city\, Hana boldly decides to move to a dilapidated house in the countryside\, in hopes that her children may one day decide their own path to happiness – whether “human” or “wolf.” \nThis heart-wrenching modern fairy tale is a staggering work of beauty and emotion from Academy Award®-nominated director Mamoru Hosoda. Rich with gorgeous animation and set to a poignant musical score\, Wolf Children is a sweeping tale about self-discovery and the bonds of family.
URL:https://northparktheatre.org/shows/wolf-children-4k-remaster-subtitled/2025-05-11/1/
CATEGORIES:Special Screening
ATTACH;FMTTYPE=image/jpeg:https://northparktheatre.org/wp-content/uploads/poster-wolfch.jpg
END:VEVENT
BEGIN:VEVENT
DTSTART;TZID=America/New_York:20250511T190000
DTEND;TZID=America/New_York:20250511T210000
DTSTAMP:20260424T141838
CREATED:20250508T235041Z
LAST-MODIFIED:20250508T235041Z
UID:10009377-1746990000-1746997200@northparktheatre.org
SUMMARY:"Wolf Children" - 4K Remaster (SUBTITLED)
DESCRIPTION:“Love between two species has rarely seemed more intense\, more natural\, or more ineffably sad.” – Daily Telegraph \nMamoru Hosoda’s modern fairytale returns to the big screen\, vividly projected in laser-bright 4K! \n \n\n \n\nSUN May 11th at 4:20 PM  (SUBTITLED)\nSUN May 11th at 7:00 PM  (DUBBED)\nMON May 12th at 7:00 PM  (SUBTITLED)\nTUE May 13th at 7:00 PM  (SUBTITLED) \nCollege student Hana falls in love with a “wolf man” and together they have two half-human\, half-wolf children\, Ame and Yuki. The young family’s happy but humble life comes to an abrupt end when the father is tragically killed during a hunt. After struggling to raise her children in the busy city\, Hana boldly decides to move to a dilapidated house in the countryside\, in hopes that her children may one day decide their own path to happiness – whether “human” or “wolf.” \nThis heart-wrenching modern fairy tale is a staggering work of beauty and emotion from Academy Award®-nominated director Mamoru Hosoda. Rich with gorgeous animation and set to a poignant musical score\, Wolf Children is a sweeping tale about self-discovery and the bonds of family.
URL:https://northparktheatre.org/shows/wolf-children-4k-remaster-subtitled/2025-05-11/2/
CATEGORIES:Special Screening
ATTACH;FMTTYPE=image/jpeg:https://northparktheatre.org/wp-content/uploads/poster-wolfch.jpg
END:VEVENT
BEGIN:VEVENT
DTSTART;TZID=America/New_York:20250513T190000
DTEND;TZID=America/New_York:20250513T210000
DTSTAMP:20260424T141838
CREATED:20250508T235041Z
LAST-MODIFIED:20250508T235041Z
UID:10009378-1747162800-1747170000@northparktheatre.org
SUMMARY:"Wolf Children" - 4K Remaster (SUBTITLED)
DESCRIPTION:“Love between two species has rarely seemed more intense\, more natural\, or more ineffably sad.” – Daily Telegraph \nMamoru Hosoda’s modern fairytale returns to the big screen\, vividly projected in laser-bright 4K! \n \n\n \n\nSUN May 11th at 4:20 PM  (SUBTITLED)\nSUN May 11th at 7:00 PM  (DUBBED)\nMON May 12th at 7:00 PM  (SUBTITLED)\nTUE May 13th at 7:00 PM  (SUBTITLED) \nCollege student Hana falls in love with a “wolf man” and together they have two half-human\, half-wolf children\, Ame and Yuki. The young family’s happy but humble life comes to an abrupt end when the father is tragically killed during a hunt. After struggling to raise her children in the busy city\, Hana boldly decides to move to a dilapidated house in the countryside\, in hopes that her children may one day decide their own path to happiness – whether “human” or “wolf.” \nThis heart-wrenching modern fairy tale is a staggering work of beauty and emotion from Academy Award®-nominated director Mamoru Hosoda. Rich with gorgeous animation and set to a poignant musical score\, Wolf Children is a sweeping tale about self-discovery and the bonds of family.
URL:https://northparktheatre.org/shows/wolf-children-4k-remaster-subtitled/2025-05-13/
CATEGORIES:Special Screening
ATTACH;FMTTYPE=image/jpeg:https://northparktheatre.org/wp-content/uploads/poster-wolfch.jpg
END:VEVENT
BEGIN:VEVENT
DTSTART;TZID=America/New_York:20250531T113000
DTEND;TZID=America/New_York:20250531T130000
DTSTAMP:20260424T141838
CREATED:20250527T233810Z
LAST-MODIFIED:20250527T233810Z
UID:10009564-1748691000-1748696400@northparktheatre.org
SUMMARY:"The Nightowl Film Festival"
DESCRIPTION:Can you make a movie in just 24 hours? \nThis Saturday at 11:30am @ The North Park Theatre: \nCome see what 10 teams of filmmakers were able to cook up in only 24 hours! \n \nGet tickets HERE. \n\n   \n\n\n\n\n\n\n\n\n\n\nView this post on Instagram\n\n\n\n\n\n\n\n\n\n\n\n\n\n\n\n\n\n\n\n\n\n\n \nA post shared by SLP Entertainment LLC (@slp.entertainment)
URL:https://northparktheatre.org/shows/the-nightowl-film-festival/
CATEGORIES:Special Screening
ATTACH;FMTTYPE=image/jpeg:https://northparktheatre.org/wp-content/uploads/poster-nightowl.jpg
END:VEVENT
END:VCALENDAR