BEGIN:VCALENDAR
VERSION:2.0
PRODID:-//North Park Theatre - ECPv6.15.20//NONSGML v1.0//EN
CALSCALE:GREGORIAN
METHOD:PUBLISH
X-WR-CALNAME:North Park Theatre
X-ORIGINAL-URL:https://northparktheatre.org
X-WR-CALDESC:Events for North Park Theatre
REFRESH-INTERVAL;VALUE=DURATION:PT1H
X-Robots-Tag:noindex
X-PUBLISHED-TTL:PT1H
BEGIN:VTIMEZONE
TZID:America/New_York
BEGIN:DAYLIGHT
TZOFFSETFROM:-0500
TZOFFSETTO:-0400
TZNAME:EDT
DTSTART:20240310T070000
END:DAYLIGHT
BEGIN:STANDARD
TZOFFSETFROM:-0400
TZOFFSETTO:-0500
TZNAME:EST
DTSTART:20241103T060000
END:STANDARD
BEGIN:DAYLIGHT
TZOFFSETFROM:-0500
TZOFFSETTO:-0400
TZNAME:EDT
DTSTART:20250309T070000
END:DAYLIGHT
BEGIN:STANDARD
TZOFFSETFROM:-0400
TZOFFSETTO:-0500
TZNAME:EST
DTSTART:20251102T060000
END:STANDARD
BEGIN:DAYLIGHT
TZOFFSETFROM:-0500
TZOFFSETTO:-0400
TZNAME:EDT
DTSTART:20260308T070000
END:DAYLIGHT
BEGIN:STANDARD
TZOFFSETFROM:-0400
TZOFFSETTO:-0500
TZNAME:EST
DTSTART:20261101T060000
END:STANDARD
END:VTIMEZONE
BEGIN:VEVENT
DTSTART;TZID=America/New_York:20250403T193000
DTEND;TZID=America/New_York:20250403T213000
DTSTAMP:20260424T155734
CREATED:20250401T004827Z
LAST-MODIFIED:20250401T004827Z
UID:10008018-1743708600-1743715800@northparktheatre.org
SUMMARY:"Audrey's Children" - Ronald McDonald House Event
DESCRIPTION:“[An] inspiring drama\, anchored by Dormer’s committed performance. Every bit of her performance shows us that Dr. Evans was a rare combination of a tender heart\, scientific brilliance\, and fearless\, boundless dedication to her patients.”\n— RogerEbert.com \nDon’t miss an early screening of this incredible true story revealing the history behind Ronald McDonald house. \nStarring GAME OF THRONES’S Natalie Dormer! \n \n7:30pm Thursday\, April 3rd\nGet tickets HERE. \nPhiladelphia. 1969. British physician\, Dr. Audrey Evans\, is newly recruited to a world-renowned children’s hospital and battles sexism\, medical conventions\, and the subterfuge of her peers to develop revolutionary treatments\, purchase the first Ronald McDonald House for families of patients and\, ultimately\, impact the lives of millions of children around the world. Based on a true story.
URL:https://northparktheatre.org/shows/audreys-children-ronald-mcdonald-house-event/
CATEGORIES:Special Screening
ATTACH;FMTTYPE=image/jpeg:https://northparktheatre.org/wp-content/uploads/poster-audrey.jpg
END:VEVENT
BEGIN:VEVENT
DTSTART;TZID=America/New_York:20250404T213000
DTEND;TZID=America/New_York:20250404T233000
DTSTAMP:20260424T155734
CREATED:20250401T153126Z
LAST-MODIFIED:20250401T153126Z
UID:10008389-1743802200-1743809400@northparktheatre.org
SUMMARY:"Princess Mononoke" - New 4K Restoration (DUBBED)
DESCRIPTION:A brand-new 4K restoration! \nIn celebration of the 40th anniversary of Studio Ghibli\, GKIDS presents Oscar-winning director Hayao Miyazaki’s epic fantasy masterpiece like you’ve never seen it before. \nThe hand-drawn\, animated feature is an original story written and directed by Studio Ghibli co-founder Hayao Miyazaki\, produced by co-founder Toshio Suzuki\, and features a musical score from Miyazaki’s long-time collaborator\, the renowned composer Joe Hisaishi. The new version of the film was created from a new 4K restoration directly overseen by Studio Ghibli’s own Atsushi Okui\, who has been involved in nearly every major Studio Ghibli project since he first started at the studio in 1993. \n“In a time when technology tries to replicate humanity\, we are thrilled that audiences value a theatrical experience that respects and celebrates Hayao Miyazaki and Studio Ghibli’s masterpiece in all its cinematic hand-drawn glory.” – GKids (US Distributor of Studio Ghibli) \n \n\n \n\nFRI April 4th at 9:30 PM  (DUBBED)\nSAT April 5th at 9:30 PM  (SUBTITLED)\nSUN April 6th at 9:30 PM  (SUBTITLED)\nMON April 7th at 9:30 PM  (DUBBED)\nTUE April 8th at 9:30 PM  (SUBTITLED)
URL:https://northparktheatre.org/shows/princess-mononoke-new-4k-restoration-dubbed/2025-04-04/
CATEGORIES:Special Screening
ATTACH;FMTTYPE=image/jpeg:https://northparktheatre.org/wp-content/uploads/poster-mono.jpg
END:VEVENT
BEGIN:VEVENT
DTSTART;TZID=America/New_York:20250405T213000
DTEND;TZID=America/New_York:20250405T233000
DTSTAMP:20260424T155734
CREATED:20250401T131631Z
LAST-MODIFIED:20250401T153015Z
UID:10008020-1743888600-1743895800@northparktheatre.org
SUMMARY:"Princess Mononoke" - New 4K Restoration (SUBTITLED)
DESCRIPTION:A brand-new 4K restoration! \nIn celebration of the 40th anniversary of Studio Ghibli\, GKIDS presents Oscar-winning director Hayao Miyazaki’s epic fantasy masterpiece like you’ve never seen it before. \nThe hand-drawn\, animated feature is an original story written and directed by Studio Ghibli co-founder Hayao Miyazaki\, produced by co-founder Toshio Suzuki\, and features a musical score from Miyazaki’s long-time collaborator\, the renowned composer Joe Hisaishi. The new version of the film was created from a new 4K restoration directly overseen by Studio Ghibli’s own Atsushi Okui\, who has been involved in nearly every major Studio Ghibli project since he first started at the studio in 1993. \n“In a time when technology tries to replicate humanity\, we are thrilled that audiences value a theatrical experience that respects and celebrates Hayao Miyazaki and Studio Ghibli’s masterpiece in all its cinematic hand-drawn glory.” – GKids (US Distributor of Studio Ghibli) \n \n\n \n\nFRI April 4th at 9:30 PM  (DUBBED)\nSAT April 5th at 9:30 PM  (SUBTITLED)\nSUN April 6th at 9:30 PM  (SUBTITLED)\nMON April 7th at 9:30 PM  (DUBBED)\nTUE April 8th at 9:30 PM  (SUBTITLED)
URL:https://northparktheatre.org/shows/princess-mononoke-new-4k-restoration/2025-04-05/
CATEGORIES:Special Screening
ATTACH;FMTTYPE=image/jpeg:https://northparktheatre.org/wp-content/uploads/poster-mono.jpg
END:VEVENT
BEGIN:VEVENT
DTSTART;TZID=America/New_York:20250406T213000
DTEND;TZID=America/New_York:20250406T233000
DTSTAMP:20260424T155734
CREATED:20250401T131631Z
LAST-MODIFIED:20250401T153015Z
UID:10008021-1743975000-1743982200@northparktheatre.org
SUMMARY:"Princess Mononoke" - New 4K Restoration (SUBTITLED)
DESCRIPTION:A brand-new 4K restoration! \nIn celebration of the 40th anniversary of Studio Ghibli\, GKIDS presents Oscar-winning director Hayao Miyazaki’s epic fantasy masterpiece like you’ve never seen it before. \nThe hand-drawn\, animated feature is an original story written and directed by Studio Ghibli co-founder Hayao Miyazaki\, produced by co-founder Toshio Suzuki\, and features a musical score from Miyazaki’s long-time collaborator\, the renowned composer Joe Hisaishi. The new version of the film was created from a new 4K restoration directly overseen by Studio Ghibli’s own Atsushi Okui\, who has been involved in nearly every major Studio Ghibli project since he first started at the studio in 1993. \n“In a time when technology tries to replicate humanity\, we are thrilled that audiences value a theatrical experience that respects and celebrates Hayao Miyazaki and Studio Ghibli’s masterpiece in all its cinematic hand-drawn glory.” – GKids (US Distributor of Studio Ghibli) \n \n\n \n\nFRI April 4th at 9:30 PM  (DUBBED)\nSAT April 5th at 9:30 PM  (SUBTITLED)\nSUN April 6th at 9:30 PM  (SUBTITLED)\nMON April 7th at 9:30 PM  (DUBBED)\nTUE April 8th at 9:30 PM  (SUBTITLED)
URL:https://northparktheatre.org/shows/princess-mononoke-new-4k-restoration/2025-04-06/
CATEGORIES:Special Screening
ATTACH;FMTTYPE=image/jpeg:https://northparktheatre.org/wp-content/uploads/poster-mono.jpg
END:VEVENT
BEGIN:VEVENT
DTSTART;TZID=America/New_York:20250407T213000
DTEND;TZID=America/New_York:20250407T233000
DTSTAMP:20260424T155734
CREATED:20250401T153126Z
LAST-MODIFIED:20250401T153126Z
UID:10008390-1744061400-1744068600@northparktheatre.org
SUMMARY:"Princess Mononoke" - New 4K Restoration (DUBBED)
DESCRIPTION:A brand-new 4K restoration! \nIn celebration of the 40th anniversary of Studio Ghibli\, GKIDS presents Oscar-winning director Hayao Miyazaki’s epic fantasy masterpiece like you’ve never seen it before. \nThe hand-drawn\, animated feature is an original story written and directed by Studio Ghibli co-founder Hayao Miyazaki\, produced by co-founder Toshio Suzuki\, and features a musical score from Miyazaki’s long-time collaborator\, the renowned composer Joe Hisaishi. The new version of the film was created from a new 4K restoration directly overseen by Studio Ghibli’s own Atsushi Okui\, who has been involved in nearly every major Studio Ghibli project since he first started at the studio in 1993. \n“In a time when technology tries to replicate humanity\, we are thrilled that audiences value a theatrical experience that respects and celebrates Hayao Miyazaki and Studio Ghibli’s masterpiece in all its cinematic hand-drawn glory.” – GKids (US Distributor of Studio Ghibli) \n \n\n \n\nFRI April 4th at 9:30 PM  (DUBBED)\nSAT April 5th at 9:30 PM  (SUBTITLED)\nSUN April 6th at 9:30 PM  (SUBTITLED)\nMON April 7th at 9:30 PM  (DUBBED)\nTUE April 8th at 9:30 PM  (SUBTITLED)
URL:https://northparktheatre.org/shows/princess-mononoke-new-4k-restoration-dubbed/2025-04-07/
CATEGORIES:Special Screening
ATTACH;FMTTYPE=image/jpeg:https://northparktheatre.org/wp-content/uploads/poster-mono.jpg
END:VEVENT
BEGIN:VEVENT
DTSTART;TZID=America/New_York:20250408T213000
DTEND;TZID=America/New_York:20250408T233000
DTSTAMP:20260424T155734
CREATED:20250401T131631Z
LAST-MODIFIED:20250401T153015Z
UID:10008023-1744147800-1744155000@northparktheatre.org
SUMMARY:"Princess Mononoke" - New 4K Restoration (SUBTITLED)
DESCRIPTION:A brand-new 4K restoration! \nIn celebration of the 40th anniversary of Studio Ghibli\, GKIDS presents Oscar-winning director Hayao Miyazaki’s epic fantasy masterpiece like you’ve never seen it before. \nThe hand-drawn\, animated feature is an original story written and directed by Studio Ghibli co-founder Hayao Miyazaki\, produced by co-founder Toshio Suzuki\, and features a musical score from Miyazaki’s long-time collaborator\, the renowned composer Joe Hisaishi. The new version of the film was created from a new 4K restoration directly overseen by Studio Ghibli’s own Atsushi Okui\, who has been involved in nearly every major Studio Ghibli project since he first started at the studio in 1993. \n“In a time when technology tries to replicate humanity\, we are thrilled that audiences value a theatrical experience that respects and celebrates Hayao Miyazaki and Studio Ghibli’s masterpiece in all its cinematic hand-drawn glory.” – GKids (US Distributor of Studio Ghibli) \n \n\n \n\nFRI April 4th at 9:30 PM  (DUBBED)\nSAT April 5th at 9:30 PM  (SUBTITLED)\nSUN April 6th at 9:30 PM  (SUBTITLED)\nMON April 7th at 9:30 PM  (DUBBED)\nTUE April 8th at 9:30 PM  (SUBTITLED)
URL:https://northparktheatre.org/shows/princess-mononoke-new-4k-restoration/2025-04-08/
CATEGORIES:Special Screening
ATTACH;FMTTYPE=image/jpeg:https://northparktheatre.org/wp-content/uploads/poster-mono.jpg
END:VEVENT
BEGIN:VEVENT
DTSTART;TZID=America/New_York:20250409T213000
DTEND;TZID=America/New_York:20250409T233000
DTSTAMP:20260424T155734
CREATED:20250402T034550Z
LAST-MODIFIED:20250409T050403Z
UID:10008391-1744234200-1744241400@northparktheatre.org
SUMMARY:"Vampire Hunter D" - 40th Anniversary (SUBTITLED)
DESCRIPTION:One of the first adult anime releases returns to the BIG SCREEN\, stranger\, scarier\, and more beautiful than ever! \nFeaturing classic character design by Yoshitaka Amano\, the famed Final Fantasy concept artist. \n \n\n \n\nWED April 9th at 9:30 PM SUBTITLED\nTHU April 10th at 9:30 PM DUBBED\nSUN April 13th at 9:10 PM SUBTITLED\n \nFor 10\,000 years\, Count Magnus Lee has walked the night\, sustained by an unholy thirst for blood and an unending lust for human women. \nBut when he tastes the sweet nectar running through Doris Lang’s veins\, the Count knows he has found more than his next meal: this is the woman he intends to claim as his next vampire bride. \nAs the daughter of a werewolf hunter\, however\, Doris Lang is less than willing to step into the thrall of evil. And if she is unable to defend herself from the Count’s nightmarish powers\, she is fortunate enough to have found someone who can: the Vampire Hunter known as D. But D is no ordinary man\, and signing up for his protection may carry a price of its own. \nToyoo Ashida\, known for his work in Fist of the North Star\, directed\, with a screenplay provided by Yasushi Hirano. \nYoshitaka Amano\, known best for his hand in creating other iconic characters from series such as Gatchaman and Casshan\, as well as creating concept art for the Final Fantasy video game series\, handled character design for the film\, and acclaimed pop artist Tetsuya Komuro was responsible for the soundtrack. \nAnimation production was provided by Ashi Productions.
URL:https://northparktheatre.org/shows/vampire-hunter-d-40th-anniversary-subtitled/2025-04-09/
CATEGORIES:Special Screening
ATTACH;FMTTYPE=image/jpeg:https://northparktheatre.org/wp-content/uploads/Adobe-Express-file-1.jpg
END:VEVENT
BEGIN:VEVENT
DTSTART;TZID=America/New_York:20250410T213000
DTEND;TZID=America/New_York:20250410T233000
DTSTAMP:20260424T155734
CREATED:20250402T034803Z
LAST-MODIFIED:20250402T034803Z
UID:10008393-1744320600-1744327800@northparktheatre.org
SUMMARY:"Vampire Hunter D" - 40th Anniversary (DUBBED)
DESCRIPTION:One of the first adult anime releases returns to the BIG SCREEN\, stranger\, scarier\, and more beautiful than ever! \nFeaturing classic character design by Yoshitaka Amano\, the famed Final Fantasy concept artist. \n \n\n \n\nWED April 9th at 9:30 PM SUBTITLED\nTHU April 10th at 9:30 PM DUBBED\n \nFor 10\,000 years\, Count Magnus Lee has walked the night\, sustained by an unholy thirst for blood and an unending lust for human women. \nBut when he tastes the sweet nectar running through Doris Lang’s veins\, the Count knows he has found more than his next meal: this is the woman he intends to claim as his next vampire bride. \nAs the daughter of a werewolf hunter\, however\, Doris Lang is less than willing to step into the thrall of evil. And if she is unable to defend herself from the Count’s nightmarish powers\, she is fortunate enough to have found someone who can: the Vampire Hunter known as D. But D is no ordinary man\, and signing up for his protection may carry a price of its own. \nToyoo Ashida\, known for his work in Fist of the North Star\, directed\, with a screenplay provided by Yasushi Hirano. \nYoshitaka Amano\, known best for his hand in creating other iconic characters from series such as Gatchaman and Casshan\, as well as creating concept art for the Final Fantasy video game series\, handled character design for the film\, and acclaimed pop artist Tetsuya Komuro was responsible for the soundtrack. \nAnimation production was provided by Ashi Productions.
URL:https://northparktheatre.org/shows/vampire-hunter-d-40th-anniversary-dubbed/
CATEGORIES:Special Screening
ATTACH;FMTTYPE=image/jpeg:https://northparktheatre.org/wp-content/uploads/Adobe-Express-file-1.jpg
END:VEVENT
BEGIN:VEVENT
DTSTART;TZID=America/New_York:20250413T211000
DTEND;TZID=America/New_York:20250413T230000
DTSTAMP:20260424T155734
CREATED:20250402T034550Z
LAST-MODIFIED:20250409T050403Z
UID:10008396-1744578600-1744585200@northparktheatre.org
SUMMARY:"Vampire Hunter D" - 40th Anniversary (SUBTITLED)
DESCRIPTION:One of the first adult anime releases returns to the BIG SCREEN\, stranger\, scarier\, and more beautiful than ever! \nFeaturing classic character design by Yoshitaka Amano\, the famed Final Fantasy concept artist. \n \n\n \n\nWED April 9th at 9:30 PM SUBTITLED\nTHU April 10th at 9:30 PM DUBBED\nSUN April 13th at 9:10 PM SUBTITLED\n \nFor 10\,000 years\, Count Magnus Lee has walked the night\, sustained by an unholy thirst for blood and an unending lust for human women. \nBut when he tastes the sweet nectar running through Doris Lang’s veins\, the Count knows he has found more than his next meal: this is the woman he intends to claim as his next vampire bride. \nAs the daughter of a werewolf hunter\, however\, Doris Lang is less than willing to step into the thrall of evil. And if she is unable to defend herself from the Count’s nightmarish powers\, she is fortunate enough to have found someone who can: the Vampire Hunter known as D. But D is no ordinary man\, and signing up for his protection may carry a price of its own. \nToyoo Ashida\, known for his work in Fist of the North Star\, directed\, with a screenplay provided by Yasushi Hirano. \nYoshitaka Amano\, known best for his hand in creating other iconic characters from series such as Gatchaman and Casshan\, as well as creating concept art for the Final Fantasy video game series\, handled character design for the film\, and acclaimed pop artist Tetsuya Komuro was responsible for the soundtrack. \nAnimation production was provided by Ashi Productions.
URL:https://northparktheatre.org/shows/vampire-hunter-d-40th-anniversary-subtitled/2025-04-13/
CATEGORIES:Special Screening
ATTACH;FMTTYPE=image/jpeg:https://northparktheatre.org/wp-content/uploads/Adobe-Express-file-1.jpg
END:VEVENT
BEGIN:VEVENT
DTSTART;TZID=America/New_York:20250415T214000
DTEND;TZID=America/New_York:20250415T233000
DTSTAMP:20260424T155734
CREATED:20250409T034809Z
LAST-MODIFIED:20250409T153247Z
UID:10008395-1744753200-1744759800@northparktheatre.org
SUMMARY:"THE PEE PEE POO POO MAN"
DESCRIPTION:ONE NIGHT ONLY! \nIt’s everything you want it to be… and more! 💩 \n“A new cult classic.” – The Toronto Star \n“A MASTERPISS” – Unknown \nAfter selling out multiple screenings across Canada\, director Braden Sitter Sr. brings his scatological sensation south of the border for the first time. \n \n9:40pm Tuesday\, April 15th\nGet tickets HERE. \nA paranoid young man launches a bizarre crime spree against the citizens of Toronto in this psycho-spiritual thriller comedy starring Rishi Rodriguez\, Spencer Rice (Kenny vs Spenny)\, and Paul Bellini (Kids in the Hall).
URL:https://northparktheatre.org/shows/the-pee-pee-poo-poo-man/
CATEGORIES:Special Screening
ATTACH;FMTTYPE=image/jpeg:https://northparktheatre.org/wp-content/uploads/poster-pee.jpg
END:VEVENT
BEGIN:VEVENT
DTSTART;TZID=America/New_York:20250423T190000
DTEND;TZID=America/New_York:20250423T210000
DTSTAMP:20260424T155734
CREATED:20250408T082110Z
LAST-MODIFIED:20250409T185152Z
UID:10008394-1745434800-1745442000@northparktheatre.org
SUMMARY:1-800-ON-HER-OWN: ANI DIFRANCO
DESCRIPTION:“Anti-folk singer-songwriter\, political activist\, feminist icon and LGBTQ+ rights campaigner: it shouldn’t be surprising that Ani DiFranco has also been a pioneering force in independent music for over three decades.”\n– Andy Fyfe\, Mojo \nONE NIGHT ONLY! \nSee the local premiere of a major documentary celebrating the icon who put Buffalo on the indie-music map: our very own Ani DiFranco! \nFeaturing director Dana Flor LIVE and in-person! \n \n7:00pm Wednesday\, April 23rd\nGet tickets HERE. \nAt age 15\, feminist icon and activist Ani DiFranco was an emancipated minor and a singer-songwriter star in the coffee house music scene. At 19\, she started Righteous Babe\, her own record label\, and released her self-titled first album a year later in 1990 — followed by 22 albums over the next 33 years and collaborations with Pete Seeger\, Cyndi Lauper\, and Prince. \nWith intimate access to the 54-year-old’s creative and personal life — she is bisexual\, married\, a mother of two\, and still “DIY all the way” — Dana Flor introduces the viewer to an artistically evolving\, ardently self-evaluating version of the rebel prodigy; and draws decades-long fans into the vulnerable\, real-time struggles of a middle-aged righteous babe.
URL:https://northparktheatre.org/shows/1-800-on-her-own-ani-difranco/
CATEGORIES:Special Screening
ATTACH;FMTTYPE=image/jpeg:https://northparktheatre.org/wp-content/uploads/poster-ani.jpg
END:VEVENT
END:VCALENDAR