BEGIN:VCALENDAR
VERSION:2.0
PRODID:-//North Park Theatre - ECPv6.15.20//NONSGML v1.0//EN
CALSCALE:GREGORIAN
METHOD:PUBLISH
X-ORIGINAL-URL:https://northparktheatre.org
X-WR-CALDESC:Events for North Park Theatre
REFRESH-INTERVAL;VALUE=DURATION:PT1H
X-Robots-Tag:noindex
X-PUBLISHED-TTL:PT1H
BEGIN:VTIMEZONE
TZID:America/New_York
BEGIN:DAYLIGHT
TZOFFSETFROM:-0500
TZOFFSETTO:-0400
TZNAME:EDT
DTSTART:20230312T070000
END:DAYLIGHT
BEGIN:STANDARD
TZOFFSETFROM:-0400
TZOFFSETTO:-0500
TZNAME:EST
DTSTART:20231105T060000
END:STANDARD
BEGIN:DAYLIGHT
TZOFFSETFROM:-0500
TZOFFSETTO:-0400
TZNAME:EDT
DTSTART:20240310T070000
END:DAYLIGHT
BEGIN:STANDARD
TZOFFSETFROM:-0400
TZOFFSETTO:-0500
TZNAME:EST
DTSTART:20241103T060000
END:STANDARD
BEGIN:DAYLIGHT
TZOFFSETFROM:-0500
TZOFFSETTO:-0400
TZNAME:EDT
DTSTART:20250309T070000
END:DAYLIGHT
BEGIN:STANDARD
TZOFFSETFROM:-0400
TZOFFSETTO:-0500
TZNAME:EST
DTSTART:20251102T060000
END:STANDARD
END:VTIMEZONE
BEGIN:VEVENT
DTSTART;TZID=America/New_York:20240525T113000
DTEND;TZID=America/New_York:20240525T130000
DTSTAMP:20260425T071322
CREATED:20240522T131557Z
LAST-MODIFIED:20240522T131557Z
UID:10002676-1716636600-1716642000@northparktheatre.org
SUMMARY:THE PRISONER - "Living in Harmony"
DESCRIPTION: No prior knowledge of THE PRISONER is required before viewing. \n“I am not a number! I am a free man!” \nBefore WESTWORLD! Before LOST and TWIN PEAKS! \nJoin in celebrating the 50th anniversary of the ORIGINAL mind-bending television masterpiece\, frequently cited by artists and critics as one of the greatest TV shows of all time. \n“The CITIZEN KANE of British TV.”— The Guardian \n“I loved The Prisoner\, which was a very odd sort of hybrid of sci-fi\, mystery and character. Certainly there are elements of The Prisoner in both Alias and Lost.”— J.J. Abrams \n“A seminal influence….one of my first aesthetic experiences where I was exposed to things like symbolism.”— Alan Moore \nWe will be presenting a memorable episode from the 17 episode series\, fully restored in HD from the 35mm negative: \nEP. XIV (“Living in Harmony”): In an Old West setting\, a lawman who resigned is trapped in a town called Harmony where the Judge wants him to be the new sheriff – by hook or by crook. \n \n \nSAT March 30th at 11:30 AMSUN March 31st at 11:30 AM \nDon’t miss this once-in-a-lifetime opportunity to see this hugely influential classic on the BIG SCREEN!
URL:https://northparktheatre.org/shows/the-prisoner-living-in-harmony/2024-05-25/
CATEGORIES:Special Screening
ATTACH;FMTTYPE=image/jpeg:https://northparktheatre.org/wp-content/uploads/web-prisoner2.jpg
END:VEVENT
BEGIN:VEVENT
DTSTART;TZID=America/New_York:20240526T113000
DTEND;TZID=America/New_York:20240526T130000
DTSTAMP:20260425T071322
CREATED:20240522T131557Z
LAST-MODIFIED:20240522T131557Z
UID:10002677-1716723000-1716728400@northparktheatre.org
SUMMARY:THE PRISONER - "Living in Harmony"
DESCRIPTION: No prior knowledge of THE PRISONER is required before viewing. \n“I am not a number! I am a free man!” \nBefore WESTWORLD! Before LOST and TWIN PEAKS! \nJoin in celebrating the 50th anniversary of the ORIGINAL mind-bending television masterpiece\, frequently cited by artists and critics as one of the greatest TV shows of all time. \n“The CITIZEN KANE of British TV.”— The Guardian \n“I loved The Prisoner\, which was a very odd sort of hybrid of sci-fi\, mystery and character. Certainly there are elements of The Prisoner in both Alias and Lost.”— J.J. Abrams \n“A seminal influence….one of my first aesthetic experiences where I was exposed to things like symbolism.”— Alan Moore \nWe will be presenting a memorable episode from the 17 episode series\, fully restored in HD from the 35mm negative: \nEP. XIV (“Living in Harmony”): In an Old West setting\, a lawman who resigned is trapped in a town called Harmony where the Judge wants him to be the new sheriff – by hook or by crook. \n \n \nSAT March 30th at 11:30 AMSUN March 31st at 11:30 AM \nDon’t miss this once-in-a-lifetime opportunity to see this hugely influential classic on the BIG SCREEN!
URL:https://northparktheatre.org/shows/the-prisoner-living-in-harmony/2024-05-26/
CATEGORIES:Special Screening
ATTACH;FMTTYPE=image/jpeg:https://northparktheatre.org/wp-content/uploads/web-prisoner2.jpg
END:VEVENT
END:VCALENDAR