BEGIN:VCALENDAR
VERSION:2.0
PRODID:-//North Park Theatre - ECPv6.15.20//NONSGML v1.0//EN
CALSCALE:GREGORIAN
METHOD:PUBLISH
X-WR-CALNAME:North Park Theatre
X-ORIGINAL-URL:https://northparktheatre.org
X-WR-CALDESC:Events for North Park Theatre
REFRESH-INTERVAL;VALUE=DURATION:PT1H
X-Robots-Tag:noindex
X-PUBLISHED-TTL:PT1H
BEGIN:VTIMEZONE
TZID:America/New_York
BEGIN:DAYLIGHT
TZOFFSETFROM:-0500
TZOFFSETTO:-0400
TZNAME:EDT
DTSTART:20230312T070000
END:DAYLIGHT
BEGIN:STANDARD
TZOFFSETFROM:-0400
TZOFFSETTO:-0500
TZNAME:EST
DTSTART:20231105T060000
END:STANDARD
BEGIN:DAYLIGHT
TZOFFSETFROM:-0500
TZOFFSETTO:-0400
TZNAME:EDT
DTSTART:20240310T070000
END:DAYLIGHT
BEGIN:STANDARD
TZOFFSETFROM:-0400
TZOFFSETTO:-0500
TZNAME:EST
DTSTART:20241103T060000
END:STANDARD
BEGIN:DAYLIGHT
TZOFFSETFROM:-0500
TZOFFSETTO:-0400
TZNAME:EDT
DTSTART:20250309T070000
END:DAYLIGHT
BEGIN:STANDARD
TZOFFSETFROM:-0400
TZOFFSETTO:-0500
TZNAME:EST
DTSTART:20251102T060000
END:STANDARD
END:VTIMEZONE
BEGIN:VEVENT
DTSTART;TZID=America/New_York:20240330T113000
DTEND;TZID=America/New_York:20240330T130000
DTSTAMP:20260425T102105
CREATED:20240327T042125Z
LAST-MODIFIED:20240327T042125Z
UID:10001667-1711798200-1711803600@northparktheatre.org
SUMMARY:THE PRISONER - "Do Not Forsake Me Oh My Darling"
DESCRIPTION: No prior knowledge of THE PRISONER is required before viewing. \n“I am not a number! I am a free man!” \nBefore WESTWORLD! Before LOST and TWIN PEAKS! \nJoin in celebrating the 50th anniversary of the ORIGINAL mind-bending television masterpiece\, frequently cited by artists and critics as one of the greatest TV shows of all time. \n“The CITIZEN KANE of British TV.”— The Guardian \n“I loved The Prisoner\, which was a very odd sort of hybrid of sci-fi\, mystery and character. Certainly there are elements of The Prisoner in both Alias and Lost.”— J.J. Abrams \n“A seminal influence….one of my first aesthetic experiences where I was exposed to things like symbolism.”— Alan Moore \nWe will be presenting a memorable episode from the 17 episode series\, fully restored in HD from the 35mm negative: \nEP. XIII (“Do Not Forsake Me Oh My Darling”): Deprived of his memory and placed in another man’s body\, Number Six travels back to England to seek a missing scientist. Nigel Stock portrays Number Six for most of this episode. \n \n \nSAT March 30th at 11:30 AMSUN March 31st at 11:30 AM \nDon’t miss this once-in-a-lifetime opportunity to see this hugely influential classic on the BIG SCREEN!
URL:https://northparktheatre.org/shows/prisoner-not-forsake-oh-darling/2024-03-30/
CATEGORIES:Special Screening
ATTACH;FMTTYPE=image/jpeg:https://northparktheatre.org/wp-content/uploads/web-prisoner2.jpg
END:VEVENT
BEGIN:VEVENT
DTSTART;TZID=America/New_York:20240331T113000
DTEND;TZID=America/New_York:20240331T130000
DTSTAMP:20260425T102105
CREATED:20240327T042125Z
LAST-MODIFIED:20240327T042125Z
UID:10001668-1711884600-1711890000@northparktheatre.org
SUMMARY:THE PRISONER - "Do Not Forsake Me Oh My Darling"
DESCRIPTION: No prior knowledge of THE PRISONER is required before viewing. \n“I am not a number! I am a free man!” \nBefore WESTWORLD! Before LOST and TWIN PEAKS! \nJoin in celebrating the 50th anniversary of the ORIGINAL mind-bending television masterpiece\, frequently cited by artists and critics as one of the greatest TV shows of all time. \n“The CITIZEN KANE of British TV.”— The Guardian \n“I loved The Prisoner\, which was a very odd sort of hybrid of sci-fi\, mystery and character. Certainly there are elements of The Prisoner in both Alias and Lost.”— J.J. Abrams \n“A seminal influence….one of my first aesthetic experiences where I was exposed to things like symbolism.”— Alan Moore \nWe will be presenting a memorable episode from the 17 episode series\, fully restored in HD from the 35mm negative: \nEP. XIII (“Do Not Forsake Me Oh My Darling”): Deprived of his memory and placed in another man’s body\, Number Six travels back to England to seek a missing scientist. Nigel Stock portrays Number Six for most of this episode. \n \n \nSAT March 30th at 11:30 AMSUN March 31st at 11:30 AM \nDon’t miss this once-in-a-lifetime opportunity to see this hugely influential classic on the BIG SCREEN!
URL:https://northparktheatre.org/shows/prisoner-not-forsake-oh-darling/2024-03-31/
CATEGORIES:Special Screening
ATTACH;FMTTYPE=image/jpeg:https://northparktheatre.org/wp-content/uploads/web-prisoner2.jpg
END:VEVENT
END:VCALENDAR