BEGIN:VCALENDAR
VERSION:2.0
PRODID:-//North Park Theatre - ECPv6.15.20//NONSGML v1.0//EN
CALSCALE:GREGORIAN
METHOD:PUBLISH
X-ORIGINAL-URL:https://northparktheatre.org
X-WR-CALDESC:Events for North Park Theatre
REFRESH-INTERVAL;VALUE=DURATION:PT1H
X-Robots-Tag:noindex
X-PUBLISHED-TTL:PT1H
BEGIN:VTIMEZONE
TZID:America/New_York
BEGIN:DAYLIGHT
TZOFFSETFROM:-0500
TZOFFSETTO:-0400
TZNAME:EDT
DTSTART:20230312T070000
END:DAYLIGHT
BEGIN:STANDARD
TZOFFSETFROM:-0400
TZOFFSETTO:-0500
TZNAME:EST
DTSTART:20231105T060000
END:STANDARD
BEGIN:DAYLIGHT
TZOFFSETFROM:-0500
TZOFFSETTO:-0400
TZNAME:EDT
DTSTART:20240310T070000
END:DAYLIGHT
BEGIN:STANDARD
TZOFFSETFROM:-0400
TZOFFSETTO:-0500
TZNAME:EST
DTSTART:20241103T060000
END:STANDARD
BEGIN:DAYLIGHT
TZOFFSETFROM:-0500
TZOFFSETTO:-0400
TZNAME:EDT
DTSTART:20250309T070000
END:DAYLIGHT
BEGIN:STANDARD
TZOFFSETFROM:-0400
TZOFFSETTO:-0500
TZNAME:EST
DTSTART:20251102T060000
END:STANDARD
END:VTIMEZONE
BEGIN:VEVENT
DTSTART;TZID=America/New_York:20240204T163000
DTEND;TZID=America/New_York:20240204T183000
DTSTAMP:20260425T113210
CREATED:20240105T091327Z
LAST-MODIFIED:20240105T091327Z
UID:10000305-1707064200-1707071400@northparktheatre.org
SUMMARY:"Pet Shop Boys Dreamworld: The Greatest Hits LIVE"
DESCRIPTION:Pet Shop Boys bring their critically-acclaimed greatest hits tour\, Dreamworld\, to movie theatres worldwide for two nights only! \n \n\nWED January 31st at 9:15 PM\nSUN February 4th at 4:30 PM\n \nCaptured live at Copenhagen’s Royal Arena\, Neil Tennant and Chris Lowe put on an exhilarating performance\, featuring a lavish stage show\, full back-up band and mesmerizing visual backdrops\, in front of an exuberant\, sold-out audience. \nWith film direction from leading live performance director David Barnard in a 14-camera shoot\, this brand new concert film includes all of Pet Shop Boys’ greatest hits including West End Girls\, Suburbia\, Opportunities (Let’s Make Lots of Money)\, Left to My Own Devices\, Rent\, Domino Dancing\, Love Comes Quickly\, Always on My Mind\, What Have I Done to Deserve This and It’s a Sin.
URL:https://northparktheatre.org/shows/pet-shop-boys-dreamworld-greatest-hits-live/2024-02-04/
LOCATION:1428 Hertel Avenue\, Buffalo\, 14216\, United States
CATEGORIES:Special Screening
ATTACH;FMTTYPE=image/jpeg:https://northparktheatre.org/wp-content/uploads/poster-dreamworld.jpg
END:VEVENT
BEGIN:VEVENT
DTSTART;TZID=America/New_York:20240209T190000
DTEND;TZID=America/New_York:20240209T210000
DTSTAMP:20260425T113210
CREATED:20240112T181434Z
LAST-MODIFIED:20240112T181932Z
UID:10000350-1707505200-1707512400@northparktheatre.org
SUMMARY:"The Room" w/ Tommy Wiseau LIVE & In-Person
DESCRIPTION:It has all led to this. \nAfter a 10-year-long restoration effort\, our theater is finally ready. \nOur preparations are complete.  \nOn February 9th and 10th\, Tommy Wiseau will come to the North Park Theatre… \n…AND NOTHING WILL EVER BE THE SAME. \n🥄🦈🥄🦈🥄🦈\n\nPLUS: Be one of the first people in the country to see Tommy’s much-anticipated follow-up to THE ROOM\, BIG SHARK! \nNot available on streaming! \n🥄🦈🥄🦈🥄🦈 \nPLEASE ARRIVE 30 MINS EARLY to get your ticket\, grab merch\, and meet Tommy before the show. \nIf you want a photo or autograph\, please purchase some merch first! A smiling Tommy makes for a better picture. \nFeaturing: \n🥄 Live\, in-person Q&As w/ Tommy Wiseau at each screening \n🥄 Opportunities for autographs and photos \n🥄 Exclusive merch \n🥄 A few other surprises… \n \n\nTHE ROOM – FRI February 9th at 7:00 PM\nBIG SHARK – FRI February 9th at 9:30 PM\nTHE ROOM – SAT February 10th at 7:00 PM\nBIG SHARK – SAT February 10th at 9:30 PM\n \nAbout THE ROOM: \nJohnny is a successful banker who lives happily in a San Francisco townhouse with his fiancée\, Lisa. One day\, inexplicably\, she gets bored of him and decides to seduce Johnny’s best friend\, Mark. From there\, nothing will be the same again. \nAbout BIG SHARK: \nThree firefighters must save New Orleans from a massive shark. \n“Big Shark was practically made for live audience interaction.” – SFGATE
URL:https://northparktheatre.org/shows/room-w-tommy-wiseau-live-person/2024-02-09/
LOCATION:1428 Hertel Avenue\, Buffalo\, 14216\, United States
CATEGORIES:Special Screening
ATTACH;FMTTYPE=image/jpeg:https://northparktheatre.org/wp-content/uploads/poster-both1.jpg
END:VEVENT
BEGIN:VEVENT
DTSTART;TZID=America/New_York:20240209T213000
DTEND;TZID=America/New_York:20240209T230000
DTSTAMP:20260425T113210
CREATED:20240112T182052Z
LAST-MODIFIED:20240112T182052Z
UID:10000352-1707514200-1707519600@northparktheatre.org
SUMMARY:"Big Shark" w/ Tommy Wiseau LIVE & In-Person
DESCRIPTION:It has all led to this. \nAfter a 10-year-long restoration effort\, our theater is finally ready. \nOur preparations are complete.  \nOn February 9th and 10th\, Tommy Wiseau will come to the North Park Theatre… \n…AND NOTHING WILL EVER BE THE SAME. \n🥄🦈🥄🦈🥄🦈\n\nPLUS: Be one of the first people in the country to see Tommy’s much-anticipated follow-up to THE ROOM\, BIG SHARK! \nNot available on streaming! \n🥄🦈🥄🦈🥄🦈 \nPLEASE ARRIVE 30 MINS EARLY to get your ticket\, grab merch\, and meet Tommy before the show. \nIf you want a photo or autograph\, please purchase some merch first! A smiling Tommy makes for a better picture. \nFeaturing: \n🥄 Live\, in-person Q&As w/ Tommy Wiseau at each screening \n🥄 Opportunities for autographs and photos \n🥄 Exclusive merch \n🥄 A few other surprises… \n \n\nTHE ROOM – FRI February 9th at 7:00 PM\nBIG SHARK – FRI February 9th at 9:30 PM\nTHE ROOM – SAT February 10th at 7:00 PM\nBIG SHARK – SAT February 10th at 9:30 PM\n \nAbout THE ROOM: \nJohnny is a successful banker who lives happily in a San Francisco townhouse with his fiancée\, Lisa. One day\, inexplicably\, she gets bored of him and decides to seduce Johnny’s best friend\, Mark. From there\, nothing will be the same again. \nAbout BIG SHARK: \nThree firefighters must save New Orleans from a massive shark. \n“Big Shark was practically made for live audience interaction.” – SFGATE
URL:https://northparktheatre.org/shows/big-shark-w-tommy-wiseau-live-person/2024-02-09/
LOCATION:1428 Hertel Avenue\, Buffalo\, 14216\, United States
CATEGORIES:Special Screening
ATTACH;FMTTYPE=image/jpeg:https://northparktheatre.org/wp-content/uploads/poster-both1.jpg
END:VEVENT
BEGIN:VEVENT
DTSTART;TZID=America/New_York:20240210T190000
DTEND;TZID=America/New_York:20240210T210000
DTSTAMP:20260425T113210
CREATED:20240112T181434Z
LAST-MODIFIED:20240112T181932Z
UID:10000351-1707591600-1707598800@northparktheatre.org
SUMMARY:"The Room" w/ Tommy Wiseau LIVE & In-Person
DESCRIPTION:It has all led to this. \nAfter a 10-year-long restoration effort\, our theater is finally ready. \nOur preparations are complete.  \nOn February 9th and 10th\, Tommy Wiseau will come to the North Park Theatre… \n…AND NOTHING WILL EVER BE THE SAME. \n🥄🦈🥄🦈🥄🦈\n\nPLUS: Be one of the first people in the country to see Tommy’s much-anticipated follow-up to THE ROOM\, BIG SHARK! \nNot available on streaming! \n🥄🦈🥄🦈🥄🦈 \nPLEASE ARRIVE 30 MINS EARLY to get your ticket\, grab merch\, and meet Tommy before the show. \nIf you want a photo or autograph\, please purchase some merch first! A smiling Tommy makes for a better picture. \nFeaturing: \n🥄 Live\, in-person Q&As w/ Tommy Wiseau at each screening \n🥄 Opportunities for autographs and photos \n🥄 Exclusive merch \n🥄 A few other surprises… \n \n\nTHE ROOM – FRI February 9th at 7:00 PM\nBIG SHARK – FRI February 9th at 9:30 PM\nTHE ROOM – SAT February 10th at 7:00 PM\nBIG SHARK – SAT February 10th at 9:30 PM\n \nAbout THE ROOM: \nJohnny is a successful banker who lives happily in a San Francisco townhouse with his fiancée\, Lisa. One day\, inexplicably\, she gets bored of him and decides to seduce Johnny’s best friend\, Mark. From there\, nothing will be the same again. \nAbout BIG SHARK: \nThree firefighters must save New Orleans from a massive shark. \n“Big Shark was practically made for live audience interaction.” – SFGATE
URL:https://northparktheatre.org/shows/room-w-tommy-wiseau-live-person/2024-02-10/
LOCATION:1428 Hertel Avenue\, Buffalo\, 14216\, United States
CATEGORIES:Special Screening
ATTACH;FMTTYPE=image/jpeg:https://northparktheatre.org/wp-content/uploads/poster-both1.jpg
END:VEVENT
BEGIN:VEVENT
DTSTART;TZID=America/New_York:20240210T213000
DTEND;TZID=America/New_York:20240210T230000
DTSTAMP:20260425T113210
CREATED:20240112T182052Z
LAST-MODIFIED:20240112T182052Z
UID:10000353-1707600600-1707606000@northparktheatre.org
SUMMARY:"Big Shark" w/ Tommy Wiseau LIVE & In-Person
DESCRIPTION:It has all led to this. \nAfter a 10-year-long restoration effort\, our theater is finally ready. \nOur preparations are complete.  \nOn February 9th and 10th\, Tommy Wiseau will come to the North Park Theatre… \n…AND NOTHING WILL EVER BE THE SAME. \n🥄🦈🥄🦈🥄🦈\n\nPLUS: Be one of the first people in the country to see Tommy’s much-anticipated follow-up to THE ROOM\, BIG SHARK! \nNot available on streaming! \n🥄🦈🥄🦈🥄🦈 \nPLEASE ARRIVE 30 MINS EARLY to get your ticket\, grab merch\, and meet Tommy before the show. \nIf you want a photo or autograph\, please purchase some merch first! A smiling Tommy makes for a better picture. \nFeaturing: \n🥄 Live\, in-person Q&As w/ Tommy Wiseau at each screening \n🥄 Opportunities for autographs and photos \n🥄 Exclusive merch \n🥄 A few other surprises… \n \n\nTHE ROOM – FRI February 9th at 7:00 PM\nBIG SHARK – FRI February 9th at 9:30 PM\nTHE ROOM – SAT February 10th at 7:00 PM\nBIG SHARK – SAT February 10th at 9:30 PM\n \nAbout THE ROOM: \nJohnny is a successful banker who lives happily in a San Francisco townhouse with his fiancée\, Lisa. One day\, inexplicably\, she gets bored of him and decides to seduce Johnny’s best friend\, Mark. From there\, nothing will be the same again. \nAbout BIG SHARK: \nThree firefighters must save New Orleans from a massive shark. \n“Big Shark was practically made for live audience interaction.” – SFGATE
URL:https://northparktheatre.org/shows/big-shark-w-tommy-wiseau-live-person/2024-02-10/
LOCATION:1428 Hertel Avenue\, Buffalo\, 14216\, United States
CATEGORIES:Special Screening
ATTACH;FMTTYPE=image/jpeg:https://northparktheatre.org/wp-content/uploads/poster-both1.jpg
END:VEVENT
BEGIN:VEVENT
DTSTART;TZID=America/New_York:20240217T113000
DTEND;TZID=America/New_York:20240217T130000
DTSTAMP:20260425T113210
CREATED:20240213T231733Z
LAST-MODIFIED:20240213T231733Z
UID:10000072-1708169400-1708174800@northparktheatre.org
SUMMARY:THE PRISONER - "It's Your Funeral"
DESCRIPTION: No prior knowledge of THE PRISONER is required before viewing. \n“I am not a number! I am a free man!” \nBefore WESTWORLD! Before LOST and TWIN PEAKS! \nJoin in celebrating the 50th anniversary of the ORIGINAL mind-bending television masterpiece\, frequently cited by artists and critics as one of the greatest TV shows of all time. \n“The CITIZEN KANE of British TV.”— The Guardian \n“I loved The Prisoner\, which was a very odd sort of hybrid of sci-fi\, mystery and character. Certainly there are elements of The Prisoner in both Alias and Lost.”— J.J. Abrams \n“A seminal influence….one of my first aesthetic experiences where I was exposed to things like symbolism.”— Alan Moore \nWe will be presenting a memorable episode from the 17 episode series\, fully restored in HD from the 35mm negative: \nEP. XI (“It’s Your Funeral”): In a plan to discredit him\, the Prisoner is tricked into discovering an assassination plot. \n \n \nSAT February 17th at 11:30 AMSUN February 18th at 11:30 AM \nDon’t miss this once-in-a-lifetime opportunity to see this hugely influential classic on the BIG SCREEN!
URL:https://northparktheatre.org/shows/the-prisoner-its-your-funeral/2024-02-17/
LOCATION:1428 Hertel Avenue\, Buffalo\, 14216\, United States
CATEGORIES:Special Screening
ATTACH;FMTTYPE=image/jpeg:https://northparktheatre.org/wp-content/uploads/web-prisoner2.jpg
END:VEVENT
END:VCALENDAR