BEGIN:VCALENDAR
VERSION:2.0
PRODID:-//North Park Theatre - ECPv6.15.20//NONSGML v1.0//EN
CALSCALE:GREGORIAN
METHOD:PUBLISH
X-ORIGINAL-URL:https://northparktheatre.org
X-WR-CALDESC:Events for North Park Theatre
REFRESH-INTERVAL;VALUE=DURATION:PT1H
X-Robots-Tag:noindex
X-PUBLISHED-TTL:PT1H
BEGIN:VTIMEZONE
TZID:America/New_York
BEGIN:DAYLIGHT
TZOFFSETFROM:-0500
TZOFFSETTO:-0400
TZNAME:EDT
DTSTART:20230312T070000
END:DAYLIGHT
BEGIN:STANDARD
TZOFFSETFROM:-0400
TZOFFSETTO:-0500
TZNAME:EST
DTSTART:20231105T060000
END:STANDARD
BEGIN:DAYLIGHT
TZOFFSETFROM:-0500
TZOFFSETTO:-0400
TZNAME:EDT
DTSTART:20240310T070000
END:DAYLIGHT
BEGIN:STANDARD
TZOFFSETFROM:-0400
TZOFFSETTO:-0500
TZNAME:EST
DTSTART:20241103T060000
END:STANDARD
BEGIN:DAYLIGHT
TZOFFSETFROM:-0500
TZOFFSETTO:-0400
TZNAME:EDT
DTSTART:20250309T070000
END:DAYLIGHT
BEGIN:STANDARD
TZOFFSETFROM:-0400
TZOFFSETTO:-0500
TZNAME:EST
DTSTART:20251102T060000
END:STANDARD
END:VTIMEZONE
BEGIN:VEVENT
DTSTART;TZID=America/New_York:20240108T214500
DTEND;TZID=America/New_York:20240108T233000
DTSTAMP:20260425T125240
CREATED:20240103T013108Z
LAST-MODIFIED:20240103T013108Z
UID:10000266-1704750300-1704756600@northparktheatre.org
SUMMARY:"Lady Snowblood"
DESCRIPTION:A major inspiration for Quentin Tarantino’s Kill Bill saga\, this endlessly inventive film\, set in late nineteenth-century Japan\, charts the single-minded path of vengeance taken by a young woman (Meiko Kaji) whose parents were the unfortunate victims of a gang of brutal criminals. \nFujita creates a wildly entertaining action film of remarkable craft\, an effortless balancing act between beauty and violence. \n \nGet tickets HERE.
URL:https://northparktheatre.org/shows/lady-snowblood/2024-01-08/
LOCATION:1428 Hertel Avenue\, Buffalo\, 14216\, United States
CATEGORIES:Special Screening
ATTACH;FMTTYPE=image/jpeg:https://northparktheatre.org/wp-content/uploads/poster-snowblood.jpg
END:VEVENT
BEGIN:VEVENT
DTSTART;TZID=America/New_York:20240109T214500
DTEND;TZID=America/New_York:20240109T233000
DTSTAMP:20260425T125240
CREATED:20240103T013108Z
LAST-MODIFIED:20240103T013108Z
UID:10000267-1704836700-1704843000@northparktheatre.org
SUMMARY:"Lady Snowblood"
DESCRIPTION:A major inspiration for Quentin Tarantino’s Kill Bill saga\, this endlessly inventive film\, set in late nineteenth-century Japan\, charts the single-minded path of vengeance taken by a young woman (Meiko Kaji) whose parents were the unfortunate victims of a gang of brutal criminals. \nFujita creates a wildly entertaining action film of remarkable craft\, an effortless balancing act between beauty and violence. \n \nGet tickets HERE.
URL:https://northparktheatre.org/shows/lady-snowblood/2024-01-09/
LOCATION:1428 Hertel Avenue\, Buffalo\, 14216\, United States
CATEGORIES:Special Screening
ATTACH;FMTTYPE=image/jpeg:https://northparktheatre.org/wp-content/uploads/poster-snowblood.jpg
END:VEVENT
BEGIN:VEVENT
DTSTART;TZID=America/New_York:20240110T214500
DTEND;TZID=America/New_York:20240110T233000
DTSTAMP:20260425T125240
CREATED:20240103T013108Z
LAST-MODIFIED:20240103T013108Z
UID:10000268-1704923100-1704929400@northparktheatre.org
SUMMARY:"Lady Snowblood"
DESCRIPTION:A major inspiration for Quentin Tarantino’s Kill Bill saga\, this endlessly inventive film\, set in late nineteenth-century Japan\, charts the single-minded path of vengeance taken by a young woman (Meiko Kaji) whose parents were the unfortunate victims of a gang of brutal criminals. \nFujita creates a wildly entertaining action film of remarkable craft\, an effortless balancing act between beauty and violence. \n \nGet tickets HERE.
URL:https://northparktheatre.org/shows/lady-snowblood/2024-01-10/
LOCATION:1428 Hertel Avenue\, Buffalo\, 14216\, United States
CATEGORIES:Special Screening
ATTACH;FMTTYPE=image/jpeg:https://northparktheatre.org/wp-content/uploads/poster-snowblood.jpg
END:VEVENT
BEGIN:VEVENT
DTSTART;TZID=America/New_York:20240111T214500
DTEND;TZID=America/New_York:20240111T233000
DTSTAMP:20260425T125240
CREATED:20240103T013108Z
LAST-MODIFIED:20240103T013108Z
UID:10000269-1705009500-1705015800@northparktheatre.org
SUMMARY:"Lady Snowblood"
DESCRIPTION:A major inspiration for Quentin Tarantino’s Kill Bill saga\, this endlessly inventive film\, set in late nineteenth-century Japan\, charts the single-minded path of vengeance taken by a young woman (Meiko Kaji) whose parents were the unfortunate victims of a gang of brutal criminals. \nFujita creates a wildly entertaining action film of remarkable craft\, an effortless balancing act between beauty and violence. \n \nGet tickets HERE.
URL:https://northparktheatre.org/shows/lady-snowblood/2024-01-11/
LOCATION:1428 Hertel Avenue\, Buffalo\, 14216\, United States
CATEGORIES:Special Screening
ATTACH;FMTTYPE=image/jpeg:https://northparktheatre.org/wp-content/uploads/poster-snowblood.jpg
END:VEVENT
BEGIN:VEVENT
DTSTART;TZID=America/New_York:20240112T214500
DTEND;TZID=America/New_York:20240112T233000
DTSTAMP:20260425T125240
CREATED:20240105T072911Z
LAST-MODIFIED:20240105T072911Z
UID:10000297-1705095900-1705102200@northparktheatre.org
SUMMARY:"Princess Mononoke" DUBBED
DESCRIPTION:“One of the most visually inventive films I have ever seen.” – Roger Ebert \nFrom the legendary Studio Ghibli\, creators of Spirited Away\, and Academy Award®-winning director Hayao Miyazaki\, comes an epic masterpiece that has dazzled audiences worldwide with its breathtaking imagination\, exhilarating battles\, and deep humanity. \nInflicted with a deadly curse\, the young warrior Ashitaka heads west in search of a cure. There\, he stumbles into a bitter conflict between Lady Eboshi\, the proud people of Iron Town\, and the enigmatic Princess Mononoke\, a young girl raised by wolves\, who will stop at nothing to prevent the humans from destroying her home and the forest spirits and animal gods who live there. Featuring the voice talents of Gillian Anderson\, Billy Crudup\, Claire Danes\, Jada Pinkett Smith\, and Billy Bob Thornton. \n \nScreening for one week\, 1/12 – 1/18\, in both SUBTITLED and DUBBED versions.\nGet tickets HERE.
URL:https://northparktheatre.org/shows/princess-mononoke-dubbed/2024-01-12/
LOCATION:1428 Hertel Avenue\, Buffalo\, 14216\, United States
CATEGORIES:Special Screening
ATTACH;FMTTYPE=image/jpeg:https://northparktheatre.org/wp-content/uploads/poster-hime.jpg
END:VEVENT
BEGIN:VEVENT
DTSTART;TZID=America/New_York:20240113T221000
DTEND;TZID=America/New_York:20240113T235000
DTSTAMP:20260425T125240
CREATED:20240105T072911Z
LAST-MODIFIED:20240105T072956Z
UID:10000301-1705183800-1705189800@northparktheatre.org
SUMMARY:"Princess Mononoke" SUBTITLED
DESCRIPTION:“One of the most visually inventive films I have ever seen.” – Roger Ebert \nFrom the legendary Studio Ghibli\, creators of Spirited Away\, and Academy Award®-winning director Hayao Miyazaki\, comes an epic masterpiece that has dazzled audiences worldwide with its breathtaking imagination\, exhilarating battles\, and deep humanity. \nInflicted with a deadly curse\, the young warrior Ashitaka heads west in search of a cure. There\, he stumbles into a bitter conflict between Lady Eboshi\, the proud people of Iron Town\, and the enigmatic Princess Mononoke\, a young girl raised by wolves\, who will stop at nothing to prevent the humans from destroying her home and the forest spirits and animal gods who live there. Featuring the voice talents of Gillian Anderson\, Billy Crudup\, Claire Danes\, Jada Pinkett Smith\, and Billy Bob Thornton. \n \nScreening for one week\, 1/12 – 1/18\, in both SUBTITLED and DUBBED versions.\nGet tickets HERE.
URL:https://northparktheatre.org/shows/princess-mononoke-dubbed-2024-01-13/
LOCATION:1428 Hertel Avenue\, Buffalo\, 14216\, United States
CATEGORIES:Special Screening
ATTACH;FMTTYPE=image/jpeg:https://northparktheatre.org/wp-content/uploads/poster-hime.jpg
END:VEVENT
BEGIN:VEVENT
DTSTART;TZID=America/New_York:20240114T113000
DTEND;TZID=America/New_York:20240114T133000
DTSTAMP:20260425T125240
CREATED:20240105T072911Z
LAST-MODIFIED:20240105T072911Z
UID:10000298-1705231800-1705239000@northparktheatre.org
SUMMARY:"Princess Mononoke" DUBBED
DESCRIPTION:“One of the most visually inventive films I have ever seen.” – Roger Ebert \nFrom the legendary Studio Ghibli\, creators of Spirited Away\, and Academy Award®-winning director Hayao Miyazaki\, comes an epic masterpiece that has dazzled audiences worldwide with its breathtaking imagination\, exhilarating battles\, and deep humanity. \nInflicted with a deadly curse\, the young warrior Ashitaka heads west in search of a cure. There\, he stumbles into a bitter conflict between Lady Eboshi\, the proud people of Iron Town\, and the enigmatic Princess Mononoke\, a young girl raised by wolves\, who will stop at nothing to prevent the humans from destroying her home and the forest spirits and animal gods who live there. Featuring the voice talents of Gillian Anderson\, Billy Crudup\, Claire Danes\, Jada Pinkett Smith\, and Billy Bob Thornton. \n \nScreening for one week\, 1/12 – 1/18\, in both SUBTITLED and DUBBED versions.\nGet tickets HERE.
URL:https://northparktheatre.org/shows/princess-mononoke-dubbed/2024-01-14/
LOCATION:1428 Hertel Avenue\, Buffalo\, 14216\, United States
CATEGORIES:Special Screening
ATTACH;FMTTYPE=image/jpeg:https://northparktheatre.org/wp-content/uploads/poster-hime.jpg
END:VEVENT
BEGIN:VEVENT
DTSTART;TZID=America/New_York:20240115T214500
DTEND;TZID=America/New_York:20240115T233000
DTSTAMP:20260425T125240
CREATED:20240105T072911Z
LAST-MODIFIED:20240105T072911Z
UID:10000299-1705355100-1705361400@northparktheatre.org
SUMMARY:"Princess Mononoke" DUBBED
DESCRIPTION:“One of the most visually inventive films I have ever seen.” – Roger Ebert \nFrom the legendary Studio Ghibli\, creators of Spirited Away\, and Academy Award®-winning director Hayao Miyazaki\, comes an epic masterpiece that has dazzled audiences worldwide with its breathtaking imagination\, exhilarating battles\, and deep humanity. \nInflicted with a deadly curse\, the young warrior Ashitaka heads west in search of a cure. There\, he stumbles into a bitter conflict between Lady Eboshi\, the proud people of Iron Town\, and the enigmatic Princess Mononoke\, a young girl raised by wolves\, who will stop at nothing to prevent the humans from destroying her home and the forest spirits and animal gods who live there. Featuring the voice talents of Gillian Anderson\, Billy Crudup\, Claire Danes\, Jada Pinkett Smith\, and Billy Bob Thornton. \n \nScreening for one week\, 1/12 – 1/18\, in both SUBTITLED and DUBBED versions.\nGet tickets HERE.
URL:https://northparktheatre.org/shows/princess-mononoke-dubbed/2024-01-15/
LOCATION:1428 Hertel Avenue\, Buffalo\, 14216\, United States
CATEGORIES:Special Screening
ATTACH;FMTTYPE=image/jpeg:https://northparktheatre.org/wp-content/uploads/poster-hime.jpg
END:VEVENT
BEGIN:VEVENT
DTSTART;TZID=America/New_York:20240116T214000
DTEND;TZID=America/New_York:20240116T233000
DTSTAMP:20260425T125240
CREATED:20240105T072911Z
LAST-MODIFIED:20240105T073020Z
UID:10000302-1705441200-1705447800@northparktheatre.org
SUMMARY:"Princess Mononoke" SUBTITLED
DESCRIPTION:“One of the most visually inventive films I have ever seen.” – Roger Ebert \nFrom the legendary Studio Ghibli\, creators of Spirited Away\, and Academy Award®-winning director Hayao Miyazaki\, comes an epic masterpiece that has dazzled audiences worldwide with its breathtaking imagination\, exhilarating battles\, and deep humanity. \nInflicted with a deadly curse\, the young warrior Ashitaka heads west in search of a cure. There\, he stumbles into a bitter conflict between Lady Eboshi\, the proud people of Iron Town\, and the enigmatic Princess Mononoke\, a young girl raised by wolves\, who will stop at nothing to prevent the humans from destroying her home and the forest spirits and animal gods who live there. Featuring the voice talents of Gillian Anderson\, Billy Crudup\, Claire Danes\, Jada Pinkett Smith\, and Billy Bob Thornton. \n \nScreening for one week\, 1/12 – 1/18\, in both SUBTITLED and DUBBED versions.\nGet tickets HERE.
URL:https://northparktheatre.org/shows/princess-mononoke-dubbed-2024-01-16/
LOCATION:1428 Hertel Avenue\, Buffalo\, 14216\, United States
CATEGORIES:Special Screening
ATTACH;FMTTYPE=image/jpeg:https://northparktheatre.org/wp-content/uploads/poster-hime.jpg
END:VEVENT
BEGIN:VEVENT
DTSTART;TZID=America/New_York:20240117T214000
DTEND;TZID=America/New_York:20240117T233000
DTSTAMP:20260425T125240
CREATED:20240105T072911Z
LAST-MODIFIED:20240105T072911Z
UID:10000300-1705527600-1705534200@northparktheatre.org
SUMMARY:"Princess Mononoke" DUBBED
DESCRIPTION:“One of the most visually inventive films I have ever seen.” – Roger Ebert \nFrom the legendary Studio Ghibli\, creators of Spirited Away\, and Academy Award®-winning director Hayao Miyazaki\, comes an epic masterpiece that has dazzled audiences worldwide with its breathtaking imagination\, exhilarating battles\, and deep humanity. \nInflicted with a deadly curse\, the young warrior Ashitaka heads west in search of a cure. There\, he stumbles into a bitter conflict between Lady Eboshi\, the proud people of Iron Town\, and the enigmatic Princess Mononoke\, a young girl raised by wolves\, who will stop at nothing to prevent the humans from destroying her home and the forest spirits and animal gods who live there. Featuring the voice talents of Gillian Anderson\, Billy Crudup\, Claire Danes\, Jada Pinkett Smith\, and Billy Bob Thornton. \n \nScreening for one week\, 1/12 – 1/18\, in both SUBTITLED and DUBBED versions.\nGet tickets HERE.
URL:https://northparktheatre.org/shows/princess-mononoke-dubbed/2024-01-17/
LOCATION:1428 Hertel Avenue\, Buffalo\, 14216\, United States
CATEGORIES:Special Screening
ATTACH;FMTTYPE=image/jpeg:https://northparktheatre.org/wp-content/uploads/poster-hime.jpg
END:VEVENT
BEGIN:VEVENT
DTSTART;TZID=America/New_York:20240118T214500
DTEND;TZID=America/New_York:20240118T233000
DTSTAMP:20260425T125240
CREATED:20240105T072911Z
LAST-MODIFIED:20240105T073037Z
UID:10000303-1705614300-1705620600@northparktheatre.org
SUMMARY:"Princess Mononoke" SUBTITLED
DESCRIPTION:“One of the most visually inventive films I have ever seen.” – Roger Ebert \nFrom the legendary Studio Ghibli\, creators of Spirited Away\, and Academy Award®-winning director Hayao Miyazaki\, comes an epic masterpiece that has dazzled audiences worldwide with its breathtaking imagination\, exhilarating battles\, and deep humanity. \nInflicted with a deadly curse\, the young warrior Ashitaka heads west in search of a cure. There\, he stumbles into a bitter conflict between Lady Eboshi\, the proud people of Iron Town\, and the enigmatic Princess Mononoke\, a young girl raised by wolves\, who will stop at nothing to prevent the humans from destroying her home and the forest spirits and animal gods who live there. Featuring the voice talents of Gillian Anderson\, Billy Crudup\, Claire Danes\, Jada Pinkett Smith\, and Billy Bob Thornton. \n \nScreening for one week\, 1/12 – 1/18\, in both SUBTITLED and DUBBED versions.\nGet tickets HERE.
URL:https://northparktheatre.org/shows/princess-mononoke-dubbed-2024-01-18/
LOCATION:1428 Hertel Avenue\, Buffalo\, 14216\, United States
CATEGORIES:Special Screening
ATTACH;FMTTYPE=image/jpeg:https://northparktheatre.org/wp-content/uploads/poster-hime.jpg
END:VEVENT
BEGIN:VEVENT
DTSTART;TZID=America/New_York:20240121T113000
DTEND;TZID=America/New_York:20240121T130000
DTSTAMP:20260425T125240
CREATED:20240110T104112Z
LAST-MODIFIED:20240110T104112Z
UID:10000346-1705836600-1705842000@northparktheatre.org
SUMMARY:"Cowboy Bebop: The Movie" SUBTITLED
DESCRIPTION:Heads up\, space cowboy. \nThe North Park Theatre and Funimation Films are bringing COWBOY BEBOP: KNOCKIN’ ON HEAVEN’S DOOR back to the big screen in celebration of the landmark anime’s 25th anniversary! \nPosters and Japanese snacks at the stand. \n \n\nSUN January 21st at 11:30 AM (SUBTITLED)\nSUN January 21st at 9:30 PM (SUBTITLED)\nMON January 22nd at 9:30 PM (DUBBED)\nTUE January 23rd at 9:30 PM (SUBTITLED)\n \nFrom Funimation Films: \nCaught up in a world of dreams\, lost in the cruelty of reality. \nWhat should have been an easy bounty turns into biological war after a terrorist gets ahold of a deadly virus. Drawn in by the pretty price on the mastermind’s head\, Spike and the Bebop crew are ready to collect a much-needed reward. Unfortunately\, the gang’s about to find themselves in more trouble than money when the terrorist threatens to unleash the virus on Halloween—effectively killing everyone on Mars. With little time and leads that seem more dreamy than helpful\, they’ll have to use their own bag of tricks to stop a dangerous plot.
URL:https://northparktheatre.org/shows/cowboy-bebop-movie-subtitled/2024-01-21/1/
LOCATION:1428 Hertel Avenue\, Buffalo\, 14216\, United States
CATEGORIES:Special Screening
ATTACH;FMTTYPE=image/jpeg:https://northparktheatre.org/wp-content/uploads/poster-cbb.jpg
END:VEVENT
BEGIN:VEVENT
DTSTART;TZID=America/New_York:20240121T213000
DTEND;TZID=America/New_York:20240121T230000
DTSTAMP:20260425T125240
CREATED:20240110T104112Z
LAST-MODIFIED:20240110T104112Z
UID:10000347-1705872600-1705878000@northparktheatre.org
SUMMARY:"Cowboy Bebop: The Movie" SUBTITLED
DESCRIPTION:Heads up\, space cowboy. \nThe North Park Theatre and Funimation Films are bringing COWBOY BEBOP: KNOCKIN’ ON HEAVEN’S DOOR back to the big screen in celebration of the landmark anime’s 25th anniversary! \nPosters and Japanese snacks at the stand. \n \n\nSUN January 21st at 11:30 AM (SUBTITLED)\nSUN January 21st at 9:30 PM (SUBTITLED)\nMON January 22nd at 9:30 PM (DUBBED)\nTUE January 23rd at 9:30 PM (SUBTITLED)\n \nFrom Funimation Films: \nCaught up in a world of dreams\, lost in the cruelty of reality. \nWhat should have been an easy bounty turns into biological war after a terrorist gets ahold of a deadly virus. Drawn in by the pretty price on the mastermind’s head\, Spike and the Bebop crew are ready to collect a much-needed reward. Unfortunately\, the gang’s about to find themselves in more trouble than money when the terrorist threatens to unleash the virus on Halloween—effectively killing everyone on Mars. With little time and leads that seem more dreamy than helpful\, they’ll have to use their own bag of tricks to stop a dangerous plot.
URL:https://northparktheatre.org/shows/cowboy-bebop-movie-subtitled/2024-01-21/2/
LOCATION:1428 Hertel Avenue\, Buffalo\, 14216\, United States
CATEGORIES:Special Screening
ATTACH;FMTTYPE=image/jpeg:https://northparktheatre.org/wp-content/uploads/poster-cbb.jpg
END:VEVENT
BEGIN:VEVENT
DTSTART;TZID=America/New_York:20240122T213000
DTEND;TZID=America/New_York:20240122T230000
DTSTAMP:20260425T125240
CREATED:20240110T104112Z
LAST-MODIFIED:20240110T104112Z
UID:10000348-1705959000-1705964400@northparktheatre.org
SUMMARY:"Cowboy Bebop: The Movie" SUBTITLED
DESCRIPTION:Heads up\, space cowboy. \nThe North Park Theatre and Funimation Films are bringing COWBOY BEBOP: KNOCKIN’ ON HEAVEN’S DOOR back to the big screen in celebration of the landmark anime’s 25th anniversary! \nPosters and Japanese snacks at the stand. \n \n\nSUN January 21st at 11:30 AM (SUBTITLED)\nSUN January 21st at 9:30 PM (SUBTITLED)\nMON January 22nd at 9:30 PM (DUBBED)\nTUE January 23rd at 9:30 PM (SUBTITLED)\n \nFrom Funimation Films: \nCaught up in a world of dreams\, lost in the cruelty of reality. \nWhat should have been an easy bounty turns into biological war after a terrorist gets ahold of a deadly virus. Drawn in by the pretty price on the mastermind’s head\, Spike and the Bebop crew are ready to collect a much-needed reward. Unfortunately\, the gang’s about to find themselves in more trouble than money when the terrorist threatens to unleash the virus on Halloween—effectively killing everyone on Mars. With little time and leads that seem more dreamy than helpful\, they’ll have to use their own bag of tricks to stop a dangerous plot.
URL:https://northparktheatre.org/shows/cowboy-bebop-movie-subtitled/2024-01-22/
LOCATION:1428 Hertel Avenue\, Buffalo\, 14216\, United States
CATEGORIES:Special Screening
ATTACH;FMTTYPE=image/jpeg:https://northparktheatre.org/wp-content/uploads/poster-cbb.jpg
END:VEVENT
BEGIN:VEVENT
DTSTART;TZID=America/New_York:20240123T213000
DTEND;TZID=America/New_York:20240123T230000
DTSTAMP:20260425T125240
CREATED:20240110T104112Z
LAST-MODIFIED:20240110T104112Z
UID:10000349-1706045400-1706050800@northparktheatre.org
SUMMARY:"Cowboy Bebop: The Movie" SUBTITLED
DESCRIPTION:Heads up\, space cowboy. \nThe North Park Theatre and Funimation Films are bringing COWBOY BEBOP: KNOCKIN’ ON HEAVEN’S DOOR back to the big screen in celebration of the landmark anime’s 25th anniversary! \nPosters and Japanese snacks at the stand. \n \n\nSUN January 21st at 11:30 AM (SUBTITLED)\nSUN January 21st at 9:30 PM (SUBTITLED)\nMON January 22nd at 9:30 PM (DUBBED)\nTUE January 23rd at 9:30 PM (SUBTITLED)\n \nFrom Funimation Films: \nCaught up in a world of dreams\, lost in the cruelty of reality. \nWhat should have been an easy bounty turns into biological war after a terrorist gets ahold of a deadly virus. Drawn in by the pretty price on the mastermind’s head\, Spike and the Bebop crew are ready to collect a much-needed reward. Unfortunately\, the gang’s about to find themselves in more trouble than money when the terrorist threatens to unleash the virus on Halloween—effectively killing everyone on Mars. With little time and leads that seem more dreamy than helpful\, they’ll have to use their own bag of tricks to stop a dangerous plot.
URL:https://northparktheatre.org/shows/cowboy-bebop-movie-subtitled/2024-01-23/
LOCATION:1428 Hertel Avenue\, Buffalo\, 14216\, United States
CATEGORIES:Special Screening
ATTACH;FMTTYPE=image/jpeg:https://northparktheatre.org/wp-content/uploads/poster-cbb.jpg
END:VEVENT
BEGIN:VEVENT
DTSTART;TZID=America/New_York:20240131T211500
DTEND;TZID=America/New_York:20240131T230000
DTSTAMP:20260425T125240
CREATED:20240105T091327Z
LAST-MODIFIED:20240105T091327Z
UID:10000304-1706735700-1706742000@northparktheatre.org
SUMMARY:"Pet Shop Boys Dreamworld: The Greatest Hits LIVE"
DESCRIPTION:Pet Shop Boys bring their critically-acclaimed greatest hits tour\, Dreamworld\, to movie theatres worldwide for two nights only! \n \n\nWED January 31st at 9:15 PM\nSUN February 4th at 4:30 PM\n \nCaptured live at Copenhagen’s Royal Arena\, Neil Tennant and Chris Lowe put on an exhilarating performance\, featuring a lavish stage show\, full back-up band and mesmerizing visual backdrops\, in front of an exuberant\, sold-out audience. \nWith film direction from leading live performance director David Barnard in a 14-camera shoot\, this brand new concert film includes all of Pet Shop Boys’ greatest hits including West End Girls\, Suburbia\, Opportunities (Let’s Make Lots of Money)\, Left to My Own Devices\, Rent\, Domino Dancing\, Love Comes Quickly\, Always on My Mind\, What Have I Done to Deserve This and It’s a Sin.
URL:https://northparktheatre.org/shows/pet-shop-boys-dreamworld-greatest-hits-live/2024-01-31/
LOCATION:1428 Hertel Avenue\, Buffalo\, 14216\, United States
CATEGORIES:Special Screening
ATTACH;FMTTYPE=image/jpeg:https://northparktheatre.org/wp-content/uploads/poster-dreamworld.jpg
END:VEVENT
END:VCALENDAR