BEGIN:VCALENDAR
VERSION:2.0
PRODID:-//North Park Theatre - ECPv6.15.20//NONSGML v1.0//EN
CALSCALE:GREGORIAN
METHOD:PUBLISH
X-WR-CALNAME:North Park Theatre
X-ORIGINAL-URL:https://northparktheatre.org
X-WR-CALDESC:Events for North Park Theatre
REFRESH-INTERVAL;VALUE=DURATION:PT1H
X-Robots-Tag:noindex
X-PUBLISHED-TTL:PT1H
BEGIN:VTIMEZONE
TZID:America/New_York
BEGIN:DAYLIGHT
TZOFFSETFROM:-0500
TZOFFSETTO:-0400
TZNAME:EDT
DTSTART:20240310T070000
END:DAYLIGHT
BEGIN:STANDARD
TZOFFSETFROM:-0400
TZOFFSETTO:-0500
TZNAME:EST
DTSTART:20241103T060000
END:STANDARD
BEGIN:DAYLIGHT
TZOFFSETFROM:-0500
TZOFFSETTO:-0400
TZNAME:EDT
DTSTART:20250309T070000
END:DAYLIGHT
BEGIN:STANDARD
TZOFFSETFROM:-0400
TZOFFSETTO:-0500
TZNAME:EST
DTSTART:20251102T060000
END:STANDARD
BEGIN:DAYLIGHT
TZOFFSETFROM:-0500
TZOFFSETTO:-0400
TZNAME:EDT
DTSTART:20260308T070000
END:DAYLIGHT
BEGIN:STANDARD
TZOFFSETFROM:-0400
TZOFFSETTO:-0500
TZNAME:EST
DTSTART:20261101T060000
END:STANDARD
END:VTIMEZONE
BEGIN:VEVENT
DTSTART;TZID=America/New_York:20251225T160000
DTEND;TZID=America/New_York:20251225T180000
DTSTAMP:20260424T202415
CREATED:20251203T055644Z
LAST-MODIFIED:20251203T055644Z
UID:10014076-1766678400-1766685600@northparktheatre.org
SUMMARY:"Song Sung Blue"
DESCRIPTION:“…grounded in real feeling and irresistibly rousing music.”\n— The Hollywood Reporter \nBased on a true story\, two down-on-their-luck musicians (Hugh Jackman and Kate Hudson) form a joyous Neil Diamond tribute band\, proving it’s never too late to find love and follow your dreams. \n \nScreening 12/25 – 1/8!\nGet tickets HERE. \nBased on a true story\, two down-on-their-luck musicians (Hugh Jackman and Kate Hudson) form a joyous Neil Diamond tribute band\, proving it’s never too late to find love and follow your dreams.
URL:https://northparktheatre.org/shows/song-sung-blue/2025-12-25/
CATEGORIES:Song Sung Blue
ATTACH;FMTTYPE=image/jpeg:https://northparktheatre.org/wp-content/uploads/poster-songblue.jpg
END:VEVENT
BEGIN:VEVENT
DTSTART;TZID=America/New_York:20251225T190000
DTEND;TZID=America/New_York:20251225T210000
DTSTAMP:20260424T202415
CREATED:20251203T055801Z
LAST-MODIFIED:20251203T055801Z
UID:10014091-1766689200-1766696400@northparktheatre.org
SUMMARY:"Song Sung Blue"
DESCRIPTION:“…grounded in real feeling and irresistibly rousing music.”\n— The Hollywood Reporter \nBased on a true story\, two down-on-their-luck musicians (Hugh Jackman and Kate Hudson) form a joyous Neil Diamond tribute band\, proving it’s never too late to find love and follow your dreams. \n \nScreening 12/25 – 1/8!\nGet tickets HERE. \nBased on a true story\, two down-on-their-luck musicians (Hugh Jackman and Kate Hudson) form a joyous Neil Diamond tribute band\, proving it’s never too late to find love and follow your dreams.
URL:https://northparktheatre.org/shows/song-sung-blue-2/2025-12-25/
CATEGORIES:Song Sung Blue
ATTACH;FMTTYPE=image/jpeg:https://northparktheatre.org/wp-content/uploads/poster-songblue.jpg
END:VEVENT
BEGIN:VEVENT
DTSTART;TZID=America/New_York:20251226T130000
DTEND;TZID=America/New_York:20251226T150000
DTSTAMP:20260424T202415
CREATED:20251203T060051Z
LAST-MODIFIED:20251203T060051Z
UID:10014119-1766754000-1766761200@northparktheatre.org
SUMMARY:"Song Sung Blue"
DESCRIPTION:“…grounded in real feeling and irresistibly rousing music.”\n— The Hollywood Reporter \nBased on a true story\, two down-on-their-luck musicians (Hugh Jackman and Kate Hudson) form a joyous Neil Diamond tribute band\, proving it’s never too late to find love and follow your dreams. \n \nScreening 12/25 – 1/8!\nGet tickets HERE. \nBased on a true story\, two down-on-their-luck musicians (Hugh Jackman and Kate Hudson) form a joyous Neil Diamond tribute band\, proving it’s never too late to find love and follow your dreams.
URL:https://northparktheatre.org/shows/song-sung-blue-4/2025-12-26/
CATEGORIES:Song Sung Blue
ATTACH;FMTTYPE=image/jpeg:https://northparktheatre.org/wp-content/uploads/poster-songblue.jpg
END:VEVENT
BEGIN:VEVENT
DTSTART;TZID=America/New_York:20251226T160000
DTEND;TZID=America/New_York:20251226T180000
DTSTAMP:20260424T202415
CREATED:20251203T055644Z
LAST-MODIFIED:20251203T055644Z
UID:10014077-1766764800-1766772000@northparktheatre.org
SUMMARY:"Song Sung Blue"
DESCRIPTION:“…grounded in real feeling and irresistibly rousing music.”\n— The Hollywood Reporter \nBased on a true story\, two down-on-their-luck musicians (Hugh Jackman and Kate Hudson) form a joyous Neil Diamond tribute band\, proving it’s never too late to find love and follow your dreams. \n \nScreening 12/25 – 1/8!\nGet tickets HERE. \nBased on a true story\, two down-on-their-luck musicians (Hugh Jackman and Kate Hudson) form a joyous Neil Diamond tribute band\, proving it’s never too late to find love and follow your dreams.
URL:https://northparktheatre.org/shows/song-sung-blue/2025-12-26/
CATEGORIES:Song Sung Blue
ATTACH;FMTTYPE=image/jpeg:https://northparktheatre.org/wp-content/uploads/poster-songblue.jpg
END:VEVENT
BEGIN:VEVENT
DTSTART;TZID=America/New_York:20251226T190000
DTEND;TZID=America/New_York:20251226T210000
DTSTAMP:20260424T202415
CREATED:20251203T055801Z
LAST-MODIFIED:20251203T055801Z
UID:10014092-1766775600-1766782800@northparktheatre.org
SUMMARY:"Song Sung Blue"
DESCRIPTION:“…grounded in real feeling and irresistibly rousing music.”\n— The Hollywood Reporter \nBased on a true story\, two down-on-their-luck musicians (Hugh Jackman and Kate Hudson) form a joyous Neil Diamond tribute band\, proving it’s never too late to find love and follow your dreams. \n \nScreening 12/25 – 1/8!\nGet tickets HERE. \nBased on a true story\, two down-on-their-luck musicians (Hugh Jackman and Kate Hudson) form a joyous Neil Diamond tribute band\, proving it’s never too late to find love and follow your dreams.
URL:https://northparktheatre.org/shows/song-sung-blue-2/2025-12-26/
CATEGORIES:Song Sung Blue
ATTACH;FMTTYPE=image/jpeg:https://northparktheatre.org/wp-content/uploads/poster-songblue.jpg
END:VEVENT
BEGIN:VEVENT
DTSTART;TZID=America/New_York:20251226T215000
DTEND;TZID=America/New_York:20251226T233000
DTSTAMP:20260424T202415
CREATED:20251203T055944Z
LAST-MODIFIED:20251203T055944Z
UID:10014106-1766785800-1766791800@northparktheatre.org
SUMMARY:"Song Sung Blue"
DESCRIPTION:“…grounded in real feeling and irresistibly rousing music.”\n— The Hollywood Reporter \nBased on a true story\, two down-on-their-luck musicians (Hugh Jackman and Kate Hudson) form a joyous Neil Diamond tribute band\, proving it’s never too late to find love and follow your dreams. \n \nScreening 12/25 – 1/8!\nGet tickets HERE. \nBased on a true story\, two down-on-their-luck musicians (Hugh Jackman and Kate Hudson) form a joyous Neil Diamond tribute band\, proving it’s never too late to find love and follow your dreams.
URL:https://northparktheatre.org/shows/song-sung-blue-3/2025-12-26/
CATEGORIES:Song Sung Blue
ATTACH;FMTTYPE=image/jpeg:https://northparktheatre.org/wp-content/uploads/poster-songblue.jpg
END:VEVENT
BEGIN:VEVENT
DTSTART;TZID=America/New_York:20251227T130000
DTEND;TZID=America/New_York:20251227T150000
DTSTAMP:20260424T202415
CREATED:20251203T060051Z
LAST-MODIFIED:20251203T060051Z
UID:10014120-1766840400-1766847600@northparktheatre.org
SUMMARY:"Song Sung Blue"
DESCRIPTION:“…grounded in real feeling and irresistibly rousing music.”\n— The Hollywood Reporter \nBased on a true story\, two down-on-their-luck musicians (Hugh Jackman and Kate Hudson) form a joyous Neil Diamond tribute band\, proving it’s never too late to find love and follow your dreams. \n \nScreening 12/25 – 1/8!\nGet tickets HERE. \nBased on a true story\, two down-on-their-luck musicians (Hugh Jackman and Kate Hudson) form a joyous Neil Diamond tribute band\, proving it’s never too late to find love and follow your dreams.
URL:https://northparktheatre.org/shows/song-sung-blue-4/2025-12-27/
CATEGORIES:Song Sung Blue
ATTACH;FMTTYPE=image/jpeg:https://northparktheatre.org/wp-content/uploads/poster-songblue.jpg
END:VEVENT
BEGIN:VEVENT
DTSTART;TZID=America/New_York:20251227T160000
DTEND;TZID=America/New_York:20251227T180000
DTSTAMP:20260424T202415
CREATED:20251203T055644Z
LAST-MODIFIED:20251203T055644Z
UID:10014078-1766851200-1766858400@northparktheatre.org
SUMMARY:"Song Sung Blue"
DESCRIPTION:“…grounded in real feeling and irresistibly rousing music.”\n— The Hollywood Reporter \nBased on a true story\, two down-on-their-luck musicians (Hugh Jackman and Kate Hudson) form a joyous Neil Diamond tribute band\, proving it’s never too late to find love and follow your dreams. \n \nScreening 12/25 – 1/8!\nGet tickets HERE. \nBased on a true story\, two down-on-their-luck musicians (Hugh Jackman and Kate Hudson) form a joyous Neil Diamond tribute band\, proving it’s never too late to find love and follow your dreams.
URL:https://northparktheatre.org/shows/song-sung-blue/2025-12-27/
CATEGORIES:Song Sung Blue
ATTACH;FMTTYPE=image/jpeg:https://northparktheatre.org/wp-content/uploads/poster-songblue.jpg
END:VEVENT
BEGIN:VEVENT
DTSTART;TZID=America/New_York:20251227T190000
DTEND;TZID=America/New_York:20251227T210000
DTSTAMP:20260424T202415
CREATED:20251203T055801Z
LAST-MODIFIED:20251203T055801Z
UID:10014093-1766862000-1766869200@northparktheatre.org
SUMMARY:"Song Sung Blue"
DESCRIPTION:“…grounded in real feeling and irresistibly rousing music.”\n— The Hollywood Reporter \nBased on a true story\, two down-on-their-luck musicians (Hugh Jackman and Kate Hudson) form a joyous Neil Diamond tribute band\, proving it’s never too late to find love and follow your dreams. \n \nScreening 12/25 – 1/8!\nGet tickets HERE. \nBased on a true story\, two down-on-their-luck musicians (Hugh Jackman and Kate Hudson) form a joyous Neil Diamond tribute band\, proving it’s never too late to find love and follow your dreams.
URL:https://northparktheatre.org/shows/song-sung-blue-2/2025-12-27/
CATEGORIES:Song Sung Blue
ATTACH;FMTTYPE=image/jpeg:https://northparktheatre.org/wp-content/uploads/poster-songblue.jpg
END:VEVENT
BEGIN:VEVENT
DTSTART;TZID=America/New_York:20251227T215000
DTEND;TZID=America/New_York:20251227T233000
DTSTAMP:20260424T202415
CREATED:20251203T055944Z
LAST-MODIFIED:20251203T055944Z
UID:10014107-1766872200-1766878200@northparktheatre.org
SUMMARY:"Song Sung Blue"
DESCRIPTION:“…grounded in real feeling and irresistibly rousing music.”\n— The Hollywood Reporter \nBased on a true story\, two down-on-their-luck musicians (Hugh Jackman and Kate Hudson) form a joyous Neil Diamond tribute band\, proving it’s never too late to find love and follow your dreams. \n \nScreening 12/25 – 1/8!\nGet tickets HERE. \nBased on a true story\, two down-on-their-luck musicians (Hugh Jackman and Kate Hudson) form a joyous Neil Diamond tribute band\, proving it’s never too late to find love and follow your dreams.
URL:https://northparktheatre.org/shows/song-sung-blue-3/2025-12-27/
CATEGORIES:Song Sung Blue
ATTACH;FMTTYPE=image/jpeg:https://northparktheatre.org/wp-content/uploads/poster-songblue.jpg
END:VEVENT
BEGIN:VEVENT
DTSTART;TZID=America/New_York:20251228T130000
DTEND;TZID=America/New_York:20251228T150000
DTSTAMP:20260424T202415
CREATED:20251203T060051Z
LAST-MODIFIED:20251203T060051Z
UID:10014121-1766926800-1766934000@northparktheatre.org
SUMMARY:"Song Sung Blue"
DESCRIPTION:“…grounded in real feeling and irresistibly rousing music.”\n— The Hollywood Reporter \nBased on a true story\, two down-on-their-luck musicians (Hugh Jackman and Kate Hudson) form a joyous Neil Diamond tribute band\, proving it’s never too late to find love and follow your dreams. \n \nScreening 12/25 – 1/8!\nGet tickets HERE. \nBased on a true story\, two down-on-their-luck musicians (Hugh Jackman and Kate Hudson) form a joyous Neil Diamond tribute band\, proving it’s never too late to find love and follow your dreams.
URL:https://northparktheatre.org/shows/song-sung-blue-4/2025-12-28/
CATEGORIES:Song Sung Blue
ATTACH;FMTTYPE=image/jpeg:https://northparktheatre.org/wp-content/uploads/poster-songblue.jpg
END:VEVENT
BEGIN:VEVENT
DTSTART;TZID=America/New_York:20251228T160000
DTEND;TZID=America/New_York:20251228T180000
DTSTAMP:20260424T202415
CREATED:20251203T055644Z
LAST-MODIFIED:20251203T055644Z
UID:10014079-1766937600-1766944800@northparktheatre.org
SUMMARY:"Song Sung Blue"
DESCRIPTION:“…grounded in real feeling and irresistibly rousing music.”\n— The Hollywood Reporter \nBased on a true story\, two down-on-their-luck musicians (Hugh Jackman and Kate Hudson) form a joyous Neil Diamond tribute band\, proving it’s never too late to find love and follow your dreams. \n \nScreening 12/25 – 1/8!\nGet tickets HERE. \nBased on a true story\, two down-on-their-luck musicians (Hugh Jackman and Kate Hudson) form a joyous Neil Diamond tribute band\, proving it’s never too late to find love and follow your dreams.
URL:https://northparktheatre.org/shows/song-sung-blue/2025-12-28/
CATEGORIES:Song Sung Blue
ATTACH;FMTTYPE=image/jpeg:https://northparktheatre.org/wp-content/uploads/poster-songblue.jpg
END:VEVENT
BEGIN:VEVENT
DTSTART;TZID=America/New_York:20251228T190000
DTEND;TZID=America/New_York:20251228T210000
DTSTAMP:20260424T202415
CREATED:20251203T055801Z
LAST-MODIFIED:20251203T055801Z
UID:10014094-1766948400-1766955600@northparktheatre.org
SUMMARY:"Song Sung Blue"
DESCRIPTION:“…grounded in real feeling and irresistibly rousing music.”\n— The Hollywood Reporter \nBased on a true story\, two down-on-their-luck musicians (Hugh Jackman and Kate Hudson) form a joyous Neil Diamond tribute band\, proving it’s never too late to find love and follow your dreams. \n \nScreening 12/25 – 1/8!\nGet tickets HERE. \nBased on a true story\, two down-on-their-luck musicians (Hugh Jackman and Kate Hudson) form a joyous Neil Diamond tribute band\, proving it’s never too late to find love and follow your dreams.
URL:https://northparktheatre.org/shows/song-sung-blue-2/2025-12-28/
CATEGORIES:Song Sung Blue
ATTACH;FMTTYPE=image/jpeg:https://northparktheatre.org/wp-content/uploads/poster-songblue.jpg
END:VEVENT
BEGIN:VEVENT
DTSTART;TZID=America/New_York:20251228T215000
DTEND;TZID=America/New_York:20251228T233000
DTSTAMP:20260424T202415
CREATED:20251203T055944Z
LAST-MODIFIED:20251203T055944Z
UID:10014108-1766958600-1766964600@northparktheatre.org
SUMMARY:"Song Sung Blue"
DESCRIPTION:“…grounded in real feeling and irresistibly rousing music.”\n— The Hollywood Reporter \nBased on a true story\, two down-on-their-luck musicians (Hugh Jackman and Kate Hudson) form a joyous Neil Diamond tribute band\, proving it’s never too late to find love and follow your dreams. \n \nScreening 12/25 – 1/8!\nGet tickets HERE. \nBased on a true story\, two down-on-their-luck musicians (Hugh Jackman and Kate Hudson) form a joyous Neil Diamond tribute band\, proving it’s never too late to find love and follow your dreams.
URL:https://northparktheatre.org/shows/song-sung-blue-3/2025-12-28/
CATEGORIES:Song Sung Blue
ATTACH;FMTTYPE=image/jpeg:https://northparktheatre.org/wp-content/uploads/poster-songblue.jpg
END:VEVENT
BEGIN:VEVENT
DTSTART;TZID=America/New_York:20251229T130000
DTEND;TZID=America/New_York:20251229T150000
DTSTAMP:20260424T202415
CREATED:20251203T060051Z
LAST-MODIFIED:20251203T060051Z
UID:10014122-1767013200-1767020400@northparktheatre.org
SUMMARY:"Song Sung Blue"
DESCRIPTION:“…grounded in real feeling and irresistibly rousing music.”\n— The Hollywood Reporter \nBased on a true story\, two down-on-their-luck musicians (Hugh Jackman and Kate Hudson) form a joyous Neil Diamond tribute band\, proving it’s never too late to find love and follow your dreams. \n \nScreening 12/25 – 1/8!\nGet tickets HERE. \nBased on a true story\, two down-on-their-luck musicians (Hugh Jackman and Kate Hudson) form a joyous Neil Diamond tribute band\, proving it’s never too late to find love and follow your dreams.
URL:https://northparktheatre.org/shows/song-sung-blue-4/2025-12-29/
CATEGORIES:Song Sung Blue
ATTACH;FMTTYPE=image/jpeg:https://northparktheatre.org/wp-content/uploads/poster-songblue.jpg
END:VEVENT
BEGIN:VEVENT
DTSTART;TZID=America/New_York:20251229T160000
DTEND;TZID=America/New_York:20251229T180000
DTSTAMP:20260424T202415
CREATED:20251203T055644Z
LAST-MODIFIED:20251203T055644Z
UID:10014080-1767024000-1767031200@northparktheatre.org
SUMMARY:"Song Sung Blue"
DESCRIPTION:“…grounded in real feeling and irresistibly rousing music.”\n— The Hollywood Reporter \nBased on a true story\, two down-on-their-luck musicians (Hugh Jackman and Kate Hudson) form a joyous Neil Diamond tribute band\, proving it’s never too late to find love and follow your dreams. \n \nScreening 12/25 – 1/8!\nGet tickets HERE. \nBased on a true story\, two down-on-their-luck musicians (Hugh Jackman and Kate Hudson) form a joyous Neil Diamond tribute band\, proving it’s never too late to find love and follow your dreams.
URL:https://northparktheatre.org/shows/song-sung-blue/2025-12-29/
CATEGORIES:Song Sung Blue
ATTACH;FMTTYPE=image/jpeg:https://northparktheatre.org/wp-content/uploads/poster-songblue.jpg
END:VEVENT
BEGIN:VEVENT
DTSTART;TZID=America/New_York:20251229T190000
DTEND;TZID=America/New_York:20251229T210000
DTSTAMP:20260424T202415
CREATED:20251203T055801Z
LAST-MODIFIED:20251203T055801Z
UID:10014095-1767034800-1767042000@northparktheatre.org
SUMMARY:"Song Sung Blue"
DESCRIPTION:“…grounded in real feeling and irresistibly rousing music.”\n— The Hollywood Reporter \nBased on a true story\, two down-on-their-luck musicians (Hugh Jackman and Kate Hudson) form a joyous Neil Diamond tribute band\, proving it’s never too late to find love and follow your dreams. \n \nScreening 12/25 – 1/8!\nGet tickets HERE. \nBased on a true story\, two down-on-their-luck musicians (Hugh Jackman and Kate Hudson) form a joyous Neil Diamond tribute band\, proving it’s never too late to find love and follow your dreams.
URL:https://northparktheatre.org/shows/song-sung-blue-2/2025-12-29/
CATEGORIES:Song Sung Blue
ATTACH;FMTTYPE=image/jpeg:https://northparktheatre.org/wp-content/uploads/poster-songblue.jpg
END:VEVENT
BEGIN:VEVENT
DTSTART;TZID=America/New_York:20251229T215000
DTEND;TZID=America/New_York:20251229T233000
DTSTAMP:20260424T202415
CREATED:20251203T055944Z
LAST-MODIFIED:20251203T055944Z
UID:10014109-1767045000-1767051000@northparktheatre.org
SUMMARY:"Song Sung Blue"
DESCRIPTION:“…grounded in real feeling and irresistibly rousing music.”\n— The Hollywood Reporter \nBased on a true story\, two down-on-their-luck musicians (Hugh Jackman and Kate Hudson) form a joyous Neil Diamond tribute band\, proving it’s never too late to find love and follow your dreams. \n \nScreening 12/25 – 1/8!\nGet tickets HERE. \nBased on a true story\, two down-on-their-luck musicians (Hugh Jackman and Kate Hudson) form a joyous Neil Diamond tribute band\, proving it’s never too late to find love and follow your dreams.
URL:https://northparktheatre.org/shows/song-sung-blue-3/2025-12-29/
CATEGORIES:Song Sung Blue
ATTACH;FMTTYPE=image/jpeg:https://northparktheatre.org/wp-content/uploads/poster-songblue.jpg
END:VEVENT
BEGIN:VEVENT
DTSTART;TZID=America/New_York:20251230T130000
DTEND;TZID=America/New_York:20251230T150000
DTSTAMP:20260424T202415
CREATED:20251203T060051Z
LAST-MODIFIED:20251203T060051Z
UID:10014123-1767099600-1767106800@northparktheatre.org
SUMMARY:"Song Sung Blue"
DESCRIPTION:“…grounded in real feeling and irresistibly rousing music.”\n— The Hollywood Reporter \nBased on a true story\, two down-on-their-luck musicians (Hugh Jackman and Kate Hudson) form a joyous Neil Diamond tribute band\, proving it’s never too late to find love and follow your dreams. \n \nScreening 12/25 – 1/8!\nGet tickets HERE. \nBased on a true story\, two down-on-their-luck musicians (Hugh Jackman and Kate Hudson) form a joyous Neil Diamond tribute band\, proving it’s never too late to find love and follow your dreams.
URL:https://northparktheatre.org/shows/song-sung-blue-4/2025-12-30/
CATEGORIES:Song Sung Blue
ATTACH;FMTTYPE=image/jpeg:https://northparktheatre.org/wp-content/uploads/poster-songblue.jpg
END:VEVENT
BEGIN:VEVENT
DTSTART;TZID=America/New_York:20251230T160000
DTEND;TZID=America/New_York:20251230T180000
DTSTAMP:20260424T202415
CREATED:20251203T055644Z
LAST-MODIFIED:20251203T055644Z
UID:10014081-1767110400-1767117600@northparktheatre.org
SUMMARY:"Song Sung Blue"
DESCRIPTION:“…grounded in real feeling and irresistibly rousing music.”\n— The Hollywood Reporter \nBased on a true story\, two down-on-their-luck musicians (Hugh Jackman and Kate Hudson) form a joyous Neil Diamond tribute band\, proving it’s never too late to find love and follow your dreams. \n \nScreening 12/25 – 1/8!\nGet tickets HERE. \nBased on a true story\, two down-on-their-luck musicians (Hugh Jackman and Kate Hudson) form a joyous Neil Diamond tribute band\, proving it’s never too late to find love and follow your dreams.
URL:https://northparktheatre.org/shows/song-sung-blue/2025-12-30/
CATEGORIES:Song Sung Blue
ATTACH;FMTTYPE=image/jpeg:https://northparktheatre.org/wp-content/uploads/poster-songblue.jpg
END:VEVENT
BEGIN:VEVENT
DTSTART;TZID=America/New_York:20251230T190000
DTEND;TZID=America/New_York:20251230T210000
DTSTAMP:20260424T202415
CREATED:20251203T055801Z
LAST-MODIFIED:20251203T055801Z
UID:10014096-1767121200-1767128400@northparktheatre.org
SUMMARY:"Song Sung Blue"
DESCRIPTION:“…grounded in real feeling and irresistibly rousing music.”\n— The Hollywood Reporter \nBased on a true story\, two down-on-their-luck musicians (Hugh Jackman and Kate Hudson) form a joyous Neil Diamond tribute band\, proving it’s never too late to find love and follow your dreams. \n \nScreening 12/25 – 1/8!\nGet tickets HERE. \nBased on a true story\, two down-on-their-luck musicians (Hugh Jackman and Kate Hudson) form a joyous Neil Diamond tribute band\, proving it’s never too late to find love and follow your dreams.
URL:https://northparktheatre.org/shows/song-sung-blue-2/2025-12-30/
CATEGORIES:Song Sung Blue
ATTACH;FMTTYPE=image/jpeg:https://northparktheatre.org/wp-content/uploads/poster-songblue.jpg
END:VEVENT
BEGIN:VEVENT
DTSTART;TZID=America/New_York:20251230T215000
DTEND;TZID=America/New_York:20251230T233000
DTSTAMP:20260424T202415
CREATED:20251203T055944Z
LAST-MODIFIED:20251203T055944Z
UID:10014110-1767131400-1767137400@northparktheatre.org
SUMMARY:"Song Sung Blue"
DESCRIPTION:“…grounded in real feeling and irresistibly rousing music.”\n— The Hollywood Reporter \nBased on a true story\, two down-on-their-luck musicians (Hugh Jackman and Kate Hudson) form a joyous Neil Diamond tribute band\, proving it’s never too late to find love and follow your dreams. \n \nScreening 12/25 – 1/8!\nGet tickets HERE. \nBased on a true story\, two down-on-their-luck musicians (Hugh Jackman and Kate Hudson) form a joyous Neil Diamond tribute band\, proving it’s never too late to find love and follow your dreams.
URL:https://northparktheatre.org/shows/song-sung-blue-3/2025-12-30/
CATEGORIES:Song Sung Blue
ATTACH;FMTTYPE=image/jpeg:https://northparktheatre.org/wp-content/uploads/poster-songblue.jpg
END:VEVENT
BEGIN:VEVENT
DTSTART;TZID=America/New_York:20251231T130000
DTEND;TZID=America/New_York:20251231T150000
DTSTAMP:20260424T202415
CREATED:20251203T060051Z
LAST-MODIFIED:20251203T060051Z
UID:10014124-1767186000-1767193200@northparktheatre.org
SUMMARY:"Song Sung Blue"
DESCRIPTION:“…grounded in real feeling and irresistibly rousing music.”\n— The Hollywood Reporter \nBased on a true story\, two down-on-their-luck musicians (Hugh Jackman and Kate Hudson) form a joyous Neil Diamond tribute band\, proving it’s never too late to find love and follow your dreams. \n \nScreening 12/25 – 1/8!\nGet tickets HERE. \nBased on a true story\, two down-on-their-luck musicians (Hugh Jackman and Kate Hudson) form a joyous Neil Diamond tribute band\, proving it’s never too late to find love and follow your dreams.
URL:https://northparktheatre.org/shows/song-sung-blue-4/2025-12-31/
CATEGORIES:Song Sung Blue
ATTACH;FMTTYPE=image/jpeg:https://northparktheatre.org/wp-content/uploads/poster-songblue.jpg
END:VEVENT
BEGIN:VEVENT
DTSTART;TZID=America/New_York:20251231T160000
DTEND;TZID=America/New_York:20251231T180000
DTSTAMP:20260424T202415
CREATED:20251203T055644Z
LAST-MODIFIED:20251203T055644Z
UID:10014082-1767196800-1767204000@northparktheatre.org
SUMMARY:"Song Sung Blue"
DESCRIPTION:“…grounded in real feeling and irresistibly rousing music.”\n— The Hollywood Reporter \nBased on a true story\, two down-on-their-luck musicians (Hugh Jackman and Kate Hudson) form a joyous Neil Diamond tribute band\, proving it’s never too late to find love and follow your dreams. \n \nScreening 12/25 – 1/8!\nGet tickets HERE. \nBased on a true story\, two down-on-their-luck musicians (Hugh Jackman and Kate Hudson) form a joyous Neil Diamond tribute band\, proving it’s never too late to find love and follow your dreams.
URL:https://northparktheatre.org/shows/song-sung-blue/2025-12-31/
CATEGORIES:Song Sung Blue
ATTACH;FMTTYPE=image/jpeg:https://northparktheatre.org/wp-content/uploads/poster-songblue.jpg
END:VEVENT
BEGIN:VEVENT
DTSTART;TZID=America/New_York:20251231T190000
DTEND;TZID=America/New_York:20251231T210000
DTSTAMP:20260424T202415
CREATED:20251203T055801Z
LAST-MODIFIED:20251203T055801Z
UID:10014097-1767207600-1767214800@northparktheatre.org
SUMMARY:"Song Sung Blue"
DESCRIPTION:“…grounded in real feeling and irresistibly rousing music.”\n— The Hollywood Reporter \nBased on a true story\, two down-on-their-luck musicians (Hugh Jackman and Kate Hudson) form a joyous Neil Diamond tribute band\, proving it’s never too late to find love and follow your dreams. \n \nScreening 12/25 – 1/8!\nGet tickets HERE. \nBased on a true story\, two down-on-their-luck musicians (Hugh Jackman and Kate Hudson) form a joyous Neil Diamond tribute band\, proving it’s never too late to find love and follow your dreams.
URL:https://northparktheatre.org/shows/song-sung-blue-2/2025-12-31/
CATEGORIES:Song Sung Blue
ATTACH;FMTTYPE=image/jpeg:https://northparktheatre.org/wp-content/uploads/poster-songblue.jpg
END:VEVENT
END:VCALENDAR