BEGIN:VCALENDAR
VERSION:2.0
PRODID:-//North Park Theatre - ECPv6.15.20//NONSGML v1.0//EN
CALSCALE:GREGORIAN
METHOD:PUBLISH
X-ORIGINAL-URL:https://northparktheatre.org
X-WR-CALDESC:Events for North Park Theatre
REFRESH-INTERVAL;VALUE=DURATION:PT1H
X-Robots-Tag:noindex
X-PUBLISHED-TTL:PT1H
BEGIN:VTIMEZONE
TZID:America/New_York
BEGIN:DAYLIGHT
TZOFFSETFROM:-0500
TZOFFSETTO:-0400
TZNAME:EDT
DTSTART:20250309T070000
END:DAYLIGHT
BEGIN:STANDARD
TZOFFSETFROM:-0400
TZOFFSETTO:-0500
TZNAME:EST
DTSTART:20251102T060000
END:STANDARD
BEGIN:DAYLIGHT
TZOFFSETFROM:-0500
TZOFFSETTO:-0400
TZNAME:EDT
DTSTART:20260308T070000
END:DAYLIGHT
BEGIN:STANDARD
TZOFFSETFROM:-0400
TZOFFSETTO:-0500
TZNAME:EST
DTSTART:20261101T060000
END:STANDARD
BEGIN:DAYLIGHT
TZOFFSETFROM:-0500
TZOFFSETTO:-0400
TZNAME:EDT
DTSTART:20270314T070000
END:DAYLIGHT
BEGIN:STANDARD
TZOFFSETFROM:-0400
TZOFFSETTO:-0500
TZNAME:EST
DTSTART:20271107T060000
END:STANDARD
END:VTIMEZONE
BEGIN:VEVENT
DTSTART;TZID=America/New_York:20260216T163000
DTEND;TZID=America/New_York:20260216T180000
DTSTAMP:20260424T200004
CREATED:20260209T061042Z
LAST-MODIFIED:20260209T061042Z
UID:10014313-1771259400-1771264800@northparktheatre.org
SUMMARY:FREE SCREENING - "Shirley"
DESCRIPTION:Presidents’ Day is about leadership. And few embodied courage and conviction like Shirley Chisholm. \nOn behalf of the City of Buffalo\, Mayor Sean Ryan and the North Park Theatre hope you’ll join us for a free community screening of “Shirley\,” celebrating her historic run for president and her lasting connection to Buffalo.  \n🎬 Monday\, Feb. 16 at 4:30 PM\n📍 North Park Theatre\n🍿 Free popcorn \nSeats are free\, but reservations are encouraged. \n \nReserve yours HERE.
URL:https://northparktheatre.org/shows/free-screening-shirley/
CATEGORIES:Shirley
ATTACH;FMTTYPE=image/jpeg:https://northparktheatre.org/wp-content/uploads/poster-shirley2.jpg
END:VEVENT
END:VCALENDAR