BEGIN:VCALENDAR
VERSION:2.0
PRODID:-//North Park Theatre - ECPv6.15.20//NONSGML v1.0//EN
CALSCALE:GREGORIAN
METHOD:PUBLISH
X-WR-CALNAME:North Park Theatre
X-ORIGINAL-URL:https://northparktheatre.org
X-WR-CALDESC:Events for North Park Theatre
REFRESH-INTERVAL;VALUE=DURATION:PT1H
X-Robots-Tag:noindex
X-PUBLISHED-TTL:PT1H
BEGIN:VTIMEZONE
TZID:America/New_York
BEGIN:DAYLIGHT
TZOFFSETFROM:-0500
TZOFFSETTO:-0400
TZNAME:EDT
DTSTART:20250309T070000
END:DAYLIGHT
BEGIN:STANDARD
TZOFFSETFROM:-0400
TZOFFSETTO:-0500
TZNAME:EST
DTSTART:20251102T060000
END:STANDARD
BEGIN:DAYLIGHT
TZOFFSETFROM:-0500
TZOFFSETTO:-0400
TZNAME:EDT
DTSTART:20260308T070000
END:DAYLIGHT
BEGIN:STANDARD
TZOFFSETFROM:-0400
TZOFFSETTO:-0500
TZNAME:EST
DTSTART:20261101T060000
END:STANDARD
BEGIN:DAYLIGHT
TZOFFSETFROM:-0500
TZOFFSETTO:-0400
TZNAME:EDT
DTSTART:20270314T070000
END:DAYLIGHT
BEGIN:STANDARD
TZOFFSETFROM:-0400
TZOFFSETTO:-0500
TZNAME:EST
DTSTART:20271107T060000
END:STANDARD
END:VTIMEZONE
BEGIN:VEVENT
DTSTART;TZID=America/New_York:20260212T190000
DTEND;TZID=America/New_York:20260212T210000
DTSTAMP:20260424T125018
CREATED:20260115T041650Z
LAST-MODIFIED:20260210T024652Z
UID:10014222-1770922800-1770930000@northparktheatre.org
SUMMARY:"Scarlet" (Subtitled)
DESCRIPTION:“What makes this adult animation so affecting is the writer-director’s commitment to fortifying his spectacle with a deep emotional undercurrent.”\n– Screen International \n \nStarts February 12th!\nGet tickets HERE. \nFrom visionary Academy Award®-nominated filmmaker Mamoru Hosoda (MIRAI) comes a powerful\, time-bending animated adventure about SCARLET.
URL:https://northparktheatre.org/shows/scarlet-subtitled/2026-02-12/
CATEGORIES:Scarlet
ATTACH;FMTTYPE=image/jpeg:https://northparktheatre.org/wp-content/uploads/poster-scarlet-2.jpg
END:VEVENT
BEGIN:VEVENT
DTSTART;TZID=America/New_York:20260213T140000
DTEND;TZID=America/New_York:20260213T160000
DTSTAMP:20260424T125018
CREATED:20260115T041650Z
LAST-MODIFIED:20260210T024652Z
UID:10014223-1770991200-1770998400@northparktheatre.org
SUMMARY:"Scarlet" (Subtitled)
DESCRIPTION:“What makes this adult animation so affecting is the writer-director’s commitment to fortifying his spectacle with a deep emotional undercurrent.”\n– Screen International \n \nStarts February 12th!\nGet tickets HERE. \nFrom visionary Academy Award®-nominated filmmaker Mamoru Hosoda (MIRAI) comes a powerful\, time-bending animated adventure about SCARLET.
URL:https://northparktheatre.org/shows/scarlet-subtitled/2026-02-13/1/
CATEGORIES:Scarlet
ATTACH;FMTTYPE=image/jpeg:https://northparktheatre.org/wp-content/uploads/poster-scarlet-2.jpg
END:VEVENT
BEGIN:VEVENT
DTSTART;TZID=America/New_York:20260213T163000
DTEND;TZID=America/New_York:20260213T183000
DTSTAMP:20260424T125018
CREATED:20260115T041514Z
LAST-MODIFIED:20260210T024932Z
UID:10014220-1771000200-1771007400@northparktheatre.org
SUMMARY:"Scarlet" (Dubbed)
DESCRIPTION:“What makes this adult animation so affecting is the writer-director’s commitment to fortifying his spectacle with a deep emotional undercurrent.”\n– Screen International \n \nStarts February 12th!\nGet tickets HERE. \nFrom visionary Academy Award®-nominated filmmaker Mamoru Hosoda (MIRAI) comes a powerful\, time-bending animated adventure about SCARLET.
URL:https://northparktheatre.org/shows/scarlet-dubbed/2026-02-13/1/
CATEGORIES:Scarlet
ATTACH;FMTTYPE=image/jpeg:https://northparktheatre.org/wp-content/uploads/poster-scarlet-2.jpg
END:VEVENT
BEGIN:VEVENT
DTSTART;TZID=America/New_York:20260213T190000
DTEND;TZID=America/New_York:20260213T210000
DTSTAMP:20260424T125018
CREATED:20260115T041650Z
LAST-MODIFIED:20260210T024652Z
UID:10014224-1771009200-1771016400@northparktheatre.org
SUMMARY:"Scarlet" (Subtitled)
DESCRIPTION:“What makes this adult animation so affecting is the writer-director’s commitment to fortifying his spectacle with a deep emotional undercurrent.”\n– Screen International \n \nStarts February 12th!\nGet tickets HERE. \nFrom visionary Academy Award®-nominated filmmaker Mamoru Hosoda (MIRAI) comes a powerful\, time-bending animated adventure about SCARLET.
URL:https://northparktheatre.org/shows/scarlet-subtitled/2026-02-13/2/
CATEGORIES:Scarlet
ATTACH;FMTTYPE=image/jpeg:https://northparktheatre.org/wp-content/uploads/poster-scarlet-2.jpg
END:VEVENT
BEGIN:VEVENT
DTSTART;TZID=America/New_York:20260213T213000
DTEND;TZID=America/New_York:20260213T233000
DTSTAMP:20260424T125018
CREATED:20260115T041514Z
LAST-MODIFIED:20260210T024932Z
UID:10014221-1771018200-1771025400@northparktheatre.org
SUMMARY:"Scarlet" (Dubbed)
DESCRIPTION:“What makes this adult animation so affecting is the writer-director’s commitment to fortifying his spectacle with a deep emotional undercurrent.”\n– Screen International \n \nStarts February 12th!\nGet tickets HERE. \nFrom visionary Academy Award®-nominated filmmaker Mamoru Hosoda (MIRAI) comes a powerful\, time-bending animated adventure about SCARLET.
URL:https://northparktheatre.org/shows/scarlet-dubbed/2026-02-13/2/
CATEGORIES:Scarlet
ATTACH;FMTTYPE=image/jpeg:https://northparktheatre.org/wp-content/uploads/poster-scarlet-2.jpg
END:VEVENT
BEGIN:VEVENT
DTSTART;TZID=America/New_York:20260214T140000
DTEND;TZID=America/New_York:20260214T160000
DTSTAMP:20260424T125018
CREATED:20260115T041514Z
LAST-MODIFIED:20260210T024932Z
UID:10014326-1771077600-1771084800@northparktheatre.org
SUMMARY:"Scarlet" (Dubbed)
DESCRIPTION:“What makes this adult animation so affecting is the writer-director’s commitment to fortifying his spectacle with a deep emotional undercurrent.”\n– Screen International \n \nStarts February 12th!\nGet tickets HERE. \nFrom visionary Academy Award®-nominated filmmaker Mamoru Hosoda (MIRAI) comes a powerful\, time-bending animated adventure about SCARLET.
URL:https://northparktheatre.org/shows/scarlet-dubbed/2026-02-14/1/
CATEGORIES:Scarlet
ATTACH;FMTTYPE=image/jpeg:https://northparktheatre.org/wp-content/uploads/poster-scarlet-2.jpg
END:VEVENT
BEGIN:VEVENT
DTSTART;TZID=America/New_York:20260214T163000
DTEND;TZID=America/New_York:20260214T180000
DTSTAMP:20260424T125018
CREATED:20260115T041650Z
LAST-MODIFIED:20260210T024652Z
UID:10014316-1771086600-1771092000@northparktheatre.org
SUMMARY:"Scarlet" (Subtitled)
DESCRIPTION:“What makes this adult animation so affecting is the writer-director’s commitment to fortifying his spectacle with a deep emotional undercurrent.”\n– Screen International \n \nStarts February 12th!\nGet tickets HERE. \nFrom visionary Academy Award®-nominated filmmaker Mamoru Hosoda (MIRAI) comes a powerful\, time-bending animated adventure about SCARLET.
URL:https://northparktheatre.org/shows/scarlet-subtitled/2026-02-14/1/
CATEGORIES:Scarlet
ATTACH;FMTTYPE=image/jpeg:https://northparktheatre.org/wp-content/uploads/poster-scarlet-2.jpg
END:VEVENT
BEGIN:VEVENT
DTSTART;TZID=America/New_York:20260214T190000
DTEND;TZID=America/New_York:20260214T210000
DTSTAMP:20260424T125018
CREATED:20260115T041514Z
LAST-MODIFIED:20260210T024932Z
UID:10014327-1771095600-1771102800@northparktheatre.org
SUMMARY:"Scarlet" (Dubbed)
DESCRIPTION:“What makes this adult animation so affecting is the writer-director’s commitment to fortifying his spectacle with a deep emotional undercurrent.”\n– Screen International \n \nStarts February 12th!\nGet tickets HERE. \nFrom visionary Academy Award®-nominated filmmaker Mamoru Hosoda (MIRAI) comes a powerful\, time-bending animated adventure about SCARLET.
URL:https://northparktheatre.org/shows/scarlet-dubbed/2026-02-14/2/
CATEGORIES:Scarlet
ATTACH;FMTTYPE=image/jpeg:https://northparktheatre.org/wp-content/uploads/poster-scarlet-2.jpg
END:VEVENT
BEGIN:VEVENT
DTSTART;TZID=America/New_York:20260214T213000
DTEND;TZID=America/New_York:20260214T233000
DTSTAMP:20260424T125018
CREATED:20260115T041650Z
LAST-MODIFIED:20260210T024652Z
UID:10014317-1771104600-1771111800@northparktheatre.org
SUMMARY:"Scarlet" (Subtitled)
DESCRIPTION:“What makes this adult animation so affecting is the writer-director’s commitment to fortifying his spectacle with a deep emotional undercurrent.”\n– Screen International \n \nStarts February 12th!\nGet tickets HERE. \nFrom visionary Academy Award®-nominated filmmaker Mamoru Hosoda (MIRAI) comes a powerful\, time-bending animated adventure about SCARLET.
URL:https://northparktheatre.org/shows/scarlet-subtitled/2026-02-14/2/
CATEGORIES:Scarlet
ATTACH;FMTTYPE=image/jpeg:https://northparktheatre.org/wp-content/uploads/poster-scarlet-2.jpg
END:VEVENT
BEGIN:VEVENT
DTSTART;TZID=America/New_York:20260215T140000
DTEND;TZID=America/New_York:20260215T160000
DTSTAMP:20260424T125018
CREATED:20260115T041650Z
LAST-MODIFIED:20260210T024652Z
UID:10014318-1771164000-1771171200@northparktheatre.org
SUMMARY:"Scarlet" (Subtitled)
DESCRIPTION:“What makes this adult animation so affecting is the writer-director’s commitment to fortifying his spectacle with a deep emotional undercurrent.”\n– Screen International \n \nStarts February 12th!\nGet tickets HERE. \nFrom visionary Academy Award®-nominated filmmaker Mamoru Hosoda (MIRAI) comes a powerful\, time-bending animated adventure about SCARLET.
URL:https://northparktheatre.org/shows/scarlet-subtitled/2026-02-15/
CATEGORIES:Scarlet
ATTACH;FMTTYPE=image/jpeg:https://northparktheatre.org/wp-content/uploads/poster-scarlet-2.jpg
END:VEVENT
BEGIN:VEVENT
DTSTART;TZID=America/New_York:20260215T163000
DTEND;TZID=America/New_York:20260215T183000
DTSTAMP:20260424T125018
CREATED:20260115T041514Z
LAST-MODIFIED:20260210T024932Z
UID:10014328-1771173000-1771180200@northparktheatre.org
SUMMARY:"Scarlet" (Dubbed)
DESCRIPTION:“What makes this adult animation so affecting is the writer-director’s commitment to fortifying his spectacle with a deep emotional undercurrent.”\n– Screen International \n \nStarts February 12th!\nGet tickets HERE. \nFrom visionary Academy Award®-nominated filmmaker Mamoru Hosoda (MIRAI) comes a powerful\, time-bending animated adventure about SCARLET.
URL:https://northparktheatre.org/shows/scarlet-dubbed/2026-02-15/1/
CATEGORIES:Scarlet
ATTACH;FMTTYPE=image/jpeg:https://northparktheatre.org/wp-content/uploads/poster-scarlet-2.jpg
END:VEVENT
BEGIN:VEVENT
DTSTART;TZID=America/New_York:20260215T214500
DTEND;TZID=America/New_York:20260215T233000
DTSTAMP:20260424T125018
CREATED:20260115T041514Z
LAST-MODIFIED:20260210T024932Z
UID:10014329-1771191900-1771198200@northparktheatre.org
SUMMARY:"Scarlet" (Dubbed)
DESCRIPTION:“What makes this adult animation so affecting is the writer-director’s commitment to fortifying his spectacle with a deep emotional undercurrent.”\n– Screen International \n \nStarts February 12th!\nGet tickets HERE. \nFrom visionary Academy Award®-nominated filmmaker Mamoru Hosoda (MIRAI) comes a powerful\, time-bending animated adventure about SCARLET.
URL:https://northparktheatre.org/shows/scarlet-dubbed/2026-02-15/2/
CATEGORIES:Scarlet
ATTACH;FMTTYPE=image/jpeg:https://northparktheatre.org/wp-content/uploads/poster-scarlet-2.jpg
END:VEVENT
BEGIN:VEVENT
DTSTART;TZID=America/New_York:20260216T140000
DTEND;TZID=America/New_York:20260216T160000
DTSTAMP:20260424T125018
CREATED:20260115T041650Z
LAST-MODIFIED:20260210T024652Z
UID:10014319-1771250400-1771257600@northparktheatre.org
SUMMARY:"Scarlet" (Subtitled)
DESCRIPTION:“What makes this adult animation so affecting is the writer-director’s commitment to fortifying his spectacle with a deep emotional undercurrent.”\n– Screen International \n \nStarts February 12th!\nGet tickets HERE. \nFrom visionary Academy Award®-nominated filmmaker Mamoru Hosoda (MIRAI) comes a powerful\, time-bending animated adventure about SCARLET.
URL:https://northparktheatre.org/shows/scarlet-subtitled/2026-02-16/
CATEGORIES:Scarlet
ATTACH;FMTTYPE=image/jpeg:https://northparktheatre.org/wp-content/uploads/poster-scarlet-2.jpg
END:VEVENT
BEGIN:VEVENT
DTSTART;TZID=America/New_York:20260216T190000
DTEND;TZID=America/New_York:20260216T210000
DTSTAMP:20260424T125018
CREATED:20260115T041514Z
LAST-MODIFIED:20260210T024932Z
UID:10014330-1771268400-1771275600@northparktheatre.org
SUMMARY:"Scarlet" (Dubbed)
DESCRIPTION:“What makes this adult animation so affecting is the writer-director’s commitment to fortifying his spectacle with a deep emotional undercurrent.”\n– Screen International \n \nStarts February 12th!\nGet tickets HERE. \nFrom visionary Academy Award®-nominated filmmaker Mamoru Hosoda (MIRAI) comes a powerful\, time-bending animated adventure about SCARLET.
URL:https://northparktheatre.org/shows/scarlet-dubbed/2026-02-16/1/
CATEGORIES:Scarlet
ATTACH;FMTTYPE=image/jpeg:https://northparktheatre.org/wp-content/uploads/poster-scarlet-2.jpg
END:VEVENT
BEGIN:VEVENT
DTSTART;TZID=America/New_York:20260216T213000
DTEND;TZID=America/New_York:20260216T233000
DTSTAMP:20260424T125018
CREATED:20260115T041514Z
LAST-MODIFIED:20260210T024932Z
UID:10014331-1771277400-1771284600@northparktheatre.org
SUMMARY:"Scarlet" (Dubbed)
DESCRIPTION:“What makes this adult animation so affecting is the writer-director’s commitment to fortifying his spectacle with a deep emotional undercurrent.”\n– Screen International \n \nStarts February 12th!\nGet tickets HERE. \nFrom visionary Academy Award®-nominated filmmaker Mamoru Hosoda (MIRAI) comes a powerful\, time-bending animated adventure about SCARLET.
URL:https://northparktheatre.org/shows/scarlet-dubbed/2026-02-16/2/
CATEGORIES:Scarlet
ATTACH;FMTTYPE=image/jpeg:https://northparktheatre.org/wp-content/uploads/poster-scarlet-2.jpg
END:VEVENT
BEGIN:VEVENT
DTSTART;TZID=America/New_York:20260217T140000
DTEND;TZID=America/New_York:20260217T160000
DTSTAMP:20260424T125018
CREATED:20260115T041650Z
LAST-MODIFIED:20260210T024652Z
UID:10014320-1771336800-1771344000@northparktheatre.org
SUMMARY:"Scarlet" (Subtitled)
DESCRIPTION:“What makes this adult animation so affecting is the writer-director’s commitment to fortifying his spectacle with a deep emotional undercurrent.”\n– Screen International \n \nStarts February 12th!\nGet tickets HERE. \nFrom visionary Academy Award®-nominated filmmaker Mamoru Hosoda (MIRAI) comes a powerful\, time-bending animated adventure about SCARLET.
URL:https://northparktheatre.org/shows/scarlet-subtitled/2026-02-17/1/
CATEGORIES:Scarlet
ATTACH;FMTTYPE=image/jpeg:https://northparktheatre.org/wp-content/uploads/poster-scarlet-2.jpg
END:VEVENT
BEGIN:VEVENT
DTSTART;TZID=America/New_York:20260217T163000
DTEND;TZID=America/New_York:20260217T183000
DTSTAMP:20260424T125018
CREATED:20260115T041514Z
LAST-MODIFIED:20260210T024932Z
UID:10014332-1771345800-1771353000@northparktheatre.org
SUMMARY:"Scarlet" (Dubbed)
DESCRIPTION:“What makes this adult animation so affecting is the writer-director’s commitment to fortifying his spectacle with a deep emotional undercurrent.”\n– Screen International \n \nStarts February 12th!\nGet tickets HERE. \nFrom visionary Academy Award®-nominated filmmaker Mamoru Hosoda (MIRAI) comes a powerful\, time-bending animated adventure about SCARLET.
URL:https://northparktheatre.org/shows/scarlet-dubbed/2026-02-17/1/
CATEGORIES:Scarlet
ATTACH;FMTTYPE=image/jpeg:https://northparktheatre.org/wp-content/uploads/poster-scarlet-2.jpg
END:VEVENT
BEGIN:VEVENT
DTSTART;TZID=America/New_York:20260217T190000
DTEND;TZID=America/New_York:20260217T210000
DTSTAMP:20260424T125018
CREATED:20260115T041650Z
LAST-MODIFIED:20260210T024652Z
UID:10014321-1771354800-1771362000@northparktheatre.org
SUMMARY:"Scarlet" (Subtitled)
DESCRIPTION:“What makes this adult animation so affecting is the writer-director’s commitment to fortifying his spectacle with a deep emotional undercurrent.”\n– Screen International \n \nStarts February 12th!\nGet tickets HERE. \nFrom visionary Academy Award®-nominated filmmaker Mamoru Hosoda (MIRAI) comes a powerful\, time-bending animated adventure about SCARLET.
URL:https://northparktheatre.org/shows/scarlet-subtitled/2026-02-17/2/
CATEGORIES:Scarlet
ATTACH;FMTTYPE=image/jpeg:https://northparktheatre.org/wp-content/uploads/poster-scarlet-2.jpg
END:VEVENT
BEGIN:VEVENT
DTSTART;TZID=America/New_York:20260217T213000
DTEND;TZID=America/New_York:20260217T233000
DTSTAMP:20260424T125018
CREATED:20260115T041514Z
LAST-MODIFIED:20260210T024932Z
UID:10014333-1771363800-1771371000@northparktheatre.org
SUMMARY:"Scarlet" (Dubbed)
DESCRIPTION:“What makes this adult animation so affecting is the writer-director’s commitment to fortifying his spectacle with a deep emotional undercurrent.”\n– Screen International \n \nStarts February 12th!\nGet tickets HERE. \nFrom visionary Academy Award®-nominated filmmaker Mamoru Hosoda (MIRAI) comes a powerful\, time-bending animated adventure about SCARLET.
URL:https://northparktheatre.org/shows/scarlet-dubbed/2026-02-17/2/
CATEGORIES:Scarlet
ATTACH;FMTTYPE=image/jpeg:https://northparktheatre.org/wp-content/uploads/poster-scarlet-2.jpg
END:VEVENT
BEGIN:VEVENT
DTSTART;TZID=America/New_York:20260218T140000
DTEND;TZID=America/New_York:20260218T160000
DTSTAMP:20260424T125019
CREATED:20260115T041514Z
LAST-MODIFIED:20260210T024932Z
UID:10014334-1771423200-1771430400@northparktheatre.org
SUMMARY:"Scarlet" (Dubbed)
DESCRIPTION:“What makes this adult animation so affecting is the writer-director’s commitment to fortifying his spectacle with a deep emotional undercurrent.”\n– Screen International \n \nStarts February 12th!\nGet tickets HERE. \nFrom visionary Academy Award®-nominated filmmaker Mamoru Hosoda (MIRAI) comes a powerful\, time-bending animated adventure about SCARLET.
URL:https://northparktheatre.org/shows/scarlet-dubbed/2026-02-18/1/
CATEGORIES:Scarlet
ATTACH;FMTTYPE=image/jpeg:https://northparktheatre.org/wp-content/uploads/poster-scarlet-2.jpg
END:VEVENT
BEGIN:VEVENT
DTSTART;TZID=America/New_York:20260218T163000
DTEND;TZID=America/New_York:20260218T183000
DTSTAMP:20260424T125019
CREATED:20260115T041650Z
LAST-MODIFIED:20260210T024652Z
UID:10014322-1771432200-1771439400@northparktheatre.org
SUMMARY:"Scarlet" (Subtitled)
DESCRIPTION:“What makes this adult animation so affecting is the writer-director’s commitment to fortifying his spectacle with a deep emotional undercurrent.”\n– Screen International \n \nStarts February 12th!\nGet tickets HERE. \nFrom visionary Academy Award®-nominated filmmaker Mamoru Hosoda (MIRAI) comes a powerful\, time-bending animated adventure about SCARLET.
URL:https://northparktheatre.org/shows/scarlet-subtitled/2026-02-18/1/
CATEGORIES:Scarlet
ATTACH;FMTTYPE=image/jpeg:https://northparktheatre.org/wp-content/uploads/poster-scarlet-2.jpg
END:VEVENT
BEGIN:VEVENT
DTSTART;TZID=America/New_York:20260218T190000
DTEND;TZID=America/New_York:20260218T210000
DTSTAMP:20260424T125019
CREATED:20260115T041514Z
LAST-MODIFIED:20260210T024932Z
UID:10014335-1771441200-1771448400@northparktheatre.org
SUMMARY:"Scarlet" (Dubbed)
DESCRIPTION:“What makes this adult animation so affecting is the writer-director’s commitment to fortifying his spectacle with a deep emotional undercurrent.”\n– Screen International \n \nStarts February 12th!\nGet tickets HERE. \nFrom visionary Academy Award®-nominated filmmaker Mamoru Hosoda (MIRAI) comes a powerful\, time-bending animated adventure about SCARLET.
URL:https://northparktheatre.org/shows/scarlet-dubbed/2026-02-18/2/
CATEGORIES:Scarlet
ATTACH;FMTTYPE=image/jpeg:https://northparktheatre.org/wp-content/uploads/poster-scarlet-2.jpg
END:VEVENT
BEGIN:VEVENT
DTSTART;TZID=America/New_York:20260218T213000
DTEND;TZID=America/New_York:20260218T233000
DTSTAMP:20260424T125019
CREATED:20260115T041650Z
LAST-MODIFIED:20260210T024652Z
UID:10014323-1771450200-1771457400@northparktheatre.org
SUMMARY:"Scarlet" (Subtitled)
DESCRIPTION:“What makes this adult animation so affecting is the writer-director’s commitment to fortifying his spectacle with a deep emotional undercurrent.”\n– Screen International \n \nStarts February 12th!\nGet tickets HERE. \nFrom visionary Academy Award®-nominated filmmaker Mamoru Hosoda (MIRAI) comes a powerful\, time-bending animated adventure about SCARLET.
URL:https://northparktheatre.org/shows/scarlet-subtitled/2026-02-18/2/
CATEGORIES:Scarlet
ATTACH;FMTTYPE=image/jpeg:https://northparktheatre.org/wp-content/uploads/poster-scarlet-2.jpg
END:VEVENT
BEGIN:VEVENT
DTSTART;TZID=America/New_York:20260219T140000
DTEND;TZID=America/New_York:20260219T160000
DTSTAMP:20260424T125019
CREATED:20260115T041650Z
LAST-MODIFIED:20260210T024652Z
UID:10014324-1771509600-1771516800@northparktheatre.org
SUMMARY:"Scarlet" (Subtitled)
DESCRIPTION:“What makes this adult animation so affecting is the writer-director’s commitment to fortifying his spectacle with a deep emotional undercurrent.”\n– Screen International \n \nStarts February 12th!\nGet tickets HERE. \nFrom visionary Academy Award®-nominated filmmaker Mamoru Hosoda (MIRAI) comes a powerful\, time-bending animated adventure about SCARLET.
URL:https://northparktheatre.org/shows/scarlet-subtitled/2026-02-19/1/
CATEGORIES:Scarlet
ATTACH;FMTTYPE=image/jpeg:https://northparktheatre.org/wp-content/uploads/poster-scarlet-2.jpg
END:VEVENT
BEGIN:VEVENT
DTSTART;TZID=America/New_York:20260219T163000
DTEND;TZID=America/New_York:20260219T183000
DTSTAMP:20260424T125019
CREATED:20260115T041514Z
LAST-MODIFIED:20260210T024932Z
UID:10014336-1771518600-1771525800@northparktheatre.org
SUMMARY:"Scarlet" (Dubbed)
DESCRIPTION:“What makes this adult animation so affecting is the writer-director’s commitment to fortifying his spectacle with a deep emotional undercurrent.”\n– Screen International \n \nStarts February 12th!\nGet tickets HERE. \nFrom visionary Academy Award®-nominated filmmaker Mamoru Hosoda (MIRAI) comes a powerful\, time-bending animated adventure about SCARLET.
URL:https://northparktheatre.org/shows/scarlet-dubbed/2026-02-19/1/
CATEGORIES:Scarlet
ATTACH;FMTTYPE=image/jpeg:https://northparktheatre.org/wp-content/uploads/poster-scarlet-2.jpg
END:VEVENT
BEGIN:VEVENT
DTSTART;TZID=America/New_York:20260219T190000
DTEND;TZID=America/New_York:20260219T210000
DTSTAMP:20260424T125019
CREATED:20260115T041650Z
LAST-MODIFIED:20260210T024652Z
UID:10014325-1771527600-1771534800@northparktheatre.org
SUMMARY:"Scarlet" (Subtitled)
DESCRIPTION:“What makes this adult animation so affecting is the writer-director’s commitment to fortifying his spectacle with a deep emotional undercurrent.”\n– Screen International \n \nStarts February 12th!\nGet tickets HERE. \nFrom visionary Academy Award®-nominated filmmaker Mamoru Hosoda (MIRAI) comes a powerful\, time-bending animated adventure about SCARLET.
URL:https://northparktheatre.org/shows/scarlet-subtitled/2026-02-19/2/
CATEGORIES:Scarlet
ATTACH;FMTTYPE=image/jpeg:https://northparktheatre.org/wp-content/uploads/poster-scarlet-2.jpg
END:VEVENT
BEGIN:VEVENT
DTSTART;TZID=America/New_York:20260219T213000
DTEND;TZID=America/New_York:20260219T233000
DTSTAMP:20260424T125019
CREATED:20260115T041514Z
LAST-MODIFIED:20260210T024932Z
UID:10014337-1771536600-1771543800@northparktheatre.org
SUMMARY:"Scarlet" (Dubbed)
DESCRIPTION:“What makes this adult animation so affecting is the writer-director’s commitment to fortifying his spectacle with a deep emotional undercurrent.”\n– Screen International \n \nStarts February 12th!\nGet tickets HERE. \nFrom visionary Academy Award®-nominated filmmaker Mamoru Hosoda (MIRAI) comes a powerful\, time-bending animated adventure about SCARLET.
URL:https://northparktheatre.org/shows/scarlet-dubbed/2026-02-19/2/
CATEGORIES:Scarlet
ATTACH;FMTTYPE=image/jpeg:https://northparktheatre.org/wp-content/uploads/poster-scarlet-2.jpg
END:VEVENT
END:VCALENDAR