BEGIN:VCALENDAR
VERSION:2.0
PRODID:-//North Park Theatre - ECPv6.15.20//NONSGML v1.0//EN
CALSCALE:GREGORIAN
METHOD:PUBLISH
X-WR-CALNAME:North Park Theatre
X-ORIGINAL-URL:https://northparktheatre.org
X-WR-CALDESC:Events for North Park Theatre
REFRESH-INTERVAL;VALUE=DURATION:PT1H
X-Robots-Tag:noindex
X-PUBLISHED-TTL:PT1H
BEGIN:VTIMEZONE
TZID:America/New_York
BEGIN:DAYLIGHT
TZOFFSETFROM:-0500
TZOFFSETTO:-0400
TZNAME:EDT
DTSTART:20260308T070000
END:DAYLIGHT
BEGIN:STANDARD
TZOFFSETFROM:-0400
TZOFFSETTO:-0500
TZNAME:EST
DTSTART:20261101T060000
END:STANDARD
BEGIN:DAYLIGHT
TZOFFSETFROM:-0500
TZOFFSETTO:-0400
TZNAME:EDT
DTSTART:20270314T070000
END:DAYLIGHT
BEGIN:STANDARD
TZOFFSETFROM:-0400
TZOFFSETTO:-0500
TZNAME:EST
DTSTART:20271107T060000
END:STANDARD
BEGIN:DAYLIGHT
TZOFFSETFROM:-0500
TZOFFSETTO:-0400
TZNAME:EDT
DTSTART:20280312T070000
END:DAYLIGHT
BEGIN:STANDARD
TZOFFSETFROM:-0400
TZOFFSETTO:-0500
TZNAME:EST
DTSTART:20281105T060000
END:STANDARD
END:VTIMEZONE
BEGIN:VEVENT
DTSTART;TZID=America/New_York:20270401T163000
DTEND;TZID=America/New_York:20270401T183000
DTSTAMP:20260424T051604
CREATED:20260423T120611Z
LAST-MODIFIED:20260423T120611Z
UID:10014929-1806597000-1806604200@northparktheatre.org
SUMMARY:"Mistura"
DESCRIPTION:A woman’s life unravels after her husband’s betrayal isolates her from elite society. Embracing disregarded communities\, she embarks on a transformative journey\, challenging norms through a daring culinary venture that redefines her life. \n \nScreening May 1-7!\nGet tickets HERE.
URL:https://northparktheatre.org/shows/mistura-2/2027-04-01/
CATEGORIES:Mistura
ATTACH;FMTTYPE=image/jpeg:https://northparktheatre.org/wp-content/uploads/poster-mistura.jpg
END:VEVENT
BEGIN:VEVENT
DTSTART;TZID=America/New_York:20270402T163000
DTEND;TZID=America/New_York:20270402T183000
DTSTAMP:20260424T051604
CREATED:20260423T120611Z
LAST-MODIFIED:20260423T120611Z
UID:10014930-1806683400-1806690600@northparktheatre.org
SUMMARY:"Mistura"
DESCRIPTION:A woman’s life unravels after her husband’s betrayal isolates her from elite society. Embracing disregarded communities\, she embarks on a transformative journey\, challenging norms through a daring culinary venture that redefines her life. \n \nScreening May 1-7!\nGet tickets HERE.
URL:https://northparktheatre.org/shows/mistura-2/2027-04-02/
CATEGORIES:Mistura
ATTACH;FMTTYPE=image/jpeg:https://northparktheatre.org/wp-content/uploads/poster-mistura.jpg
END:VEVENT
BEGIN:VEVENT
DTSTART;TZID=America/New_York:20270403T163000
DTEND;TZID=America/New_York:20270403T183000
DTSTAMP:20260424T051604
CREATED:20260423T120611Z
LAST-MODIFIED:20260423T120611Z
UID:10014931-1806769800-1806777000@northparktheatre.org
SUMMARY:"Mistura"
DESCRIPTION:A woman’s life unravels after her husband’s betrayal isolates her from elite society. Embracing disregarded communities\, she embarks on a transformative journey\, challenging norms through a daring culinary venture that redefines her life. \n \nScreening May 1-7!\nGet tickets HERE.
URL:https://northparktheatre.org/shows/mistura-2/2027-04-03/
CATEGORIES:Mistura
ATTACH;FMTTYPE=image/jpeg:https://northparktheatre.org/wp-content/uploads/poster-mistura.jpg
END:VEVENT
BEGIN:VEVENT
DTSTART;TZID=America/New_York:20270404T163000
DTEND;TZID=America/New_York:20270404T183000
DTSTAMP:20260424T051604
CREATED:20260423T120611Z
LAST-MODIFIED:20260423T120611Z
UID:10014932-1806856200-1806863400@northparktheatre.org
SUMMARY:"Mistura"
DESCRIPTION:A woman’s life unravels after her husband’s betrayal isolates her from elite society. Embracing disregarded communities\, she embarks on a transformative journey\, challenging norms through a daring culinary venture that redefines her life. \n \nScreening May 1-7!\nGet tickets HERE.
URL:https://northparktheatre.org/shows/mistura-2/2027-04-04/
CATEGORIES:Mistura
ATTACH;FMTTYPE=image/jpeg:https://northparktheatre.org/wp-content/uploads/poster-mistura.jpg
END:VEVENT
BEGIN:VEVENT
DTSTART;TZID=America/New_York:20270405T163000
DTEND;TZID=America/New_York:20270405T183000
DTSTAMP:20260424T051604
CREATED:20260423T120611Z
LAST-MODIFIED:20260423T120611Z
UID:10014933-1806942600-1806949800@northparktheatre.org
SUMMARY:"Mistura"
DESCRIPTION:A woman’s life unravels after her husband’s betrayal isolates her from elite society. Embracing disregarded communities\, she embarks on a transformative journey\, challenging norms through a daring culinary venture that redefines her life. \n \nScreening May 1-7!\nGet tickets HERE.
URL:https://northparktheatre.org/shows/mistura-2/2027-04-05/
CATEGORIES:Mistura
ATTACH;FMTTYPE=image/jpeg:https://northparktheatre.org/wp-content/uploads/poster-mistura.jpg
END:VEVENT
BEGIN:VEVENT
DTSTART;TZID=America/New_York:20270406T163000
DTEND;TZID=America/New_York:20270406T183000
DTSTAMP:20260424T051604
CREATED:20260423T120611Z
LAST-MODIFIED:20260423T120611Z
UID:10014934-1807029000-1807036200@northparktheatre.org
SUMMARY:"Mistura"
DESCRIPTION:A woman’s life unravels after her husband’s betrayal isolates her from elite society. Embracing disregarded communities\, she embarks on a transformative journey\, challenging norms through a daring culinary venture that redefines her life. \n \nScreening May 1-7!\nGet tickets HERE.
URL:https://northparktheatre.org/shows/mistura-2/2027-04-06/
CATEGORIES:Mistura
ATTACH;FMTTYPE=image/jpeg:https://northparktheatre.org/wp-content/uploads/poster-mistura.jpg
END:VEVENT
BEGIN:VEVENT
DTSTART;TZID=America/New_York:20270407T163000
DTEND;TZID=America/New_York:20270407T183000
DTSTAMP:20260424T051604
CREATED:20260423T120611Z
LAST-MODIFIED:20260423T120611Z
UID:10014935-1807115400-1807122600@northparktheatre.org
SUMMARY:"Mistura"
DESCRIPTION:A woman’s life unravels after her husband’s betrayal isolates her from elite society. Embracing disregarded communities\, she embarks on a transformative journey\, challenging norms through a daring culinary venture that redefines her life. \n \nScreening May 1-7!\nGet tickets HERE.
URL:https://northparktheatre.org/shows/mistura-2/2027-04-07/
CATEGORIES:Mistura
ATTACH;FMTTYPE=image/jpeg:https://northparktheatre.org/wp-content/uploads/poster-mistura.jpg
END:VEVENT
BEGIN:VEVENT
DTSTART;TZID=America/New_York:20270408T163000
DTEND;TZID=America/New_York:20270408T183000
DTSTAMP:20260424T051604
CREATED:20260423T120611Z
LAST-MODIFIED:20260423T120611Z
UID:10014936-1807201800-1807209000@northparktheatre.org
SUMMARY:"Mistura"
DESCRIPTION:A woman’s life unravels after her husband’s betrayal isolates her from elite society. Embracing disregarded communities\, she embarks on a transformative journey\, challenging norms through a daring culinary venture that redefines her life. \n \nScreening May 1-7!\nGet tickets HERE.
URL:https://northparktheatre.org/shows/mistura-2/2027-04-08/
CATEGORIES:Mistura
ATTACH;FMTTYPE=image/jpeg:https://northparktheatre.org/wp-content/uploads/poster-mistura.jpg
END:VEVENT
BEGIN:VEVENT
DTSTART;TZID=America/New_York:20270409T163000
DTEND;TZID=America/New_York:20270409T183000
DTSTAMP:20260424T051604
CREATED:20260423T120611Z
LAST-MODIFIED:20260423T120611Z
UID:10014937-1807288200-1807295400@northparktheatre.org
SUMMARY:"Mistura"
DESCRIPTION:A woman’s life unravels after her husband’s betrayal isolates her from elite society. Embracing disregarded communities\, she embarks on a transformative journey\, challenging norms through a daring culinary venture that redefines her life. \n \nScreening May 1-7!\nGet tickets HERE.
URL:https://northparktheatre.org/shows/mistura-2/2027-04-09/
CATEGORIES:Mistura
ATTACH;FMTTYPE=image/jpeg:https://northparktheatre.org/wp-content/uploads/poster-mistura.jpg
END:VEVENT
BEGIN:VEVENT
DTSTART;TZID=America/New_York:20270410T163000
DTEND;TZID=America/New_York:20270410T183000
DTSTAMP:20260424T051604
CREATED:20260423T120611Z
LAST-MODIFIED:20260423T120611Z
UID:10014938-1807374600-1807381800@northparktheatre.org
SUMMARY:"Mistura"
DESCRIPTION:A woman’s life unravels after her husband’s betrayal isolates her from elite society. Embracing disregarded communities\, she embarks on a transformative journey\, challenging norms through a daring culinary venture that redefines her life. \n \nScreening May 1-7!\nGet tickets HERE.
URL:https://northparktheatre.org/shows/mistura-2/2027-04-10/
CATEGORIES:Mistura
ATTACH;FMTTYPE=image/jpeg:https://northparktheatre.org/wp-content/uploads/poster-mistura.jpg
END:VEVENT
BEGIN:VEVENT
DTSTART;TZID=America/New_York:20270411T163000
DTEND;TZID=America/New_York:20270411T183000
DTSTAMP:20260424T051604
CREATED:20260423T120611Z
LAST-MODIFIED:20260423T120611Z
UID:10014939-1807461000-1807468200@northparktheatre.org
SUMMARY:"Mistura"
DESCRIPTION:A woman’s life unravels after her husband’s betrayal isolates her from elite society. Embracing disregarded communities\, she embarks on a transformative journey\, challenging norms through a daring culinary venture that redefines her life. \n \nScreening May 1-7!\nGet tickets HERE.
URL:https://northparktheatre.org/shows/mistura-2/2027-04-11/
CATEGORIES:Mistura
ATTACH;FMTTYPE=image/jpeg:https://northparktheatre.org/wp-content/uploads/poster-mistura.jpg
END:VEVENT
BEGIN:VEVENT
DTSTART;TZID=America/New_York:20270412T163000
DTEND;TZID=America/New_York:20270412T183000
DTSTAMP:20260424T051604
CREATED:20260423T120611Z
LAST-MODIFIED:20260423T120611Z
UID:10014940-1807547400-1807554600@northparktheatre.org
SUMMARY:"Mistura"
DESCRIPTION:A woman’s life unravels after her husband’s betrayal isolates her from elite society. Embracing disregarded communities\, she embarks on a transformative journey\, challenging norms through a daring culinary venture that redefines her life. \n \nScreening May 1-7!\nGet tickets HERE.
URL:https://northparktheatre.org/shows/mistura-2/2027-04-12/
CATEGORIES:Mistura
ATTACH;FMTTYPE=image/jpeg:https://northparktheatre.org/wp-content/uploads/poster-mistura.jpg
END:VEVENT
BEGIN:VEVENT
DTSTART;TZID=America/New_York:20270413T163000
DTEND;TZID=America/New_York:20270413T183000
DTSTAMP:20260424T051604
CREATED:20260423T120611Z
LAST-MODIFIED:20260423T120611Z
UID:10014941-1807633800-1807641000@northparktheatre.org
SUMMARY:"Mistura"
DESCRIPTION:A woman’s life unravels after her husband’s betrayal isolates her from elite society. Embracing disregarded communities\, she embarks on a transformative journey\, challenging norms through a daring culinary venture that redefines her life. \n \nScreening May 1-7!\nGet tickets HERE.
URL:https://northparktheatre.org/shows/mistura-2/2027-04-13/
CATEGORIES:Mistura
ATTACH;FMTTYPE=image/jpeg:https://northparktheatre.org/wp-content/uploads/poster-mistura.jpg
END:VEVENT
BEGIN:VEVENT
DTSTART;TZID=America/New_York:20270414T163000
DTEND;TZID=America/New_York:20270414T183000
DTSTAMP:20260424T051604
CREATED:20260423T120611Z
LAST-MODIFIED:20260423T120611Z
UID:10014942-1807720200-1807727400@northparktheatre.org
SUMMARY:"Mistura"
DESCRIPTION:A woman’s life unravels after her husband’s betrayal isolates her from elite society. Embracing disregarded communities\, she embarks on a transformative journey\, challenging norms through a daring culinary venture that redefines her life. \n \nScreening May 1-7!\nGet tickets HERE.
URL:https://northparktheatre.org/shows/mistura-2/2027-04-14/
CATEGORIES:Mistura
ATTACH;FMTTYPE=image/jpeg:https://northparktheatre.org/wp-content/uploads/poster-mistura.jpg
END:VEVENT
BEGIN:VEVENT
DTSTART;TZID=America/New_York:20270415T163000
DTEND;TZID=America/New_York:20270415T183000
DTSTAMP:20260424T051604
CREATED:20260423T120611Z
LAST-MODIFIED:20260423T120611Z
UID:10014943-1807806600-1807813800@northparktheatre.org
SUMMARY:"Mistura"
DESCRIPTION:A woman’s life unravels after her husband’s betrayal isolates her from elite society. Embracing disregarded communities\, she embarks on a transformative journey\, challenging norms through a daring culinary venture that redefines her life. \n \nScreening May 1-7!\nGet tickets HERE.
URL:https://northparktheatre.org/shows/mistura-2/2027-04-15/
CATEGORIES:Mistura
ATTACH;FMTTYPE=image/jpeg:https://northparktheatre.org/wp-content/uploads/poster-mistura.jpg
END:VEVENT
BEGIN:VEVENT
DTSTART;TZID=America/New_York:20270416T163000
DTEND;TZID=America/New_York:20270416T183000
DTSTAMP:20260424T051604
CREATED:20260423T120611Z
LAST-MODIFIED:20260423T120611Z
UID:10014944-1807893000-1807900200@northparktheatre.org
SUMMARY:"Mistura"
DESCRIPTION:A woman’s life unravels after her husband’s betrayal isolates her from elite society. Embracing disregarded communities\, she embarks on a transformative journey\, challenging norms through a daring culinary venture that redefines her life. \n \nScreening May 1-7!\nGet tickets HERE.
URL:https://northparktheatre.org/shows/mistura-2/2027-04-16/
CATEGORIES:Mistura
ATTACH;FMTTYPE=image/jpeg:https://northparktheatre.org/wp-content/uploads/poster-mistura.jpg
END:VEVENT
BEGIN:VEVENT
DTSTART;TZID=America/New_York:20270417T163000
DTEND;TZID=America/New_York:20270417T183000
DTSTAMP:20260424T051604
CREATED:20260423T120611Z
LAST-MODIFIED:20260423T120611Z
UID:10014945-1807979400-1807986600@northparktheatre.org
SUMMARY:"Mistura"
DESCRIPTION:A woman’s life unravels after her husband’s betrayal isolates her from elite society. Embracing disregarded communities\, she embarks on a transformative journey\, challenging norms through a daring culinary venture that redefines her life. \n \nScreening May 1-7!\nGet tickets HERE.
URL:https://northparktheatre.org/shows/mistura-2/2027-04-17/
CATEGORIES:Mistura
ATTACH;FMTTYPE=image/jpeg:https://northparktheatre.org/wp-content/uploads/poster-mistura.jpg
END:VEVENT
BEGIN:VEVENT
DTSTART;TZID=America/New_York:20270418T163000
DTEND;TZID=America/New_York:20270418T183000
DTSTAMP:20260424T051604
CREATED:20260423T120611Z
LAST-MODIFIED:20260423T120611Z
UID:10014946-1808065800-1808073000@northparktheatre.org
SUMMARY:"Mistura"
DESCRIPTION:A woman’s life unravels after her husband’s betrayal isolates her from elite society. Embracing disregarded communities\, she embarks on a transformative journey\, challenging norms through a daring culinary venture that redefines her life. \n \nScreening May 1-7!\nGet tickets HERE.
URL:https://northparktheatre.org/shows/mistura-2/2027-04-18/
CATEGORIES:Mistura
ATTACH;FMTTYPE=image/jpeg:https://northparktheatre.org/wp-content/uploads/poster-mistura.jpg
END:VEVENT
BEGIN:VEVENT
DTSTART;TZID=America/New_York:20270419T163000
DTEND;TZID=America/New_York:20270419T183000
DTSTAMP:20260424T051604
CREATED:20260423T120611Z
LAST-MODIFIED:20260423T120611Z
UID:10014947-1808152200-1808159400@northparktheatre.org
SUMMARY:"Mistura"
DESCRIPTION:A woman’s life unravels after her husband’s betrayal isolates her from elite society. Embracing disregarded communities\, she embarks on a transformative journey\, challenging norms through a daring culinary venture that redefines her life. \n \nScreening May 1-7!\nGet tickets HERE.
URL:https://northparktheatre.org/shows/mistura-2/2027-04-19/
CATEGORIES:Mistura
ATTACH;FMTTYPE=image/jpeg:https://northparktheatre.org/wp-content/uploads/poster-mistura.jpg
END:VEVENT
BEGIN:VEVENT
DTSTART;TZID=America/New_York:20270420T163000
DTEND;TZID=America/New_York:20270420T183000
DTSTAMP:20260424T051604
CREATED:20260423T120611Z
LAST-MODIFIED:20260423T120611Z
UID:10014948-1808238600-1808245800@northparktheatre.org
SUMMARY:"Mistura"
DESCRIPTION:A woman’s life unravels after her husband’s betrayal isolates her from elite society. Embracing disregarded communities\, she embarks on a transformative journey\, challenging norms through a daring culinary venture that redefines her life. \n \nScreening May 1-7!\nGet tickets HERE.
URL:https://northparktheatre.org/shows/mistura-2/2027-04-20/
CATEGORIES:Mistura
ATTACH;FMTTYPE=image/jpeg:https://northparktheatre.org/wp-content/uploads/poster-mistura.jpg
END:VEVENT
BEGIN:VEVENT
DTSTART;TZID=America/New_York:20270421T163000
DTEND;TZID=America/New_York:20270421T183000
DTSTAMP:20260424T051604
CREATED:20260423T120611Z
LAST-MODIFIED:20260423T120611Z
UID:10014949-1808325000-1808332200@northparktheatre.org
SUMMARY:"Mistura"
DESCRIPTION:A woman’s life unravels after her husband’s betrayal isolates her from elite society. Embracing disregarded communities\, she embarks on a transformative journey\, challenging norms through a daring culinary venture that redefines her life. \n \nScreening May 1-7!\nGet tickets HERE.
URL:https://northparktheatre.org/shows/mistura-2/2027-04-21/
CATEGORIES:Mistura
ATTACH;FMTTYPE=image/jpeg:https://northparktheatre.org/wp-content/uploads/poster-mistura.jpg
END:VEVENT
BEGIN:VEVENT
DTSTART;TZID=America/New_York:20270422T163000
DTEND;TZID=America/New_York:20270422T183000
DTSTAMP:20260424T051604
CREATED:20260423T120611Z
LAST-MODIFIED:20260423T120611Z
UID:10014950-1808411400-1808418600@northparktheatre.org
SUMMARY:"Mistura"
DESCRIPTION:A woman’s life unravels after her husband’s betrayal isolates her from elite society. Embracing disregarded communities\, she embarks on a transformative journey\, challenging norms through a daring culinary venture that redefines her life. \n \nScreening May 1-7!\nGet tickets HERE.
URL:https://northparktheatre.org/shows/mistura-2/2027-04-22/
CATEGORIES:Mistura
ATTACH;FMTTYPE=image/jpeg:https://northparktheatre.org/wp-content/uploads/poster-mistura.jpg
END:VEVENT
BEGIN:VEVENT
DTSTART;TZID=America/New_York:20270423T163000
DTEND;TZID=America/New_York:20270423T183000
DTSTAMP:20260424T051604
CREATED:20260423T120611Z
LAST-MODIFIED:20260423T120611Z
UID:10014951-1808497800-1808505000@northparktheatre.org
SUMMARY:"Mistura"
DESCRIPTION:A woman’s life unravels after her husband’s betrayal isolates her from elite society. Embracing disregarded communities\, she embarks on a transformative journey\, challenging norms through a daring culinary venture that redefines her life. \n \nScreening May 1-7!\nGet tickets HERE.
URL:https://northparktheatre.org/shows/mistura-2/2027-04-23/
CATEGORIES:Mistura
ATTACH;FMTTYPE=image/jpeg:https://northparktheatre.org/wp-content/uploads/poster-mistura.jpg
END:VEVENT
BEGIN:VEVENT
DTSTART;TZID=America/New_York:20270424T163000
DTEND;TZID=America/New_York:20270424T183000
DTSTAMP:20260424T051604
CREATED:20260423T120611Z
LAST-MODIFIED:20260423T120611Z
UID:10014952-1808584200-1808591400@northparktheatre.org
SUMMARY:"Mistura"
DESCRIPTION:A woman’s life unravels after her husband’s betrayal isolates her from elite society. Embracing disregarded communities\, she embarks on a transformative journey\, challenging norms through a daring culinary venture that redefines her life. \n \nScreening May 1-7!\nGet tickets HERE.
URL:https://northparktheatre.org/shows/mistura-2/2027-04-24/
CATEGORIES:Mistura
ATTACH;FMTTYPE=image/jpeg:https://northparktheatre.org/wp-content/uploads/poster-mistura.jpg
END:VEVENT
BEGIN:VEVENT
DTSTART;TZID=America/New_York:20270425T163000
DTEND;TZID=America/New_York:20270425T183000
DTSTAMP:20260424T051604
CREATED:20260423T120611Z
LAST-MODIFIED:20260423T120611Z
UID:10014953-1808670600-1808677800@northparktheatre.org
SUMMARY:"Mistura"
DESCRIPTION:A woman’s life unravels after her husband’s betrayal isolates her from elite society. Embracing disregarded communities\, she embarks on a transformative journey\, challenging norms through a daring culinary venture that redefines her life. \n \nScreening May 1-7!\nGet tickets HERE.
URL:https://northparktheatre.org/shows/mistura-2/2027-04-25/
CATEGORIES:Mistura
ATTACH;FMTTYPE=image/jpeg:https://northparktheatre.org/wp-content/uploads/poster-mistura.jpg
END:VEVENT
BEGIN:VEVENT
DTSTART;TZID=America/New_York:20270426T163000
DTEND;TZID=America/New_York:20270426T183000
DTSTAMP:20260424T051604
CREATED:20260423T120611Z
LAST-MODIFIED:20260423T120611Z
UID:10014954-1808757000-1808764200@northparktheatre.org
SUMMARY:"Mistura"
DESCRIPTION:A woman’s life unravels after her husband’s betrayal isolates her from elite society. Embracing disregarded communities\, she embarks on a transformative journey\, challenging norms through a daring culinary venture that redefines her life. \n \nScreening May 1-7!\nGet tickets HERE.
URL:https://northparktheatre.org/shows/mistura-2/2027-04-26/
CATEGORIES:Mistura
ATTACH;FMTTYPE=image/jpeg:https://northparktheatre.org/wp-content/uploads/poster-mistura.jpg
END:VEVENT
BEGIN:VEVENT
DTSTART;TZID=America/New_York:20270427T163000
DTEND;TZID=America/New_York:20270427T183000
DTSTAMP:20260424T051604
CREATED:20260423T120611Z
LAST-MODIFIED:20260423T120611Z
UID:10014955-1808843400-1808850600@northparktheatre.org
SUMMARY:"Mistura"
DESCRIPTION:A woman’s life unravels after her husband’s betrayal isolates her from elite society. Embracing disregarded communities\, she embarks on a transformative journey\, challenging norms through a daring culinary venture that redefines her life. \n \nScreening May 1-7!\nGet tickets HERE.
URL:https://northparktheatre.org/shows/mistura-2/2027-04-27/
CATEGORIES:Mistura
ATTACH;FMTTYPE=image/jpeg:https://northparktheatre.org/wp-content/uploads/poster-mistura.jpg
END:VEVENT
BEGIN:VEVENT
DTSTART;TZID=America/New_York:20270428T163000
DTEND;TZID=America/New_York:20270428T183000
DTSTAMP:20260424T051604
CREATED:20260423T120611Z
LAST-MODIFIED:20260423T120611Z
UID:10014956-1808929800-1808937000@northparktheatre.org
SUMMARY:"Mistura"
DESCRIPTION:A woman’s life unravels after her husband’s betrayal isolates her from elite society. Embracing disregarded communities\, she embarks on a transformative journey\, challenging norms through a daring culinary venture that redefines her life. \n \nScreening May 1-7!\nGet tickets HERE.
URL:https://northparktheatre.org/shows/mistura-2/2027-04-28/
CATEGORIES:Mistura
ATTACH;FMTTYPE=image/jpeg:https://northparktheatre.org/wp-content/uploads/poster-mistura.jpg
END:VEVENT
BEGIN:VEVENT
DTSTART;TZID=America/New_York:20270429T163000
DTEND;TZID=America/New_York:20270429T183000
DTSTAMP:20260424T051604
CREATED:20260423T120611Z
LAST-MODIFIED:20260423T120611Z
UID:10014957-1809016200-1809023400@northparktheatre.org
SUMMARY:"Mistura"
DESCRIPTION:A woman’s life unravels after her husband’s betrayal isolates her from elite society. Embracing disregarded communities\, she embarks on a transformative journey\, challenging norms through a daring culinary venture that redefines her life. \n \nScreening May 1-7!\nGet tickets HERE.
URL:https://northparktheatre.org/shows/mistura-2/2027-04-29/
CATEGORIES:Mistura
ATTACH;FMTTYPE=image/jpeg:https://northparktheatre.org/wp-content/uploads/poster-mistura.jpg
END:VEVENT
BEGIN:VEVENT
DTSTART;TZID=America/New_York:20270430T163000
DTEND;TZID=America/New_York:20270430T183000
DTSTAMP:20260424T051604
CREATED:20260423T120611Z
LAST-MODIFIED:20260423T120611Z
UID:10014958-1809102600-1809109800@northparktheatre.org
SUMMARY:"Mistura"
DESCRIPTION:A woman’s life unravels after her husband’s betrayal isolates her from elite society. Embracing disregarded communities\, she embarks on a transformative journey\, challenging norms through a daring culinary venture that redefines her life. \n \nScreening May 1-7!\nGet tickets HERE.
URL:https://northparktheatre.org/shows/mistura-2/2027-04-30/
CATEGORIES:Mistura
ATTACH;FMTTYPE=image/jpeg:https://northparktheatre.org/wp-content/uploads/poster-mistura.jpg
END:VEVENT
END:VCALENDAR