BEGIN:VCALENDAR
VERSION:2.0
PRODID:-//North Park Theatre - ECPv6.15.20//NONSGML v1.0//EN
CALSCALE:GREGORIAN
METHOD:PUBLISH
X-ORIGINAL-URL:https://northparktheatre.org
X-WR-CALDESC:Events for North Park Theatre
REFRESH-INTERVAL;VALUE=DURATION:PT1H
X-Robots-Tag:noindex
X-PUBLISHED-TTL:PT1H
BEGIN:VTIMEZONE
TZID:America/New_York
BEGIN:DAYLIGHT
TZOFFSETFROM:-0500
TZOFFSETTO:-0400
TZNAME:EDT
DTSTART:20260308T070000
END:DAYLIGHT
BEGIN:STANDARD
TZOFFSETFROM:-0400
TZOFFSETTO:-0500
TZNAME:EST
DTSTART:20261101T060000
END:STANDARD
BEGIN:DAYLIGHT
TZOFFSETFROM:-0500
TZOFFSETTO:-0400
TZNAME:EDT
DTSTART:20270314T070000
END:DAYLIGHT
BEGIN:STANDARD
TZOFFSETFROM:-0400
TZOFFSETTO:-0500
TZNAME:EST
DTSTART:20271107T060000
END:STANDARD
BEGIN:DAYLIGHT
TZOFFSETFROM:-0500
TZOFFSETTO:-0400
TZNAME:EDT
DTSTART:20280312T070000
END:DAYLIGHT
BEGIN:STANDARD
TZOFFSETFROM:-0400
TZOFFSETTO:-0500
TZNAME:EST
DTSTART:20281105T060000
END:STANDARD
END:VTIMEZONE
BEGIN:VEVENT
DTSTART;TZID=America/New_York:20270201T163000
DTEND;TZID=America/New_York:20270201T183000
DTSTAMP:20260424T022407
CREATED:20260423T120611Z
LAST-MODIFIED:20260423T120611Z
UID:10014870-1801499400-1801506600@northparktheatre.org
SUMMARY:"Mistura"
DESCRIPTION:A woman’s life unravels after her husband’s betrayal isolates her from elite society. Embracing disregarded communities\, she embarks on a transformative journey\, challenging norms through a daring culinary venture that redefines her life. \n \nScreening May 1-7!\nGet tickets HERE.
URL:https://northparktheatre.org/shows/mistura-2/2027-02-01/
CATEGORIES:Mistura
ATTACH;FMTTYPE=image/jpeg:https://northparktheatre.org/wp-content/uploads/poster-mistura.jpg
END:VEVENT
BEGIN:VEVENT
DTSTART;TZID=America/New_York:20270202T163000
DTEND;TZID=America/New_York:20270202T183000
DTSTAMP:20260424T022407
CREATED:20260423T120611Z
LAST-MODIFIED:20260423T120611Z
UID:10014871-1801585800-1801593000@northparktheatre.org
SUMMARY:"Mistura"
DESCRIPTION:A woman’s life unravels after her husband’s betrayal isolates her from elite society. Embracing disregarded communities\, she embarks on a transformative journey\, challenging norms through a daring culinary venture that redefines her life. \n \nScreening May 1-7!\nGet tickets HERE.
URL:https://northparktheatre.org/shows/mistura-2/2027-02-02/
CATEGORIES:Mistura
ATTACH;FMTTYPE=image/jpeg:https://northparktheatre.org/wp-content/uploads/poster-mistura.jpg
END:VEVENT
BEGIN:VEVENT
DTSTART;TZID=America/New_York:20270203T163000
DTEND;TZID=America/New_York:20270203T183000
DTSTAMP:20260424T022407
CREATED:20260423T120611Z
LAST-MODIFIED:20260423T120611Z
UID:10014872-1801672200-1801679400@northparktheatre.org
SUMMARY:"Mistura"
DESCRIPTION:A woman’s life unravels after her husband’s betrayal isolates her from elite society. Embracing disregarded communities\, she embarks on a transformative journey\, challenging norms through a daring culinary venture that redefines her life. \n \nScreening May 1-7!\nGet tickets HERE.
URL:https://northparktheatre.org/shows/mistura-2/2027-02-03/
CATEGORIES:Mistura
ATTACH;FMTTYPE=image/jpeg:https://northparktheatre.org/wp-content/uploads/poster-mistura.jpg
END:VEVENT
BEGIN:VEVENT
DTSTART;TZID=America/New_York:20270204T163000
DTEND;TZID=America/New_York:20270204T183000
DTSTAMP:20260424T022407
CREATED:20260423T120611Z
LAST-MODIFIED:20260423T120611Z
UID:10014873-1801758600-1801765800@northparktheatre.org
SUMMARY:"Mistura"
DESCRIPTION:A woman’s life unravels after her husband’s betrayal isolates her from elite society. Embracing disregarded communities\, she embarks on a transformative journey\, challenging norms through a daring culinary venture that redefines her life. \n \nScreening May 1-7!\nGet tickets HERE.
URL:https://northparktheatre.org/shows/mistura-2/2027-02-04/
CATEGORIES:Mistura
ATTACH;FMTTYPE=image/jpeg:https://northparktheatre.org/wp-content/uploads/poster-mistura.jpg
END:VEVENT
BEGIN:VEVENT
DTSTART;TZID=America/New_York:20270205T163000
DTEND;TZID=America/New_York:20270205T183000
DTSTAMP:20260424T022407
CREATED:20260423T120611Z
LAST-MODIFIED:20260423T120611Z
UID:10014874-1801845000-1801852200@northparktheatre.org
SUMMARY:"Mistura"
DESCRIPTION:A woman’s life unravels after her husband’s betrayal isolates her from elite society. Embracing disregarded communities\, she embarks on a transformative journey\, challenging norms through a daring culinary venture that redefines her life. \n \nScreening May 1-7!\nGet tickets HERE.
URL:https://northparktheatre.org/shows/mistura-2/2027-02-05/
CATEGORIES:Mistura
ATTACH;FMTTYPE=image/jpeg:https://northparktheatre.org/wp-content/uploads/poster-mistura.jpg
END:VEVENT
BEGIN:VEVENT
DTSTART;TZID=America/New_York:20270206T163000
DTEND;TZID=America/New_York:20270206T183000
DTSTAMP:20260424T022407
CREATED:20260423T120611Z
LAST-MODIFIED:20260423T120611Z
UID:10014875-1801931400-1801938600@northparktheatre.org
SUMMARY:"Mistura"
DESCRIPTION:A woman’s life unravels after her husband’s betrayal isolates her from elite society. Embracing disregarded communities\, she embarks on a transformative journey\, challenging norms through a daring culinary venture that redefines her life. \n \nScreening May 1-7!\nGet tickets HERE.
URL:https://northparktheatre.org/shows/mistura-2/2027-02-06/
CATEGORIES:Mistura
ATTACH;FMTTYPE=image/jpeg:https://northparktheatre.org/wp-content/uploads/poster-mistura.jpg
END:VEVENT
BEGIN:VEVENT
DTSTART;TZID=America/New_York:20270207T163000
DTEND;TZID=America/New_York:20270207T183000
DTSTAMP:20260424T022407
CREATED:20260423T120611Z
LAST-MODIFIED:20260423T120611Z
UID:10014876-1802017800-1802025000@northparktheatre.org
SUMMARY:"Mistura"
DESCRIPTION:A woman’s life unravels after her husband’s betrayal isolates her from elite society. Embracing disregarded communities\, she embarks on a transformative journey\, challenging norms through a daring culinary venture that redefines her life. \n \nScreening May 1-7!\nGet tickets HERE.
URL:https://northparktheatre.org/shows/mistura-2/2027-02-07/
CATEGORIES:Mistura
ATTACH;FMTTYPE=image/jpeg:https://northparktheatre.org/wp-content/uploads/poster-mistura.jpg
END:VEVENT
BEGIN:VEVENT
DTSTART;TZID=America/New_York:20270208T163000
DTEND;TZID=America/New_York:20270208T183000
DTSTAMP:20260424T022407
CREATED:20260423T120611Z
LAST-MODIFIED:20260423T120611Z
UID:10014877-1802104200-1802111400@northparktheatre.org
SUMMARY:"Mistura"
DESCRIPTION:A woman’s life unravels after her husband’s betrayal isolates her from elite society. Embracing disregarded communities\, she embarks on a transformative journey\, challenging norms through a daring culinary venture that redefines her life. \n \nScreening May 1-7!\nGet tickets HERE.
URL:https://northparktheatre.org/shows/mistura-2/2027-02-08/
CATEGORIES:Mistura
ATTACH;FMTTYPE=image/jpeg:https://northparktheatre.org/wp-content/uploads/poster-mistura.jpg
END:VEVENT
BEGIN:VEVENT
DTSTART;TZID=America/New_York:20270209T163000
DTEND;TZID=America/New_York:20270209T183000
DTSTAMP:20260424T022407
CREATED:20260423T120611Z
LAST-MODIFIED:20260423T120611Z
UID:10014878-1802190600-1802197800@northparktheatre.org
SUMMARY:"Mistura"
DESCRIPTION:A woman’s life unravels after her husband’s betrayal isolates her from elite society. Embracing disregarded communities\, she embarks on a transformative journey\, challenging norms through a daring culinary venture that redefines her life. \n \nScreening May 1-7!\nGet tickets HERE.
URL:https://northparktheatre.org/shows/mistura-2/2027-02-09/
CATEGORIES:Mistura
ATTACH;FMTTYPE=image/jpeg:https://northparktheatre.org/wp-content/uploads/poster-mistura.jpg
END:VEVENT
BEGIN:VEVENT
DTSTART;TZID=America/New_York:20270210T163000
DTEND;TZID=America/New_York:20270210T183000
DTSTAMP:20260424T022407
CREATED:20260423T120611Z
LAST-MODIFIED:20260423T120611Z
UID:10014879-1802277000-1802284200@northparktheatre.org
SUMMARY:"Mistura"
DESCRIPTION:A woman’s life unravels after her husband’s betrayal isolates her from elite society. Embracing disregarded communities\, she embarks on a transformative journey\, challenging norms through a daring culinary venture that redefines her life. \n \nScreening May 1-7!\nGet tickets HERE.
URL:https://northparktheatre.org/shows/mistura-2/2027-02-10/
CATEGORIES:Mistura
ATTACH;FMTTYPE=image/jpeg:https://northparktheatre.org/wp-content/uploads/poster-mistura.jpg
END:VEVENT
BEGIN:VEVENT
DTSTART;TZID=America/New_York:20270211T163000
DTEND;TZID=America/New_York:20270211T183000
DTSTAMP:20260424T022407
CREATED:20260423T120611Z
LAST-MODIFIED:20260423T120611Z
UID:10014880-1802363400-1802370600@northparktheatre.org
SUMMARY:"Mistura"
DESCRIPTION:A woman’s life unravels after her husband’s betrayal isolates her from elite society. Embracing disregarded communities\, she embarks on a transformative journey\, challenging norms through a daring culinary venture that redefines her life. \n \nScreening May 1-7!\nGet tickets HERE.
URL:https://northparktheatre.org/shows/mistura-2/2027-02-11/
CATEGORIES:Mistura
ATTACH;FMTTYPE=image/jpeg:https://northparktheatre.org/wp-content/uploads/poster-mistura.jpg
END:VEVENT
BEGIN:VEVENT
DTSTART;TZID=America/New_York:20270212T163000
DTEND;TZID=America/New_York:20270212T183000
DTSTAMP:20260424T022407
CREATED:20260423T120611Z
LAST-MODIFIED:20260423T120611Z
UID:10014881-1802449800-1802457000@northparktheatre.org
SUMMARY:"Mistura"
DESCRIPTION:A woman’s life unravels after her husband’s betrayal isolates her from elite society. Embracing disregarded communities\, she embarks on a transformative journey\, challenging norms through a daring culinary venture that redefines her life. \n \nScreening May 1-7!\nGet tickets HERE.
URL:https://northparktheatre.org/shows/mistura-2/2027-02-12/
CATEGORIES:Mistura
ATTACH;FMTTYPE=image/jpeg:https://northparktheatre.org/wp-content/uploads/poster-mistura.jpg
END:VEVENT
BEGIN:VEVENT
DTSTART;TZID=America/New_York:20270213T163000
DTEND;TZID=America/New_York:20270213T183000
DTSTAMP:20260424T022407
CREATED:20260423T120611Z
LAST-MODIFIED:20260423T120611Z
UID:10014882-1802536200-1802543400@northparktheatre.org
SUMMARY:"Mistura"
DESCRIPTION:A woman’s life unravels after her husband’s betrayal isolates her from elite society. Embracing disregarded communities\, she embarks on a transformative journey\, challenging norms through a daring culinary venture that redefines her life. \n \nScreening May 1-7!\nGet tickets HERE.
URL:https://northparktheatre.org/shows/mistura-2/2027-02-13/
CATEGORIES:Mistura
ATTACH;FMTTYPE=image/jpeg:https://northparktheatre.org/wp-content/uploads/poster-mistura.jpg
END:VEVENT
BEGIN:VEVENT
DTSTART;TZID=America/New_York:20270214T163000
DTEND;TZID=America/New_York:20270214T183000
DTSTAMP:20260424T022407
CREATED:20260423T120611Z
LAST-MODIFIED:20260423T120611Z
UID:10014883-1802622600-1802629800@northparktheatre.org
SUMMARY:"Mistura"
DESCRIPTION:A woman’s life unravels after her husband’s betrayal isolates her from elite society. Embracing disregarded communities\, she embarks on a transformative journey\, challenging norms through a daring culinary venture that redefines her life. \n \nScreening May 1-7!\nGet tickets HERE.
URL:https://northparktheatre.org/shows/mistura-2/2027-02-14/
CATEGORIES:Mistura
ATTACH;FMTTYPE=image/jpeg:https://northparktheatre.org/wp-content/uploads/poster-mistura.jpg
END:VEVENT
BEGIN:VEVENT
DTSTART;TZID=America/New_York:20270215T163000
DTEND;TZID=America/New_York:20270215T183000
DTSTAMP:20260424T022407
CREATED:20260423T120611Z
LAST-MODIFIED:20260423T120611Z
UID:10014884-1802709000-1802716200@northparktheatre.org
SUMMARY:"Mistura"
DESCRIPTION:A woman’s life unravels after her husband’s betrayal isolates her from elite society. Embracing disregarded communities\, she embarks on a transformative journey\, challenging norms through a daring culinary venture that redefines her life. \n \nScreening May 1-7!\nGet tickets HERE.
URL:https://northparktheatre.org/shows/mistura-2/2027-02-15/
CATEGORIES:Mistura
ATTACH;FMTTYPE=image/jpeg:https://northparktheatre.org/wp-content/uploads/poster-mistura.jpg
END:VEVENT
BEGIN:VEVENT
DTSTART;TZID=America/New_York:20270216T163000
DTEND;TZID=America/New_York:20270216T183000
DTSTAMP:20260424T022407
CREATED:20260423T120611Z
LAST-MODIFIED:20260423T120611Z
UID:10014885-1802795400-1802802600@northparktheatre.org
SUMMARY:"Mistura"
DESCRIPTION:A woman’s life unravels after her husband’s betrayal isolates her from elite society. Embracing disregarded communities\, she embarks on a transformative journey\, challenging norms through a daring culinary venture that redefines her life. \n \nScreening May 1-7!\nGet tickets HERE.
URL:https://northparktheatre.org/shows/mistura-2/2027-02-16/
CATEGORIES:Mistura
ATTACH;FMTTYPE=image/jpeg:https://northparktheatre.org/wp-content/uploads/poster-mistura.jpg
END:VEVENT
BEGIN:VEVENT
DTSTART;TZID=America/New_York:20270217T163000
DTEND;TZID=America/New_York:20270217T183000
DTSTAMP:20260424T022407
CREATED:20260423T120611Z
LAST-MODIFIED:20260423T120611Z
UID:10014886-1802881800-1802889000@northparktheatre.org
SUMMARY:"Mistura"
DESCRIPTION:A woman’s life unravels after her husband’s betrayal isolates her from elite society. Embracing disregarded communities\, she embarks on a transformative journey\, challenging norms through a daring culinary venture that redefines her life. \n \nScreening May 1-7!\nGet tickets HERE.
URL:https://northparktheatre.org/shows/mistura-2/2027-02-17/
CATEGORIES:Mistura
ATTACH;FMTTYPE=image/jpeg:https://northparktheatre.org/wp-content/uploads/poster-mistura.jpg
END:VEVENT
BEGIN:VEVENT
DTSTART;TZID=America/New_York:20270218T163000
DTEND;TZID=America/New_York:20270218T183000
DTSTAMP:20260424T022407
CREATED:20260423T120611Z
LAST-MODIFIED:20260423T120611Z
UID:10014887-1802968200-1802975400@northparktheatre.org
SUMMARY:"Mistura"
DESCRIPTION:A woman’s life unravels after her husband’s betrayal isolates her from elite society. Embracing disregarded communities\, she embarks on a transformative journey\, challenging norms through a daring culinary venture that redefines her life. \n \nScreening May 1-7!\nGet tickets HERE.
URL:https://northparktheatre.org/shows/mistura-2/2027-02-18/
CATEGORIES:Mistura
ATTACH;FMTTYPE=image/jpeg:https://northparktheatre.org/wp-content/uploads/poster-mistura.jpg
END:VEVENT
BEGIN:VEVENT
DTSTART;TZID=America/New_York:20270219T163000
DTEND;TZID=America/New_York:20270219T183000
DTSTAMP:20260424T022407
CREATED:20260423T120611Z
LAST-MODIFIED:20260423T120611Z
UID:10014888-1803054600-1803061800@northparktheatre.org
SUMMARY:"Mistura"
DESCRIPTION:A woman’s life unravels after her husband’s betrayal isolates her from elite society. Embracing disregarded communities\, she embarks on a transformative journey\, challenging norms through a daring culinary venture that redefines her life. \n \nScreening May 1-7!\nGet tickets HERE.
URL:https://northparktheatre.org/shows/mistura-2/2027-02-19/
CATEGORIES:Mistura
ATTACH;FMTTYPE=image/jpeg:https://northparktheatre.org/wp-content/uploads/poster-mistura.jpg
END:VEVENT
BEGIN:VEVENT
DTSTART;TZID=America/New_York:20270220T163000
DTEND;TZID=America/New_York:20270220T183000
DTSTAMP:20260424T022407
CREATED:20260423T120611Z
LAST-MODIFIED:20260423T120611Z
UID:10014889-1803141000-1803148200@northparktheatre.org
SUMMARY:"Mistura"
DESCRIPTION:A woman’s life unravels after her husband’s betrayal isolates her from elite society. Embracing disregarded communities\, she embarks on a transformative journey\, challenging norms through a daring culinary venture that redefines her life. \n \nScreening May 1-7!\nGet tickets HERE.
URL:https://northparktheatre.org/shows/mistura-2/2027-02-20/
CATEGORIES:Mistura
ATTACH;FMTTYPE=image/jpeg:https://northparktheatre.org/wp-content/uploads/poster-mistura.jpg
END:VEVENT
BEGIN:VEVENT
DTSTART;TZID=America/New_York:20270221T163000
DTEND;TZID=America/New_York:20270221T183000
DTSTAMP:20260424T022407
CREATED:20260423T120611Z
LAST-MODIFIED:20260423T120611Z
UID:10014890-1803227400-1803234600@northparktheatre.org
SUMMARY:"Mistura"
DESCRIPTION:A woman’s life unravels after her husband’s betrayal isolates her from elite society. Embracing disregarded communities\, she embarks on a transformative journey\, challenging norms through a daring culinary venture that redefines her life. \n \nScreening May 1-7!\nGet tickets HERE.
URL:https://northparktheatre.org/shows/mistura-2/2027-02-21/
CATEGORIES:Mistura
ATTACH;FMTTYPE=image/jpeg:https://northparktheatre.org/wp-content/uploads/poster-mistura.jpg
END:VEVENT
BEGIN:VEVENT
DTSTART;TZID=America/New_York:20270222T163000
DTEND;TZID=America/New_York:20270222T183000
DTSTAMP:20260424T022407
CREATED:20260423T120611Z
LAST-MODIFIED:20260423T120611Z
UID:10014891-1803313800-1803321000@northparktheatre.org
SUMMARY:"Mistura"
DESCRIPTION:A woman’s life unravels after her husband’s betrayal isolates her from elite society. Embracing disregarded communities\, she embarks on a transformative journey\, challenging norms through a daring culinary venture that redefines her life. \n \nScreening May 1-7!\nGet tickets HERE.
URL:https://northparktheatre.org/shows/mistura-2/2027-02-22/
CATEGORIES:Mistura
ATTACH;FMTTYPE=image/jpeg:https://northparktheatre.org/wp-content/uploads/poster-mistura.jpg
END:VEVENT
BEGIN:VEVENT
DTSTART;TZID=America/New_York:20270223T163000
DTEND;TZID=America/New_York:20270223T183000
DTSTAMP:20260424T022407
CREATED:20260423T120611Z
LAST-MODIFIED:20260423T120611Z
UID:10014892-1803400200-1803407400@northparktheatre.org
SUMMARY:"Mistura"
DESCRIPTION:A woman’s life unravels after her husband’s betrayal isolates her from elite society. Embracing disregarded communities\, she embarks on a transformative journey\, challenging norms through a daring culinary venture that redefines her life. \n \nScreening May 1-7!\nGet tickets HERE.
URL:https://northparktheatre.org/shows/mistura-2/2027-02-23/
CATEGORIES:Mistura
ATTACH;FMTTYPE=image/jpeg:https://northparktheatre.org/wp-content/uploads/poster-mistura.jpg
END:VEVENT
BEGIN:VEVENT
DTSTART;TZID=America/New_York:20270224T163000
DTEND;TZID=America/New_York:20270224T183000
DTSTAMP:20260424T022407
CREATED:20260423T120611Z
LAST-MODIFIED:20260423T120611Z
UID:10014893-1803486600-1803493800@northparktheatre.org
SUMMARY:"Mistura"
DESCRIPTION:A woman’s life unravels after her husband’s betrayal isolates her from elite society. Embracing disregarded communities\, she embarks on a transformative journey\, challenging norms through a daring culinary venture that redefines her life. \n \nScreening May 1-7!\nGet tickets HERE.
URL:https://northparktheatre.org/shows/mistura-2/2027-02-24/
CATEGORIES:Mistura
ATTACH;FMTTYPE=image/jpeg:https://northparktheatre.org/wp-content/uploads/poster-mistura.jpg
END:VEVENT
BEGIN:VEVENT
DTSTART;TZID=America/New_York:20270225T163000
DTEND;TZID=America/New_York:20270225T183000
DTSTAMP:20260424T022407
CREATED:20260423T120611Z
LAST-MODIFIED:20260423T120611Z
UID:10014894-1803573000-1803580200@northparktheatre.org
SUMMARY:"Mistura"
DESCRIPTION:A woman’s life unravels after her husband’s betrayal isolates her from elite society. Embracing disregarded communities\, she embarks on a transformative journey\, challenging norms through a daring culinary venture that redefines her life. \n \nScreening May 1-7!\nGet tickets HERE.
URL:https://northparktheatre.org/shows/mistura-2/2027-02-25/
CATEGORIES:Mistura
ATTACH;FMTTYPE=image/jpeg:https://northparktheatre.org/wp-content/uploads/poster-mistura.jpg
END:VEVENT
BEGIN:VEVENT
DTSTART;TZID=America/New_York:20270226T163000
DTEND;TZID=America/New_York:20270226T183000
DTSTAMP:20260424T022407
CREATED:20260423T120611Z
LAST-MODIFIED:20260423T120611Z
UID:10014895-1803659400-1803666600@northparktheatre.org
SUMMARY:"Mistura"
DESCRIPTION:A woman’s life unravels after her husband’s betrayal isolates her from elite society. Embracing disregarded communities\, she embarks on a transformative journey\, challenging norms through a daring culinary venture that redefines her life. \n \nScreening May 1-7!\nGet tickets HERE.
URL:https://northparktheatre.org/shows/mistura-2/2027-02-26/
CATEGORIES:Mistura
ATTACH;FMTTYPE=image/jpeg:https://northparktheatre.org/wp-content/uploads/poster-mistura.jpg
END:VEVENT
BEGIN:VEVENT
DTSTART;TZID=America/New_York:20270227T163000
DTEND;TZID=America/New_York:20270227T183000
DTSTAMP:20260424T022407
CREATED:20260423T120611Z
LAST-MODIFIED:20260423T120611Z
UID:10014896-1803745800-1803753000@northparktheatre.org
SUMMARY:"Mistura"
DESCRIPTION:A woman’s life unravels after her husband’s betrayal isolates her from elite society. Embracing disregarded communities\, she embarks on a transformative journey\, challenging norms through a daring culinary venture that redefines her life. \n \nScreening May 1-7!\nGet tickets HERE.
URL:https://northparktheatre.org/shows/mistura-2/2027-02-27/
CATEGORIES:Mistura
ATTACH;FMTTYPE=image/jpeg:https://northparktheatre.org/wp-content/uploads/poster-mistura.jpg
END:VEVENT
BEGIN:VEVENT
DTSTART;TZID=America/New_York:20270228T163000
DTEND;TZID=America/New_York:20270228T183000
DTSTAMP:20260424T022407
CREATED:20260423T120611Z
LAST-MODIFIED:20260423T120611Z
UID:10014897-1803832200-1803839400@northparktheatre.org
SUMMARY:"Mistura"
DESCRIPTION:A woman’s life unravels after her husband’s betrayal isolates her from elite society. Embracing disregarded communities\, she embarks on a transformative journey\, challenging norms through a daring culinary venture that redefines her life. \n \nScreening May 1-7!\nGet tickets HERE.
URL:https://northparktheatre.org/shows/mistura-2/2027-02-28/
CATEGORIES:Mistura
ATTACH;FMTTYPE=image/jpeg:https://northparktheatre.org/wp-content/uploads/poster-mistura.jpg
END:VEVENT
END:VCALENDAR