BEGIN:VCALENDAR
VERSION:2.0
PRODID:-//North Park Theatre - ECPv6.15.20//NONSGML v1.0//EN
CALSCALE:GREGORIAN
METHOD:PUBLISH
X-WR-CALNAME:North Park Theatre
X-ORIGINAL-URL:https://northparktheatre.org
X-WR-CALDESC:Events for North Park Theatre
REFRESH-INTERVAL;VALUE=DURATION:PT1H
X-Robots-Tag:noindex
X-PUBLISHED-TTL:PT1H
BEGIN:VTIMEZONE
TZID:America/New_York
BEGIN:DAYLIGHT
TZOFFSETFROM:-0500
TZOFFSETTO:-0400
TZNAME:EDT
DTSTART:20250309T070000
END:DAYLIGHT
BEGIN:STANDARD
TZOFFSETFROM:-0400
TZOFFSETTO:-0500
TZNAME:EST
DTSTART:20251102T060000
END:STANDARD
BEGIN:DAYLIGHT
TZOFFSETFROM:-0500
TZOFFSETTO:-0400
TZNAME:EDT
DTSTART:20260308T070000
END:DAYLIGHT
BEGIN:STANDARD
TZOFFSETFROM:-0400
TZOFFSETTO:-0500
TZNAME:EST
DTSTART:20261101T060000
END:STANDARD
BEGIN:DAYLIGHT
TZOFFSETFROM:-0500
TZOFFSETTO:-0400
TZNAME:EDT
DTSTART:20270314T070000
END:DAYLIGHT
BEGIN:STANDARD
TZOFFSETFROM:-0400
TZOFFSETTO:-0500
TZNAME:EST
DTSTART:20271107T060000
END:STANDARD
END:VTIMEZONE
BEGIN:VEVENT
DTSTART;TZID=America/New_York:20261001T163000
DTEND;TZID=America/New_York:20261001T183000
DTSTAMP:20260423T204101
CREATED:20260423T120611Z
LAST-MODIFIED:20260423T120611Z
UID:10014747-1790872200-1790879400@northparktheatre.org
SUMMARY:"Mistura"
DESCRIPTION:A woman’s life unravels after her husband’s betrayal isolates her from elite society. Embracing disregarded communities\, she embarks on a transformative journey\, challenging norms through a daring culinary venture that redefines her life. \n \nScreening May 1-7!\nGet tickets HERE.
URL:https://northparktheatre.org/shows/mistura-2/2026-10-01/
CATEGORIES:Mistura
ATTACH;FMTTYPE=image/jpeg:https://northparktheatre.org/wp-content/uploads/poster-mistura.jpg
END:VEVENT
BEGIN:VEVENT
DTSTART;TZID=America/New_York:20261002T163000
DTEND;TZID=America/New_York:20261002T183000
DTSTAMP:20260423T204101
CREATED:20260423T120611Z
LAST-MODIFIED:20260423T120611Z
UID:10014748-1790958600-1790965800@northparktheatre.org
SUMMARY:"Mistura"
DESCRIPTION:A woman’s life unravels after her husband’s betrayal isolates her from elite society. Embracing disregarded communities\, she embarks on a transformative journey\, challenging norms through a daring culinary venture that redefines her life. \n \nScreening May 1-7!\nGet tickets HERE.
URL:https://northparktheatre.org/shows/mistura-2/2026-10-02/
CATEGORIES:Mistura
ATTACH;FMTTYPE=image/jpeg:https://northparktheatre.org/wp-content/uploads/poster-mistura.jpg
END:VEVENT
BEGIN:VEVENT
DTSTART;TZID=America/New_York:20261003T163000
DTEND;TZID=America/New_York:20261003T183000
DTSTAMP:20260423T204101
CREATED:20260423T120611Z
LAST-MODIFIED:20260423T120611Z
UID:10014749-1791045000-1791052200@northparktheatre.org
SUMMARY:"Mistura"
DESCRIPTION:A woman’s life unravels after her husband’s betrayal isolates her from elite society. Embracing disregarded communities\, she embarks on a transformative journey\, challenging norms through a daring culinary venture that redefines her life. \n \nScreening May 1-7!\nGet tickets HERE.
URL:https://northparktheatre.org/shows/mistura-2/2026-10-03/
CATEGORIES:Mistura
ATTACH;FMTTYPE=image/jpeg:https://northparktheatre.org/wp-content/uploads/poster-mistura.jpg
END:VEVENT
BEGIN:VEVENT
DTSTART;TZID=America/New_York:20261004T163000
DTEND;TZID=America/New_York:20261004T183000
DTSTAMP:20260423T204101
CREATED:20260423T120611Z
LAST-MODIFIED:20260423T120611Z
UID:10014750-1791131400-1791138600@northparktheatre.org
SUMMARY:"Mistura"
DESCRIPTION:A woman’s life unravels after her husband’s betrayal isolates her from elite society. Embracing disregarded communities\, she embarks on a transformative journey\, challenging norms through a daring culinary venture that redefines her life. \n \nScreening May 1-7!\nGet tickets HERE.
URL:https://northparktheatre.org/shows/mistura-2/2026-10-04/
CATEGORIES:Mistura
ATTACH;FMTTYPE=image/jpeg:https://northparktheatre.org/wp-content/uploads/poster-mistura.jpg
END:VEVENT
BEGIN:VEVENT
DTSTART;TZID=America/New_York:20261005T163000
DTEND;TZID=America/New_York:20261005T183000
DTSTAMP:20260423T204101
CREATED:20260423T120611Z
LAST-MODIFIED:20260423T120611Z
UID:10014751-1791217800-1791225000@northparktheatre.org
SUMMARY:"Mistura"
DESCRIPTION:A woman’s life unravels after her husband’s betrayal isolates her from elite society. Embracing disregarded communities\, she embarks on a transformative journey\, challenging norms through a daring culinary venture that redefines her life. \n \nScreening May 1-7!\nGet tickets HERE.
URL:https://northparktheatre.org/shows/mistura-2/2026-10-05/
CATEGORIES:Mistura
ATTACH;FMTTYPE=image/jpeg:https://northparktheatre.org/wp-content/uploads/poster-mistura.jpg
END:VEVENT
BEGIN:VEVENT
DTSTART;TZID=America/New_York:20261006T163000
DTEND;TZID=America/New_York:20261006T183000
DTSTAMP:20260423T204101
CREATED:20260423T120611Z
LAST-MODIFIED:20260423T120611Z
UID:10014752-1791304200-1791311400@northparktheatre.org
SUMMARY:"Mistura"
DESCRIPTION:A woman’s life unravels after her husband’s betrayal isolates her from elite society. Embracing disregarded communities\, she embarks on a transformative journey\, challenging norms through a daring culinary venture that redefines her life. \n \nScreening May 1-7!\nGet tickets HERE.
URL:https://northparktheatre.org/shows/mistura-2/2026-10-06/
CATEGORIES:Mistura
ATTACH;FMTTYPE=image/jpeg:https://northparktheatre.org/wp-content/uploads/poster-mistura.jpg
END:VEVENT
BEGIN:VEVENT
DTSTART;TZID=America/New_York:20261007T163000
DTEND;TZID=America/New_York:20261007T183000
DTSTAMP:20260423T204101
CREATED:20260423T120611Z
LAST-MODIFIED:20260423T120611Z
UID:10014753-1791390600-1791397800@northparktheatre.org
SUMMARY:"Mistura"
DESCRIPTION:A woman’s life unravels after her husband’s betrayal isolates her from elite society. Embracing disregarded communities\, she embarks on a transformative journey\, challenging norms through a daring culinary venture that redefines her life. \n \nScreening May 1-7!\nGet tickets HERE.
URL:https://northparktheatre.org/shows/mistura-2/2026-10-07/
CATEGORIES:Mistura
ATTACH;FMTTYPE=image/jpeg:https://northparktheatre.org/wp-content/uploads/poster-mistura.jpg
END:VEVENT
BEGIN:VEVENT
DTSTART;TZID=America/New_York:20261008T163000
DTEND;TZID=America/New_York:20261008T183000
DTSTAMP:20260423T204101
CREATED:20260423T120611Z
LAST-MODIFIED:20260423T120611Z
UID:10014754-1791477000-1791484200@northparktheatre.org
SUMMARY:"Mistura"
DESCRIPTION:A woman’s life unravels after her husband’s betrayal isolates her from elite society. Embracing disregarded communities\, she embarks on a transformative journey\, challenging norms through a daring culinary venture that redefines her life. \n \nScreening May 1-7!\nGet tickets HERE.
URL:https://northparktheatre.org/shows/mistura-2/2026-10-08/
CATEGORIES:Mistura
ATTACH;FMTTYPE=image/jpeg:https://northparktheatre.org/wp-content/uploads/poster-mistura.jpg
END:VEVENT
BEGIN:VEVENT
DTSTART;TZID=America/New_York:20261009T163000
DTEND;TZID=America/New_York:20261009T183000
DTSTAMP:20260423T204101
CREATED:20260423T120611Z
LAST-MODIFIED:20260423T120611Z
UID:10014755-1791563400-1791570600@northparktheatre.org
SUMMARY:"Mistura"
DESCRIPTION:A woman’s life unravels after her husband’s betrayal isolates her from elite society. Embracing disregarded communities\, she embarks on a transformative journey\, challenging norms through a daring culinary venture that redefines her life. \n \nScreening May 1-7!\nGet tickets HERE.
URL:https://northparktheatre.org/shows/mistura-2/2026-10-09/
CATEGORIES:Mistura
ATTACH;FMTTYPE=image/jpeg:https://northparktheatre.org/wp-content/uploads/poster-mistura.jpg
END:VEVENT
BEGIN:VEVENT
DTSTART;TZID=America/New_York:20261010T163000
DTEND;TZID=America/New_York:20261010T183000
DTSTAMP:20260423T204101
CREATED:20260423T120611Z
LAST-MODIFIED:20260423T120611Z
UID:10014756-1791649800-1791657000@northparktheatre.org
SUMMARY:"Mistura"
DESCRIPTION:A woman’s life unravels after her husband’s betrayal isolates her from elite society. Embracing disregarded communities\, she embarks on a transformative journey\, challenging norms through a daring culinary venture that redefines her life. \n \nScreening May 1-7!\nGet tickets HERE.
URL:https://northparktheatre.org/shows/mistura-2/2026-10-10/
CATEGORIES:Mistura
ATTACH;FMTTYPE=image/jpeg:https://northparktheatre.org/wp-content/uploads/poster-mistura.jpg
END:VEVENT
BEGIN:VEVENT
DTSTART;TZID=America/New_York:20261011T163000
DTEND;TZID=America/New_York:20261011T183000
DTSTAMP:20260423T204101
CREATED:20260423T120611Z
LAST-MODIFIED:20260423T120611Z
UID:10014757-1791736200-1791743400@northparktheatre.org
SUMMARY:"Mistura"
DESCRIPTION:A woman’s life unravels after her husband’s betrayal isolates her from elite society. Embracing disregarded communities\, she embarks on a transformative journey\, challenging norms through a daring culinary venture that redefines her life. \n \nScreening May 1-7!\nGet tickets HERE.
URL:https://northparktheatre.org/shows/mistura-2/2026-10-11/
CATEGORIES:Mistura
ATTACH;FMTTYPE=image/jpeg:https://northparktheatre.org/wp-content/uploads/poster-mistura.jpg
END:VEVENT
BEGIN:VEVENT
DTSTART;TZID=America/New_York:20261012T163000
DTEND;TZID=America/New_York:20261012T183000
DTSTAMP:20260423T204101
CREATED:20260423T120611Z
LAST-MODIFIED:20260423T120611Z
UID:10014758-1791822600-1791829800@northparktheatre.org
SUMMARY:"Mistura"
DESCRIPTION:A woman’s life unravels after her husband’s betrayal isolates her from elite society. Embracing disregarded communities\, she embarks on a transformative journey\, challenging norms through a daring culinary venture that redefines her life. \n \nScreening May 1-7!\nGet tickets HERE.
URL:https://northparktheatre.org/shows/mistura-2/2026-10-12/
CATEGORIES:Mistura
ATTACH;FMTTYPE=image/jpeg:https://northparktheatre.org/wp-content/uploads/poster-mistura.jpg
END:VEVENT
BEGIN:VEVENT
DTSTART;TZID=America/New_York:20261013T163000
DTEND;TZID=America/New_York:20261013T183000
DTSTAMP:20260423T204101
CREATED:20260423T120611Z
LAST-MODIFIED:20260423T120611Z
UID:10014759-1791909000-1791916200@northparktheatre.org
SUMMARY:"Mistura"
DESCRIPTION:A woman’s life unravels after her husband’s betrayal isolates her from elite society. Embracing disregarded communities\, she embarks on a transformative journey\, challenging norms through a daring culinary venture that redefines her life. \n \nScreening May 1-7!\nGet tickets HERE.
URL:https://northparktheatre.org/shows/mistura-2/2026-10-13/
CATEGORIES:Mistura
ATTACH;FMTTYPE=image/jpeg:https://northparktheatre.org/wp-content/uploads/poster-mistura.jpg
END:VEVENT
BEGIN:VEVENT
DTSTART;TZID=America/New_York:20261014T163000
DTEND;TZID=America/New_York:20261014T183000
DTSTAMP:20260423T204101
CREATED:20260423T120611Z
LAST-MODIFIED:20260423T120611Z
UID:10014760-1791995400-1792002600@northparktheatre.org
SUMMARY:"Mistura"
DESCRIPTION:A woman’s life unravels after her husband’s betrayal isolates her from elite society. Embracing disregarded communities\, she embarks on a transformative journey\, challenging norms through a daring culinary venture that redefines her life. \n \nScreening May 1-7!\nGet tickets HERE.
URL:https://northparktheatre.org/shows/mistura-2/2026-10-14/
CATEGORIES:Mistura
ATTACH;FMTTYPE=image/jpeg:https://northparktheatre.org/wp-content/uploads/poster-mistura.jpg
END:VEVENT
BEGIN:VEVENT
DTSTART;TZID=America/New_York:20261015T163000
DTEND;TZID=America/New_York:20261015T183000
DTSTAMP:20260423T204101
CREATED:20260423T120611Z
LAST-MODIFIED:20260423T120611Z
UID:10014761-1792081800-1792089000@northparktheatre.org
SUMMARY:"Mistura"
DESCRIPTION:A woman’s life unravels after her husband’s betrayal isolates her from elite society. Embracing disregarded communities\, she embarks on a transformative journey\, challenging norms through a daring culinary venture that redefines her life. \n \nScreening May 1-7!\nGet tickets HERE.
URL:https://northparktheatre.org/shows/mistura-2/2026-10-15/
CATEGORIES:Mistura
ATTACH;FMTTYPE=image/jpeg:https://northparktheatre.org/wp-content/uploads/poster-mistura.jpg
END:VEVENT
BEGIN:VEVENT
DTSTART;TZID=America/New_York:20261016T163000
DTEND;TZID=America/New_York:20261016T183000
DTSTAMP:20260423T204101
CREATED:20260423T120611Z
LAST-MODIFIED:20260423T120611Z
UID:10014762-1792168200-1792175400@northparktheatre.org
SUMMARY:"Mistura"
DESCRIPTION:A woman’s life unravels after her husband’s betrayal isolates her from elite society. Embracing disregarded communities\, she embarks on a transformative journey\, challenging norms through a daring culinary venture that redefines her life. \n \nScreening May 1-7!\nGet tickets HERE.
URL:https://northparktheatre.org/shows/mistura-2/2026-10-16/
CATEGORIES:Mistura
ATTACH;FMTTYPE=image/jpeg:https://northparktheatre.org/wp-content/uploads/poster-mistura.jpg
END:VEVENT
BEGIN:VEVENT
DTSTART;TZID=America/New_York:20261017T163000
DTEND;TZID=America/New_York:20261017T183000
DTSTAMP:20260423T204101
CREATED:20260423T120611Z
LAST-MODIFIED:20260423T120611Z
UID:10014763-1792254600-1792261800@northparktheatre.org
SUMMARY:"Mistura"
DESCRIPTION:A woman’s life unravels after her husband’s betrayal isolates her from elite society. Embracing disregarded communities\, she embarks on a transformative journey\, challenging norms through a daring culinary venture that redefines her life. \n \nScreening May 1-7!\nGet tickets HERE.
URL:https://northparktheatre.org/shows/mistura-2/2026-10-17/
CATEGORIES:Mistura
ATTACH;FMTTYPE=image/jpeg:https://northparktheatre.org/wp-content/uploads/poster-mistura.jpg
END:VEVENT
BEGIN:VEVENT
DTSTART;TZID=America/New_York:20261018T163000
DTEND;TZID=America/New_York:20261018T183000
DTSTAMP:20260423T204101
CREATED:20260423T120611Z
LAST-MODIFIED:20260423T120611Z
UID:10014764-1792341000-1792348200@northparktheatre.org
SUMMARY:"Mistura"
DESCRIPTION:A woman’s life unravels after her husband’s betrayal isolates her from elite society. Embracing disregarded communities\, she embarks on a transformative journey\, challenging norms through a daring culinary venture that redefines her life. \n \nScreening May 1-7!\nGet tickets HERE.
URL:https://northparktheatre.org/shows/mistura-2/2026-10-18/
CATEGORIES:Mistura
ATTACH;FMTTYPE=image/jpeg:https://northparktheatre.org/wp-content/uploads/poster-mistura.jpg
END:VEVENT
BEGIN:VEVENT
DTSTART;TZID=America/New_York:20261019T163000
DTEND;TZID=America/New_York:20261019T183000
DTSTAMP:20260423T204101
CREATED:20260423T120611Z
LAST-MODIFIED:20260423T120611Z
UID:10014765-1792427400-1792434600@northparktheatre.org
SUMMARY:"Mistura"
DESCRIPTION:A woman’s life unravels after her husband’s betrayal isolates her from elite society. Embracing disregarded communities\, she embarks on a transformative journey\, challenging norms through a daring culinary venture that redefines her life. \n \nScreening May 1-7!\nGet tickets HERE.
URL:https://northparktheatre.org/shows/mistura-2/2026-10-19/
CATEGORIES:Mistura
ATTACH;FMTTYPE=image/jpeg:https://northparktheatre.org/wp-content/uploads/poster-mistura.jpg
END:VEVENT
BEGIN:VEVENT
DTSTART;TZID=America/New_York:20261020T163000
DTEND;TZID=America/New_York:20261020T183000
DTSTAMP:20260423T204101
CREATED:20260423T120611Z
LAST-MODIFIED:20260423T120611Z
UID:10014766-1792513800-1792521000@northparktheatre.org
SUMMARY:"Mistura"
DESCRIPTION:A woman’s life unravels after her husband’s betrayal isolates her from elite society. Embracing disregarded communities\, she embarks on a transformative journey\, challenging norms through a daring culinary venture that redefines her life. \n \nScreening May 1-7!\nGet tickets HERE.
URL:https://northparktheatre.org/shows/mistura-2/2026-10-20/
CATEGORIES:Mistura
ATTACH;FMTTYPE=image/jpeg:https://northparktheatre.org/wp-content/uploads/poster-mistura.jpg
END:VEVENT
BEGIN:VEVENT
DTSTART;TZID=America/New_York:20261021T163000
DTEND;TZID=America/New_York:20261021T183000
DTSTAMP:20260423T204101
CREATED:20260423T120611Z
LAST-MODIFIED:20260423T120611Z
UID:10014767-1792600200-1792607400@northparktheatre.org
SUMMARY:"Mistura"
DESCRIPTION:A woman’s life unravels after her husband’s betrayal isolates her from elite society. Embracing disregarded communities\, she embarks on a transformative journey\, challenging norms through a daring culinary venture that redefines her life. \n \nScreening May 1-7!\nGet tickets HERE.
URL:https://northparktheatre.org/shows/mistura-2/2026-10-21/
CATEGORIES:Mistura
ATTACH;FMTTYPE=image/jpeg:https://northparktheatre.org/wp-content/uploads/poster-mistura.jpg
END:VEVENT
BEGIN:VEVENT
DTSTART;TZID=America/New_York:20261022T163000
DTEND;TZID=America/New_York:20261022T183000
DTSTAMP:20260423T204101
CREATED:20260423T120611Z
LAST-MODIFIED:20260423T120611Z
UID:10014768-1792686600-1792693800@northparktheatre.org
SUMMARY:"Mistura"
DESCRIPTION:A woman’s life unravels after her husband’s betrayal isolates her from elite society. Embracing disregarded communities\, she embarks on a transformative journey\, challenging norms through a daring culinary venture that redefines her life. \n \nScreening May 1-7!\nGet tickets HERE.
URL:https://northparktheatre.org/shows/mistura-2/2026-10-22/
CATEGORIES:Mistura
ATTACH;FMTTYPE=image/jpeg:https://northparktheatre.org/wp-content/uploads/poster-mistura.jpg
END:VEVENT
BEGIN:VEVENT
DTSTART;TZID=America/New_York:20261023T163000
DTEND;TZID=America/New_York:20261023T183000
DTSTAMP:20260423T204101
CREATED:20260423T120611Z
LAST-MODIFIED:20260423T120611Z
UID:10014769-1792773000-1792780200@northparktheatre.org
SUMMARY:"Mistura"
DESCRIPTION:A woman’s life unravels after her husband’s betrayal isolates her from elite society. Embracing disregarded communities\, she embarks on a transformative journey\, challenging norms through a daring culinary venture that redefines her life. \n \nScreening May 1-7!\nGet tickets HERE.
URL:https://northparktheatre.org/shows/mistura-2/2026-10-23/
CATEGORIES:Mistura
ATTACH;FMTTYPE=image/jpeg:https://northparktheatre.org/wp-content/uploads/poster-mistura.jpg
END:VEVENT
BEGIN:VEVENT
DTSTART;TZID=America/New_York:20261024T163000
DTEND;TZID=America/New_York:20261024T183000
DTSTAMP:20260423T204101
CREATED:20260423T120611Z
LAST-MODIFIED:20260423T120611Z
UID:10014770-1792859400-1792866600@northparktheatre.org
SUMMARY:"Mistura"
DESCRIPTION:A woman’s life unravels after her husband’s betrayal isolates her from elite society. Embracing disregarded communities\, she embarks on a transformative journey\, challenging norms through a daring culinary venture that redefines her life. \n \nScreening May 1-7!\nGet tickets HERE.
URL:https://northparktheatre.org/shows/mistura-2/2026-10-24/
CATEGORIES:Mistura
ATTACH;FMTTYPE=image/jpeg:https://northparktheatre.org/wp-content/uploads/poster-mistura.jpg
END:VEVENT
BEGIN:VEVENT
DTSTART;TZID=America/New_York:20261025T163000
DTEND;TZID=America/New_York:20261025T183000
DTSTAMP:20260423T204101
CREATED:20260423T120611Z
LAST-MODIFIED:20260423T120611Z
UID:10014771-1792945800-1792953000@northparktheatre.org
SUMMARY:"Mistura"
DESCRIPTION:A woman’s life unravels after her husband’s betrayal isolates her from elite society. Embracing disregarded communities\, she embarks on a transformative journey\, challenging norms through a daring culinary venture that redefines her life. \n \nScreening May 1-7!\nGet tickets HERE.
URL:https://northparktheatre.org/shows/mistura-2/2026-10-25/
CATEGORIES:Mistura
ATTACH;FMTTYPE=image/jpeg:https://northparktheatre.org/wp-content/uploads/poster-mistura.jpg
END:VEVENT
BEGIN:VEVENT
DTSTART;TZID=America/New_York:20261026T163000
DTEND;TZID=America/New_York:20261026T183000
DTSTAMP:20260423T204101
CREATED:20260423T120611Z
LAST-MODIFIED:20260423T120611Z
UID:10014772-1793032200-1793039400@northparktheatre.org
SUMMARY:"Mistura"
DESCRIPTION:A woman’s life unravels after her husband’s betrayal isolates her from elite society. Embracing disregarded communities\, she embarks on a transformative journey\, challenging norms through a daring culinary venture that redefines her life. \n \nScreening May 1-7!\nGet tickets HERE.
URL:https://northparktheatre.org/shows/mistura-2/2026-10-26/
CATEGORIES:Mistura
ATTACH;FMTTYPE=image/jpeg:https://northparktheatre.org/wp-content/uploads/poster-mistura.jpg
END:VEVENT
BEGIN:VEVENT
DTSTART;TZID=America/New_York:20261027T163000
DTEND;TZID=America/New_York:20261027T183000
DTSTAMP:20260423T204101
CREATED:20260423T120611Z
LAST-MODIFIED:20260423T120611Z
UID:10014773-1793118600-1793125800@northparktheatre.org
SUMMARY:"Mistura"
DESCRIPTION:A woman’s life unravels after her husband’s betrayal isolates her from elite society. Embracing disregarded communities\, she embarks on a transformative journey\, challenging norms through a daring culinary venture that redefines her life. \n \nScreening May 1-7!\nGet tickets HERE.
URL:https://northparktheatre.org/shows/mistura-2/2026-10-27/
CATEGORIES:Mistura
ATTACH;FMTTYPE=image/jpeg:https://northparktheatre.org/wp-content/uploads/poster-mistura.jpg
END:VEVENT
BEGIN:VEVENT
DTSTART;TZID=America/New_York:20261028T163000
DTEND;TZID=America/New_York:20261028T183000
DTSTAMP:20260423T204101
CREATED:20260423T120611Z
LAST-MODIFIED:20260423T120611Z
UID:10014774-1793205000-1793212200@northparktheatre.org
SUMMARY:"Mistura"
DESCRIPTION:A woman’s life unravels after her husband’s betrayal isolates her from elite society. Embracing disregarded communities\, she embarks on a transformative journey\, challenging norms through a daring culinary venture that redefines her life. \n \nScreening May 1-7!\nGet tickets HERE.
URL:https://northparktheatre.org/shows/mistura-2/2026-10-28/
CATEGORIES:Mistura
ATTACH;FMTTYPE=image/jpeg:https://northparktheatre.org/wp-content/uploads/poster-mistura.jpg
END:VEVENT
BEGIN:VEVENT
DTSTART;TZID=America/New_York:20261029T163000
DTEND;TZID=America/New_York:20261029T183000
DTSTAMP:20260423T204101
CREATED:20260423T120611Z
LAST-MODIFIED:20260423T120611Z
UID:10014775-1793291400-1793298600@northparktheatre.org
SUMMARY:"Mistura"
DESCRIPTION:A woman’s life unravels after her husband’s betrayal isolates her from elite society. Embracing disregarded communities\, she embarks on a transformative journey\, challenging norms through a daring culinary venture that redefines her life. \n \nScreening May 1-7!\nGet tickets HERE.
URL:https://northparktheatre.org/shows/mistura-2/2026-10-29/
CATEGORIES:Mistura
ATTACH;FMTTYPE=image/jpeg:https://northparktheatre.org/wp-content/uploads/poster-mistura.jpg
END:VEVENT
BEGIN:VEVENT
DTSTART;TZID=America/New_York:20261030T163000
DTEND;TZID=America/New_York:20261030T183000
DTSTAMP:20260423T204101
CREATED:20260423T120611Z
LAST-MODIFIED:20260423T120611Z
UID:10014776-1793377800-1793385000@northparktheatre.org
SUMMARY:"Mistura"
DESCRIPTION:A woman’s life unravels after her husband’s betrayal isolates her from elite society. Embracing disregarded communities\, she embarks on a transformative journey\, challenging norms through a daring culinary venture that redefines her life. \n \nScreening May 1-7!\nGet tickets HERE.
URL:https://northparktheatre.org/shows/mistura-2/2026-10-30/
CATEGORIES:Mistura
ATTACH;FMTTYPE=image/jpeg:https://northparktheatre.org/wp-content/uploads/poster-mistura.jpg
END:VEVENT
END:VCALENDAR