BEGIN:VCALENDAR
VERSION:2.0
PRODID:-//North Park Theatre - ECPv6.15.20//NONSGML v1.0//EN
CALSCALE:GREGORIAN
METHOD:PUBLISH
X-WR-CALNAME:North Park Theatre
X-ORIGINAL-URL:https://northparktheatre.org
X-WR-CALDESC:Events for North Park Theatre
REFRESH-INTERVAL;VALUE=DURATION:PT1H
X-Robots-Tag:noindex
X-PUBLISHED-TTL:PT1H
BEGIN:VTIMEZONE
TZID:America/New_York
BEGIN:DAYLIGHT
TZOFFSETFROM:-0500
TZOFFSETTO:-0400
TZNAME:EDT
DTSTART:20250309T070000
END:DAYLIGHT
BEGIN:STANDARD
TZOFFSETFROM:-0400
TZOFFSETTO:-0500
TZNAME:EST
DTSTART:20251102T060000
END:STANDARD
BEGIN:DAYLIGHT
TZOFFSETFROM:-0500
TZOFFSETTO:-0400
TZNAME:EDT
DTSTART:20260308T070000
END:DAYLIGHT
BEGIN:STANDARD
TZOFFSETFROM:-0400
TZOFFSETTO:-0500
TZNAME:EST
DTSTART:20261101T060000
END:STANDARD
BEGIN:DAYLIGHT
TZOFFSETFROM:-0500
TZOFFSETTO:-0400
TZNAME:EDT
DTSTART:20270314T070000
END:DAYLIGHT
BEGIN:STANDARD
TZOFFSETFROM:-0400
TZOFFSETTO:-0500
TZNAME:EST
DTSTART:20271107T060000
END:STANDARD
END:VTIMEZONE
BEGIN:VEVENT
DTSTART;TZID=America/New_York:20260601T163000
DTEND;TZID=America/New_York:20260601T183000
DTSTAMP:20260423T153005
CREATED:20260423T120611Z
LAST-MODIFIED:20260423T120611Z
UID:10014625-1780331400-1780338600@northparktheatre.org
SUMMARY:"Mistura"
DESCRIPTION:A woman’s life unravels after her husband’s betrayal isolates her from elite society. Embracing disregarded communities\, she embarks on a transformative journey\, challenging norms through a daring culinary venture that redefines her life. \n \nScreening May 1-7!\nGet tickets HERE.
URL:https://northparktheatre.org/shows/mistura-2/2026-06-01/
CATEGORIES:Mistura
ATTACH;FMTTYPE=image/jpeg:https://northparktheatre.org/wp-content/uploads/poster-mistura.jpg
END:VEVENT
BEGIN:VEVENT
DTSTART;TZID=America/New_York:20260602T163000
DTEND;TZID=America/New_York:20260602T183000
DTSTAMP:20260423T153005
CREATED:20260423T120611Z
LAST-MODIFIED:20260423T120611Z
UID:10014626-1780417800-1780425000@northparktheatre.org
SUMMARY:"Mistura"
DESCRIPTION:A woman’s life unravels after her husband’s betrayal isolates her from elite society. Embracing disregarded communities\, she embarks on a transformative journey\, challenging norms through a daring culinary venture that redefines her life. \n \nScreening May 1-7!\nGet tickets HERE.
URL:https://northparktheatre.org/shows/mistura-2/2026-06-02/
CATEGORIES:Mistura
ATTACH;FMTTYPE=image/jpeg:https://northparktheatre.org/wp-content/uploads/poster-mistura.jpg
END:VEVENT
BEGIN:VEVENT
DTSTART;TZID=America/New_York:20260603T163000
DTEND;TZID=America/New_York:20260603T183000
DTSTAMP:20260423T153005
CREATED:20260423T120611Z
LAST-MODIFIED:20260423T120611Z
UID:10014627-1780504200-1780511400@northparktheatre.org
SUMMARY:"Mistura"
DESCRIPTION:A woman’s life unravels after her husband’s betrayal isolates her from elite society. Embracing disregarded communities\, she embarks on a transformative journey\, challenging norms through a daring culinary venture that redefines her life. \n \nScreening May 1-7!\nGet tickets HERE.
URL:https://northparktheatre.org/shows/mistura-2/2026-06-03/
CATEGORIES:Mistura
ATTACH;FMTTYPE=image/jpeg:https://northparktheatre.org/wp-content/uploads/poster-mistura.jpg
END:VEVENT
BEGIN:VEVENT
DTSTART;TZID=America/New_York:20260604T163000
DTEND;TZID=America/New_York:20260604T183000
DTSTAMP:20260423T153006
CREATED:20260423T120611Z
LAST-MODIFIED:20260423T120611Z
UID:10014628-1780590600-1780597800@northparktheatre.org
SUMMARY:"Mistura"
DESCRIPTION:A woman’s life unravels after her husband’s betrayal isolates her from elite society. Embracing disregarded communities\, she embarks on a transformative journey\, challenging norms through a daring culinary venture that redefines her life. \n \nScreening May 1-7!\nGet tickets HERE.
URL:https://northparktheatre.org/shows/mistura-2/2026-06-04/
CATEGORIES:Mistura
ATTACH;FMTTYPE=image/jpeg:https://northparktheatre.org/wp-content/uploads/poster-mistura.jpg
END:VEVENT
BEGIN:VEVENT
DTSTART;TZID=America/New_York:20260605T163000
DTEND;TZID=America/New_York:20260605T183000
DTSTAMP:20260423T153006
CREATED:20260423T120611Z
LAST-MODIFIED:20260423T120611Z
UID:10014629-1780677000-1780684200@northparktheatre.org
SUMMARY:"Mistura"
DESCRIPTION:A woman’s life unravels after her husband’s betrayal isolates her from elite society. Embracing disregarded communities\, she embarks on a transformative journey\, challenging norms through a daring culinary venture that redefines her life. \n \nScreening May 1-7!\nGet tickets HERE.
URL:https://northparktheatre.org/shows/mistura-2/2026-06-05/
CATEGORIES:Mistura
ATTACH;FMTTYPE=image/jpeg:https://northparktheatre.org/wp-content/uploads/poster-mistura.jpg
END:VEVENT
BEGIN:VEVENT
DTSTART;TZID=America/New_York:20260606T163000
DTEND;TZID=America/New_York:20260606T183000
DTSTAMP:20260423T153006
CREATED:20260423T120611Z
LAST-MODIFIED:20260423T120611Z
UID:10014630-1780763400-1780770600@northparktheatre.org
SUMMARY:"Mistura"
DESCRIPTION:A woman’s life unravels after her husband’s betrayal isolates her from elite society. Embracing disregarded communities\, she embarks on a transformative journey\, challenging norms through a daring culinary venture that redefines her life. \n \nScreening May 1-7!\nGet tickets HERE.
URL:https://northparktheatre.org/shows/mistura-2/2026-06-06/
CATEGORIES:Mistura
ATTACH;FMTTYPE=image/jpeg:https://northparktheatre.org/wp-content/uploads/poster-mistura.jpg
END:VEVENT
BEGIN:VEVENT
DTSTART;TZID=America/New_York:20260607T163000
DTEND;TZID=America/New_York:20260607T183000
DTSTAMP:20260423T153006
CREATED:20260423T120611Z
LAST-MODIFIED:20260423T120611Z
UID:10014631-1780849800-1780857000@northparktheatre.org
SUMMARY:"Mistura"
DESCRIPTION:A woman’s life unravels after her husband’s betrayal isolates her from elite society. Embracing disregarded communities\, she embarks on a transformative journey\, challenging norms through a daring culinary venture that redefines her life. \n \nScreening May 1-7!\nGet tickets HERE.
URL:https://northparktheatre.org/shows/mistura-2/2026-06-07/
CATEGORIES:Mistura
ATTACH;FMTTYPE=image/jpeg:https://northparktheatre.org/wp-content/uploads/poster-mistura.jpg
END:VEVENT
BEGIN:VEVENT
DTSTART;TZID=America/New_York:20260608T163000
DTEND;TZID=America/New_York:20260608T183000
DTSTAMP:20260423T153006
CREATED:20260423T120611Z
LAST-MODIFIED:20260423T120611Z
UID:10014632-1780936200-1780943400@northparktheatre.org
SUMMARY:"Mistura"
DESCRIPTION:A woman’s life unravels after her husband’s betrayal isolates her from elite society. Embracing disregarded communities\, she embarks on a transformative journey\, challenging norms through a daring culinary venture that redefines her life. \n \nScreening May 1-7!\nGet tickets HERE.
URL:https://northparktheatre.org/shows/mistura-2/2026-06-08/
CATEGORIES:Mistura
ATTACH;FMTTYPE=image/jpeg:https://northparktheatre.org/wp-content/uploads/poster-mistura.jpg
END:VEVENT
BEGIN:VEVENT
DTSTART;TZID=America/New_York:20260609T163000
DTEND;TZID=America/New_York:20260609T183000
DTSTAMP:20260423T153006
CREATED:20260423T120611Z
LAST-MODIFIED:20260423T120611Z
UID:10014633-1781022600-1781029800@northparktheatre.org
SUMMARY:"Mistura"
DESCRIPTION:A woman’s life unravels after her husband’s betrayal isolates her from elite society. Embracing disregarded communities\, she embarks on a transformative journey\, challenging norms through a daring culinary venture that redefines her life. \n \nScreening May 1-7!\nGet tickets HERE.
URL:https://northparktheatre.org/shows/mistura-2/2026-06-09/
CATEGORIES:Mistura
ATTACH;FMTTYPE=image/jpeg:https://northparktheatre.org/wp-content/uploads/poster-mistura.jpg
END:VEVENT
BEGIN:VEVENT
DTSTART;TZID=America/New_York:20260610T163000
DTEND;TZID=America/New_York:20260610T183000
DTSTAMP:20260423T153006
CREATED:20260423T120611Z
LAST-MODIFIED:20260423T120611Z
UID:10014634-1781109000-1781116200@northparktheatre.org
SUMMARY:"Mistura"
DESCRIPTION:A woman’s life unravels after her husband’s betrayal isolates her from elite society. Embracing disregarded communities\, she embarks on a transformative journey\, challenging norms through a daring culinary venture that redefines her life. \n \nScreening May 1-7!\nGet tickets HERE.
URL:https://northparktheatre.org/shows/mistura-2/2026-06-10/
CATEGORIES:Mistura
ATTACH;FMTTYPE=image/jpeg:https://northparktheatre.org/wp-content/uploads/poster-mistura.jpg
END:VEVENT
BEGIN:VEVENT
DTSTART;TZID=America/New_York:20260611T163000
DTEND;TZID=America/New_York:20260611T183000
DTSTAMP:20260423T153006
CREATED:20260423T120611Z
LAST-MODIFIED:20260423T120611Z
UID:10014635-1781195400-1781202600@northparktheatre.org
SUMMARY:"Mistura"
DESCRIPTION:A woman’s life unravels after her husband’s betrayal isolates her from elite society. Embracing disregarded communities\, she embarks on a transformative journey\, challenging norms through a daring culinary venture that redefines her life. \n \nScreening May 1-7!\nGet tickets HERE.
URL:https://northparktheatre.org/shows/mistura-2/2026-06-11/
CATEGORIES:Mistura
ATTACH;FMTTYPE=image/jpeg:https://northparktheatre.org/wp-content/uploads/poster-mistura.jpg
END:VEVENT
BEGIN:VEVENT
DTSTART;TZID=America/New_York:20260612T163000
DTEND;TZID=America/New_York:20260612T183000
DTSTAMP:20260423T153006
CREATED:20260423T120611Z
LAST-MODIFIED:20260423T120611Z
UID:10014636-1781281800-1781289000@northparktheatre.org
SUMMARY:"Mistura"
DESCRIPTION:A woman’s life unravels after her husband’s betrayal isolates her from elite society. Embracing disregarded communities\, she embarks on a transformative journey\, challenging norms through a daring culinary venture that redefines her life. \n \nScreening May 1-7!\nGet tickets HERE.
URL:https://northparktheatre.org/shows/mistura-2/2026-06-12/
CATEGORIES:Mistura
ATTACH;FMTTYPE=image/jpeg:https://northparktheatre.org/wp-content/uploads/poster-mistura.jpg
END:VEVENT
BEGIN:VEVENT
DTSTART;TZID=America/New_York:20260613T163000
DTEND;TZID=America/New_York:20260613T183000
DTSTAMP:20260423T153006
CREATED:20260423T120611Z
LAST-MODIFIED:20260423T120611Z
UID:10014637-1781368200-1781375400@northparktheatre.org
SUMMARY:"Mistura"
DESCRIPTION:A woman’s life unravels after her husband’s betrayal isolates her from elite society. Embracing disregarded communities\, she embarks on a transformative journey\, challenging norms through a daring culinary venture that redefines her life. \n \nScreening May 1-7!\nGet tickets HERE.
URL:https://northparktheatre.org/shows/mistura-2/2026-06-13/
CATEGORIES:Mistura
ATTACH;FMTTYPE=image/jpeg:https://northparktheatre.org/wp-content/uploads/poster-mistura.jpg
END:VEVENT
BEGIN:VEVENT
DTSTART;TZID=America/New_York:20260614T163000
DTEND;TZID=America/New_York:20260614T183000
DTSTAMP:20260423T153006
CREATED:20260423T120611Z
LAST-MODIFIED:20260423T120611Z
UID:10014638-1781454600-1781461800@northparktheatre.org
SUMMARY:"Mistura"
DESCRIPTION:A woman’s life unravels after her husband’s betrayal isolates her from elite society. Embracing disregarded communities\, she embarks on a transformative journey\, challenging norms through a daring culinary venture that redefines her life. \n \nScreening May 1-7!\nGet tickets HERE.
URL:https://northparktheatre.org/shows/mistura-2/2026-06-14/
CATEGORIES:Mistura
ATTACH;FMTTYPE=image/jpeg:https://northparktheatre.org/wp-content/uploads/poster-mistura.jpg
END:VEVENT
BEGIN:VEVENT
DTSTART;TZID=America/New_York:20260615T163000
DTEND;TZID=America/New_York:20260615T183000
DTSTAMP:20260423T153006
CREATED:20260423T120611Z
LAST-MODIFIED:20260423T120611Z
UID:10014639-1781541000-1781548200@northparktheatre.org
SUMMARY:"Mistura"
DESCRIPTION:A woman’s life unravels after her husband’s betrayal isolates her from elite society. Embracing disregarded communities\, she embarks on a transformative journey\, challenging norms through a daring culinary venture that redefines her life. \n \nScreening May 1-7!\nGet tickets HERE.
URL:https://northparktheatre.org/shows/mistura-2/2026-06-15/
CATEGORIES:Mistura
ATTACH;FMTTYPE=image/jpeg:https://northparktheatre.org/wp-content/uploads/poster-mistura.jpg
END:VEVENT
BEGIN:VEVENT
DTSTART;TZID=America/New_York:20260616T163000
DTEND;TZID=America/New_York:20260616T183000
DTSTAMP:20260423T153006
CREATED:20260423T120611Z
LAST-MODIFIED:20260423T120611Z
UID:10014640-1781627400-1781634600@northparktheatre.org
SUMMARY:"Mistura"
DESCRIPTION:A woman’s life unravels after her husband’s betrayal isolates her from elite society. Embracing disregarded communities\, she embarks on a transformative journey\, challenging norms through a daring culinary venture that redefines her life. \n \nScreening May 1-7!\nGet tickets HERE.
URL:https://northparktheatre.org/shows/mistura-2/2026-06-16/
CATEGORIES:Mistura
ATTACH;FMTTYPE=image/jpeg:https://northparktheatre.org/wp-content/uploads/poster-mistura.jpg
END:VEVENT
BEGIN:VEVENT
DTSTART;TZID=America/New_York:20260617T163000
DTEND;TZID=America/New_York:20260617T183000
DTSTAMP:20260423T153006
CREATED:20260423T120611Z
LAST-MODIFIED:20260423T120611Z
UID:10014641-1781713800-1781721000@northparktheatre.org
SUMMARY:"Mistura"
DESCRIPTION:A woman’s life unravels after her husband’s betrayal isolates her from elite society. Embracing disregarded communities\, she embarks on a transformative journey\, challenging norms through a daring culinary venture that redefines her life. \n \nScreening May 1-7!\nGet tickets HERE.
URL:https://northparktheatre.org/shows/mistura-2/2026-06-17/
CATEGORIES:Mistura
ATTACH;FMTTYPE=image/jpeg:https://northparktheatre.org/wp-content/uploads/poster-mistura.jpg
END:VEVENT
BEGIN:VEVENT
DTSTART;TZID=America/New_York:20260618T163000
DTEND;TZID=America/New_York:20260618T183000
DTSTAMP:20260423T153006
CREATED:20260423T120611Z
LAST-MODIFIED:20260423T120611Z
UID:10014642-1781800200-1781807400@northparktheatre.org
SUMMARY:"Mistura"
DESCRIPTION:A woman’s life unravels after her husband’s betrayal isolates her from elite society. Embracing disregarded communities\, she embarks on a transformative journey\, challenging norms through a daring culinary venture that redefines her life. \n \nScreening May 1-7!\nGet tickets HERE.
URL:https://northparktheatre.org/shows/mistura-2/2026-06-18/
CATEGORIES:Mistura
ATTACH;FMTTYPE=image/jpeg:https://northparktheatre.org/wp-content/uploads/poster-mistura.jpg
END:VEVENT
BEGIN:VEVENT
DTSTART;TZID=America/New_York:20260619T163000
DTEND;TZID=America/New_York:20260619T183000
DTSTAMP:20260423T153006
CREATED:20260423T120611Z
LAST-MODIFIED:20260423T120611Z
UID:10014643-1781886600-1781893800@northparktheatre.org
SUMMARY:"Mistura"
DESCRIPTION:A woman’s life unravels after her husband’s betrayal isolates her from elite society. Embracing disregarded communities\, she embarks on a transformative journey\, challenging norms through a daring culinary venture that redefines her life. \n \nScreening May 1-7!\nGet tickets HERE.
URL:https://northparktheatre.org/shows/mistura-2/2026-06-19/
CATEGORIES:Mistura
ATTACH;FMTTYPE=image/jpeg:https://northparktheatre.org/wp-content/uploads/poster-mistura.jpg
END:VEVENT
BEGIN:VEVENT
DTSTART;TZID=America/New_York:20260620T163000
DTEND;TZID=America/New_York:20260620T183000
DTSTAMP:20260423T153006
CREATED:20260423T120611Z
LAST-MODIFIED:20260423T120611Z
UID:10014644-1781973000-1781980200@northparktheatre.org
SUMMARY:"Mistura"
DESCRIPTION:A woman’s life unravels after her husband’s betrayal isolates her from elite society. Embracing disregarded communities\, she embarks on a transformative journey\, challenging norms through a daring culinary venture that redefines her life. \n \nScreening May 1-7!\nGet tickets HERE.
URL:https://northparktheatre.org/shows/mistura-2/2026-06-20/
CATEGORIES:Mistura
ATTACH;FMTTYPE=image/jpeg:https://northparktheatre.org/wp-content/uploads/poster-mistura.jpg
END:VEVENT
BEGIN:VEVENT
DTSTART;TZID=America/New_York:20260621T163000
DTEND;TZID=America/New_York:20260621T183000
DTSTAMP:20260423T153006
CREATED:20260423T120611Z
LAST-MODIFIED:20260423T120611Z
UID:10014645-1782059400-1782066600@northparktheatre.org
SUMMARY:"Mistura"
DESCRIPTION:A woman’s life unravels after her husband’s betrayal isolates her from elite society. Embracing disregarded communities\, she embarks on a transformative journey\, challenging norms through a daring culinary venture that redefines her life. \n \nScreening May 1-7!\nGet tickets HERE.
URL:https://northparktheatre.org/shows/mistura-2/2026-06-21/
CATEGORIES:Mistura
ATTACH;FMTTYPE=image/jpeg:https://northparktheatre.org/wp-content/uploads/poster-mistura.jpg
END:VEVENT
BEGIN:VEVENT
DTSTART;TZID=America/New_York:20260622T163000
DTEND;TZID=America/New_York:20260622T183000
DTSTAMP:20260423T153006
CREATED:20260423T120611Z
LAST-MODIFIED:20260423T120611Z
UID:10014646-1782145800-1782153000@northparktheatre.org
SUMMARY:"Mistura"
DESCRIPTION:A woman’s life unravels after her husband’s betrayal isolates her from elite society. Embracing disregarded communities\, she embarks on a transformative journey\, challenging norms through a daring culinary venture that redefines her life. \n \nScreening May 1-7!\nGet tickets HERE.
URL:https://northparktheatre.org/shows/mistura-2/2026-06-22/
CATEGORIES:Mistura
ATTACH;FMTTYPE=image/jpeg:https://northparktheatre.org/wp-content/uploads/poster-mistura.jpg
END:VEVENT
BEGIN:VEVENT
DTSTART;TZID=America/New_York:20260623T163000
DTEND;TZID=America/New_York:20260623T183000
DTSTAMP:20260423T153006
CREATED:20260423T120611Z
LAST-MODIFIED:20260423T120611Z
UID:10014647-1782232200-1782239400@northparktheatre.org
SUMMARY:"Mistura"
DESCRIPTION:A woman’s life unravels after her husband’s betrayal isolates her from elite society. Embracing disregarded communities\, she embarks on a transformative journey\, challenging norms through a daring culinary venture that redefines her life. \n \nScreening May 1-7!\nGet tickets HERE.
URL:https://northparktheatre.org/shows/mistura-2/2026-06-23/
CATEGORIES:Mistura
ATTACH;FMTTYPE=image/jpeg:https://northparktheatre.org/wp-content/uploads/poster-mistura.jpg
END:VEVENT
BEGIN:VEVENT
DTSTART;TZID=America/New_York:20260624T163000
DTEND;TZID=America/New_York:20260624T183000
DTSTAMP:20260423T153006
CREATED:20260423T120611Z
LAST-MODIFIED:20260423T120611Z
UID:10014648-1782318600-1782325800@northparktheatre.org
SUMMARY:"Mistura"
DESCRIPTION:A woman’s life unravels after her husband’s betrayal isolates her from elite society. Embracing disregarded communities\, she embarks on a transformative journey\, challenging norms through a daring culinary venture that redefines her life. \n \nScreening May 1-7!\nGet tickets HERE.
URL:https://northparktheatre.org/shows/mistura-2/2026-06-24/
CATEGORIES:Mistura
ATTACH;FMTTYPE=image/jpeg:https://northparktheatre.org/wp-content/uploads/poster-mistura.jpg
END:VEVENT
BEGIN:VEVENT
DTSTART;TZID=America/New_York:20260625T163000
DTEND;TZID=America/New_York:20260625T183000
DTSTAMP:20260423T153006
CREATED:20260423T120611Z
LAST-MODIFIED:20260423T120611Z
UID:10014649-1782405000-1782412200@northparktheatre.org
SUMMARY:"Mistura"
DESCRIPTION:A woman’s life unravels after her husband’s betrayal isolates her from elite society. Embracing disregarded communities\, she embarks on a transformative journey\, challenging norms through a daring culinary venture that redefines her life. \n \nScreening May 1-7!\nGet tickets HERE.
URL:https://northparktheatre.org/shows/mistura-2/2026-06-25/
CATEGORIES:Mistura
ATTACH;FMTTYPE=image/jpeg:https://northparktheatre.org/wp-content/uploads/poster-mistura.jpg
END:VEVENT
BEGIN:VEVENT
DTSTART;TZID=America/New_York:20260626T163000
DTEND;TZID=America/New_York:20260626T183000
DTSTAMP:20260423T153006
CREATED:20260423T120611Z
LAST-MODIFIED:20260423T120611Z
UID:10014650-1782491400-1782498600@northparktheatre.org
SUMMARY:"Mistura"
DESCRIPTION:A woman’s life unravels after her husband’s betrayal isolates her from elite society. Embracing disregarded communities\, she embarks on a transformative journey\, challenging norms through a daring culinary venture that redefines her life. \n \nScreening May 1-7!\nGet tickets HERE.
URL:https://northparktheatre.org/shows/mistura-2/2026-06-26/
CATEGORIES:Mistura
ATTACH;FMTTYPE=image/jpeg:https://northparktheatre.org/wp-content/uploads/poster-mistura.jpg
END:VEVENT
BEGIN:VEVENT
DTSTART;TZID=America/New_York:20260627T163000
DTEND;TZID=America/New_York:20260627T183000
DTSTAMP:20260423T153006
CREATED:20260423T120611Z
LAST-MODIFIED:20260423T120611Z
UID:10014651-1782577800-1782585000@northparktheatre.org
SUMMARY:"Mistura"
DESCRIPTION:A woman’s life unravels after her husband’s betrayal isolates her from elite society. Embracing disregarded communities\, she embarks on a transformative journey\, challenging norms through a daring culinary venture that redefines her life. \n \nScreening May 1-7!\nGet tickets HERE.
URL:https://northparktheatre.org/shows/mistura-2/2026-06-27/
CATEGORIES:Mistura
ATTACH;FMTTYPE=image/jpeg:https://northparktheatre.org/wp-content/uploads/poster-mistura.jpg
END:VEVENT
BEGIN:VEVENT
DTSTART;TZID=America/New_York:20260628T163000
DTEND;TZID=America/New_York:20260628T183000
DTSTAMP:20260423T153006
CREATED:20260423T120611Z
LAST-MODIFIED:20260423T120611Z
UID:10014652-1782664200-1782671400@northparktheatre.org
SUMMARY:"Mistura"
DESCRIPTION:A woman’s life unravels after her husband’s betrayal isolates her from elite society. Embracing disregarded communities\, she embarks on a transformative journey\, challenging norms through a daring culinary venture that redefines her life. \n \nScreening May 1-7!\nGet tickets HERE.
URL:https://northparktheatre.org/shows/mistura-2/2026-06-28/
CATEGORIES:Mistura
ATTACH;FMTTYPE=image/jpeg:https://northparktheatre.org/wp-content/uploads/poster-mistura.jpg
END:VEVENT
BEGIN:VEVENT
DTSTART;TZID=America/New_York:20260629T163000
DTEND;TZID=America/New_York:20260629T183000
DTSTAMP:20260423T153006
CREATED:20260423T120611Z
LAST-MODIFIED:20260423T120611Z
UID:10014653-1782750600-1782757800@northparktheatre.org
SUMMARY:"Mistura"
DESCRIPTION:A woman’s life unravels after her husband’s betrayal isolates her from elite society. Embracing disregarded communities\, she embarks on a transformative journey\, challenging norms through a daring culinary venture that redefines her life. \n \nScreening May 1-7!\nGet tickets HERE.
URL:https://northparktheatre.org/shows/mistura-2/2026-06-29/
CATEGORIES:Mistura
ATTACH;FMTTYPE=image/jpeg:https://northparktheatre.org/wp-content/uploads/poster-mistura.jpg
END:VEVENT
BEGIN:VEVENT
DTSTART;TZID=America/New_York:20260630T163000
DTEND;TZID=America/New_York:20260630T183000
DTSTAMP:20260423T153006
CREATED:20260423T120611Z
LAST-MODIFIED:20260423T120611Z
UID:10014654-1782837000-1782844200@northparktheatre.org
SUMMARY:"Mistura"
DESCRIPTION:A woman’s life unravels after her husband’s betrayal isolates her from elite society. Embracing disregarded communities\, she embarks on a transformative journey\, challenging norms through a daring culinary venture that redefines her life. \n \nScreening May 1-7!\nGet tickets HERE.
URL:https://northparktheatre.org/shows/mistura-2/2026-06-30/
CATEGORIES:Mistura
ATTACH;FMTTYPE=image/jpeg:https://northparktheatre.org/wp-content/uploads/poster-mistura.jpg
END:VEVENT
END:VCALENDAR