BEGIN:VCALENDAR
VERSION:2.0
PRODID:-//North Park Theatre - ECPv6.15.20//NONSGML v1.0//EN
CALSCALE:GREGORIAN
METHOD:PUBLISH
X-ORIGINAL-URL:https://northparktheatre.org
X-WR-CALDESC:Events for North Park Theatre
REFRESH-INTERVAL;VALUE=DURATION:PT1H
X-Robots-Tag:noindex
X-PUBLISHED-TTL:PT1H
BEGIN:VTIMEZONE
TZID:America/New_York
BEGIN:DAYLIGHT
TZOFFSETFROM:-0500
TZOFFSETTO:-0400
TZNAME:EDT
DTSTART:20250309T070000
END:DAYLIGHT
BEGIN:STANDARD
TZOFFSETFROM:-0400
TZOFFSETTO:-0500
TZNAME:EST
DTSTART:20251102T060000
END:STANDARD
BEGIN:DAYLIGHT
TZOFFSETFROM:-0500
TZOFFSETTO:-0400
TZNAME:EDT
DTSTART:20260308T070000
END:DAYLIGHT
BEGIN:STANDARD
TZOFFSETFROM:-0400
TZOFFSETTO:-0500
TZNAME:EST
DTSTART:20261101T060000
END:STANDARD
BEGIN:DAYLIGHT
TZOFFSETFROM:-0500
TZOFFSETTO:-0400
TZNAME:EDT
DTSTART:20270314T070000
END:DAYLIGHT
BEGIN:STANDARD
TZOFFSETFROM:-0400
TZOFFSETTO:-0500
TZNAME:EST
DTSTART:20271107T060000
END:STANDARD
END:VTIMEZONE
BEGIN:VEVENT
DTSTART;TZID=America/New_York:20260206T121500
DTEND;TZID=America/New_York:20260206T143000
DTSTAMP:20260424T051842
CREATED:20260203T070411Z
LAST-MODIFIED:20260203T070411Z
UID:10014306-1770380100-1770388200@northparktheatre.org
SUMMARY:"Islands"
DESCRIPTION:“A rivetingly seductive mix of Patricia Highsmith and Challengers“\n– Indiewire \n“Critic’s Pick – A piercing\, mesmerizing thriller”\n– Variety \n“Sam Riley is superb in this absorbing summer noir”\n– Sight and Sound \n \nScreening February 6-12!\nGet tickets HERE. \nIn this twisty thriller\, a tennis coach at a tropical resort finds himself at the center of a missing persons mystery. Tom (Sam Riley) teaches tennis during the day and parties at night. When an enigmatic tourist (Stacy Martin) arrives\, Tom is unable to shake the feeling he has met her before. Tension and attraction grow\, until her husband (Jack Farthing) disappears\, and the police suspect Tom.
URL:https://northparktheatre.org/shows/islands/2026-02-06/
CATEGORIES:Islands
ATTACH;FMTTYPE=image/jpeg:https://northparktheatre.org/wp-content/uploads/poster-islands.jpg
END:VEVENT
BEGIN:VEVENT
DTSTART;TZID=America/New_York:20260207T134500
DTEND;TZID=America/New_York:20260207T153000
DTSTAMP:20260424T051842
CREATED:20260203T070411Z
LAST-MODIFIED:20260203T070411Z
UID:10014307-1770471900-1770478200@northparktheatre.org
SUMMARY:"Islands"
DESCRIPTION:“A rivetingly seductive mix of Patricia Highsmith and Challengers“\n– Indiewire \n“Critic’s Pick – A piercing\, mesmerizing thriller”\n– Variety \n“Sam Riley is superb in this absorbing summer noir”\n– Sight and Sound \n \nScreening February 6-12!\nGet tickets HERE. \nIn this twisty thriller\, a tennis coach at a tropical resort finds himself at the center of a missing persons mystery. Tom (Sam Riley) teaches tennis during the day and parties at night. When an enigmatic tourist (Stacy Martin) arrives\, Tom is unable to shake the feeling he has met her before. Tension and attraction grow\, until her husband (Jack Farthing) disappears\, and the police suspect Tom.
URL:https://northparktheatre.org/shows/islands/2026-02-07/
CATEGORIES:Islands
ATTACH;FMTTYPE=image/jpeg:https://northparktheatre.org/wp-content/uploads/poster-islands.jpg
END:VEVENT
BEGIN:VEVENT
DTSTART;TZID=America/New_York:20260208T134500
DTEND;TZID=America/New_York:20260208T153000
DTSTAMP:20260424T051842
CREATED:20260203T070411Z
LAST-MODIFIED:20260203T070411Z
UID:10014308-1770558300-1770564600@northparktheatre.org
SUMMARY:"Islands"
DESCRIPTION:“A rivetingly seductive mix of Patricia Highsmith and Challengers“\n– Indiewire \n“Critic’s Pick – A piercing\, mesmerizing thriller”\n– Variety \n“Sam Riley is superb in this absorbing summer noir”\n– Sight and Sound \n \nScreening February 6-12!\nGet tickets HERE. \nIn this twisty thriller\, a tennis coach at a tropical resort finds himself at the center of a missing persons mystery. Tom (Sam Riley) teaches tennis during the day and parties at night. When an enigmatic tourist (Stacy Martin) arrives\, Tom is unable to shake the feeling he has met her before. Tension and attraction grow\, until her husband (Jack Farthing) disappears\, and the police suspect Tom.
URL:https://northparktheatre.org/shows/islands/2026-02-08/
CATEGORIES:Islands
ATTACH;FMTTYPE=image/jpeg:https://northparktheatre.org/wp-content/uploads/poster-islands.jpg
END:VEVENT
BEGIN:VEVENT
DTSTART;TZID=America/New_York:20260209T134500
DTEND;TZID=America/New_York:20260209T153000
DTSTAMP:20260424T051842
CREATED:20260203T070411Z
LAST-MODIFIED:20260203T070411Z
UID:10014309-1770644700-1770651000@northparktheatre.org
SUMMARY:"Islands"
DESCRIPTION:“A rivetingly seductive mix of Patricia Highsmith and Challengers“\n– Indiewire \n“Critic’s Pick – A piercing\, mesmerizing thriller”\n– Variety \n“Sam Riley is superb in this absorbing summer noir”\n– Sight and Sound \n \nScreening February 6-12!\nGet tickets HERE. \nIn this twisty thriller\, a tennis coach at a tropical resort finds himself at the center of a missing persons mystery. Tom (Sam Riley) teaches tennis during the day and parties at night. When an enigmatic tourist (Stacy Martin) arrives\, Tom is unable to shake the feeling he has met her before. Tension and attraction grow\, until her husband (Jack Farthing) disappears\, and the police suspect Tom.
URL:https://northparktheatre.org/shows/islands/2026-02-09/
CATEGORIES:Islands
ATTACH;FMTTYPE=image/jpeg:https://northparktheatre.org/wp-content/uploads/poster-islands.jpg
END:VEVENT
BEGIN:VEVENT
DTSTART;TZID=America/New_York:20260210T134500
DTEND;TZID=America/New_York:20260210T153000
DTSTAMP:20260424T051842
CREATED:20260203T070411Z
LAST-MODIFIED:20260203T070411Z
UID:10014310-1770731100-1770737400@northparktheatre.org
SUMMARY:"Islands"
DESCRIPTION:“A rivetingly seductive mix of Patricia Highsmith and Challengers“\n– Indiewire \n“Critic’s Pick – A piercing\, mesmerizing thriller”\n– Variety \n“Sam Riley is superb in this absorbing summer noir”\n– Sight and Sound \n \nScreening February 6-12!\nGet tickets HERE. \nIn this twisty thriller\, a tennis coach at a tropical resort finds himself at the center of a missing persons mystery. Tom (Sam Riley) teaches tennis during the day and parties at night. When an enigmatic tourist (Stacy Martin) arrives\, Tom is unable to shake the feeling he has met her before. Tension and attraction grow\, until her husband (Jack Farthing) disappears\, and the police suspect Tom.
URL:https://northparktheatre.org/shows/islands/2026-02-10/
CATEGORIES:Islands
ATTACH;FMTTYPE=image/jpeg:https://northparktheatre.org/wp-content/uploads/poster-islands.jpg
END:VEVENT
BEGIN:VEVENT
DTSTART;TZID=America/New_York:20260211T134500
DTEND;TZID=America/New_York:20260211T153000
DTSTAMP:20260424T051842
CREATED:20260203T070411Z
LAST-MODIFIED:20260203T070411Z
UID:10014311-1770817500-1770823800@northparktheatre.org
SUMMARY:"Islands"
DESCRIPTION:“A rivetingly seductive mix of Patricia Highsmith and Challengers“\n– Indiewire \n“Critic’s Pick – A piercing\, mesmerizing thriller”\n– Variety \n“Sam Riley is superb in this absorbing summer noir”\n– Sight and Sound \n \nScreening February 6-12!\nGet tickets HERE. \nIn this twisty thriller\, a tennis coach at a tropical resort finds himself at the center of a missing persons mystery. Tom (Sam Riley) teaches tennis during the day and parties at night. When an enigmatic tourist (Stacy Martin) arrives\, Tom is unable to shake the feeling he has met her before. Tension and attraction grow\, until her husband (Jack Farthing) disappears\, and the police suspect Tom.
URL:https://northparktheatre.org/shows/islands/2026-02-11/
CATEGORIES:Islands
ATTACH;FMTTYPE=image/jpeg:https://northparktheatre.org/wp-content/uploads/poster-islands.jpg
END:VEVENT
BEGIN:VEVENT
DTSTART;TZID=America/New_York:20260212T134500
DTEND;TZID=America/New_York:20260212T153000
DTSTAMP:20260424T051842
CREATED:20260203T070411Z
LAST-MODIFIED:20260203T070411Z
UID:10014312-1770903900-1770910200@northparktheatre.org
SUMMARY:"Islands"
DESCRIPTION:“A rivetingly seductive mix of Patricia Highsmith and Challengers“\n– Indiewire \n“Critic’s Pick – A piercing\, mesmerizing thriller”\n– Variety \n“Sam Riley is superb in this absorbing summer noir”\n– Sight and Sound \n \nScreening February 6-12!\nGet tickets HERE. \nIn this twisty thriller\, a tennis coach at a tropical resort finds himself at the center of a missing persons mystery. Tom (Sam Riley) teaches tennis during the day and parties at night. When an enigmatic tourist (Stacy Martin) arrives\, Tom is unable to shake the feeling he has met her before. Tension and attraction grow\, until her husband (Jack Farthing) disappears\, and the police suspect Tom.
URL:https://northparktheatre.org/shows/islands/2026-02-12/
CATEGORIES:Islands
ATTACH;FMTTYPE=image/jpeg:https://northparktheatre.org/wp-content/uploads/poster-islands.jpg
END:VEVENT
END:VCALENDAR