BEGIN:VCALENDAR
VERSION:2.0
PRODID:-//North Park Theatre - ECPv6.15.20//NONSGML v1.0//EN
CALSCALE:GREGORIAN
METHOD:PUBLISH
X-WR-CALNAME:North Park Theatre
X-ORIGINAL-URL:https://northparktheatre.org
X-WR-CALDESC:Events for North Park Theatre
REFRESH-INTERVAL;VALUE=DURATION:PT1H
X-Robots-Tag:noindex
X-PUBLISHED-TTL:PT1H
BEGIN:VTIMEZONE
TZID:America/New_York
BEGIN:DAYLIGHT
TZOFFSETFROM:-0500
TZOFFSETTO:-0400
TZNAME:EDT
DTSTART:20250309T070000
END:DAYLIGHT
BEGIN:STANDARD
TZOFFSETFROM:-0400
TZOFFSETTO:-0500
TZNAME:EST
DTSTART:20251102T060000
END:STANDARD
BEGIN:DAYLIGHT
TZOFFSETFROM:-0500
TZOFFSETTO:-0400
TZNAME:EDT
DTSTART:20260308T070000
END:DAYLIGHT
BEGIN:STANDARD
TZOFFSETFROM:-0400
TZOFFSETTO:-0500
TZNAME:EST
DTSTART:20261101T060000
END:STANDARD
BEGIN:DAYLIGHT
TZOFFSETFROM:-0500
TZOFFSETTO:-0400
TZNAME:EDT
DTSTART:20270314T070000
END:DAYLIGHT
BEGIN:STANDARD
TZOFFSETFROM:-0400
TZOFFSETTO:-0500
TZNAME:EST
DTSTART:20271107T060000
END:STANDARD
END:VTIMEZONE
BEGIN:VEVENT
DTSTART;TZID=America/New_York:20260130T140000
DTEND;TZID=America/New_York:20260130T160000
DTSTAMP:20260424T035742
CREATED:20260125T013737Z
LAST-MODIFIED:20260125T013737Z
UID:10014278-1769781600-1769788800@northparktheatre.org
SUMMARY:"Exhibition on Screen: Caravaggio"
DESCRIPTION:Mystery\, intrigue\, beauty\, passion\, murder – shine a new light on Caravaggio in this dramatic biography. \n \nScreening 1/30-2/5!\nGet tickets HERE. \nFive years in the making\, this is the most extensive film ever made about this revolutionary artist. With first-hand testimony from the artist himself on the eve of his mysterious disappearance\, this film reveals Caravaggio as never before. Featuring masterpiece after masterpiece and testimony from leading experts from around the world\, Caravaggio immerses audiences in the hidden narratives of the artist’s life\, piecing together clues embedded within his incredible art. \nCaravaggio’s masterpieces are some of art’s most instantly recognisable. No one else uses his signature blend of dramatic light\, intense naturalism and bold\, striking figures. His astonishing paintings have captivated audiences for centuries. But there lies a deeper mystery – one that still beckons us to explore. What do these masterpieces reveal about the man behind the brush? The intriguing self-depictions within his works – sometimes disguised\, sometimes in plain sight – offer a rare window into his psyche and personal struggles. Join us as we unravel the story of one of history’s most brilliant\, complex and controversial figures.
URL:https://northparktheatre.org/shows/exhibition-on-screen-caravaggio/2026-01-30/
CATEGORIES:Exhibition on Screen: Caravaggo
ATTACH;FMTTYPE=image/jpeg:https://northparktheatre.org/wp-content/uploads/poster-cara.jpg
END:VEVENT
BEGIN:VEVENT
DTSTART;TZID=America/New_York:20260131T140000
DTEND;TZID=America/New_York:20260131T160000
DTSTAMP:20260424T035742
CREATED:20260125T013737Z
LAST-MODIFIED:20260125T013737Z
UID:10014279-1769868000-1769875200@northparktheatre.org
SUMMARY:"Exhibition on Screen: Caravaggio"
DESCRIPTION:Mystery\, intrigue\, beauty\, passion\, murder – shine a new light on Caravaggio in this dramatic biography. \n \nScreening 1/30-2/5!\nGet tickets HERE. \nFive years in the making\, this is the most extensive film ever made about this revolutionary artist. With first-hand testimony from the artist himself on the eve of his mysterious disappearance\, this film reveals Caravaggio as never before. Featuring masterpiece after masterpiece and testimony from leading experts from around the world\, Caravaggio immerses audiences in the hidden narratives of the artist’s life\, piecing together clues embedded within his incredible art. \nCaravaggio’s masterpieces are some of art’s most instantly recognisable. No one else uses his signature blend of dramatic light\, intense naturalism and bold\, striking figures. His astonishing paintings have captivated audiences for centuries. But there lies a deeper mystery – one that still beckons us to explore. What do these masterpieces reveal about the man behind the brush? The intriguing self-depictions within his works – sometimes disguised\, sometimes in plain sight – offer a rare window into his psyche and personal struggles. Join us as we unravel the story of one of history’s most brilliant\, complex and controversial figures.
URL:https://northparktheatre.org/shows/exhibition-on-screen-caravaggio/2026-01-31/
CATEGORIES:Exhibition on Screen: Caravaggo
ATTACH;FMTTYPE=image/jpeg:https://northparktheatre.org/wp-content/uploads/poster-cara.jpg
END:VEVENT
END:VCALENDAR