BEGIN:VCALENDAR
VERSION:2.0
PRODID:-//North Park Theatre - ECPv6.15.20//NONSGML v1.0//EN
CALSCALE:GREGORIAN
METHOD:PUBLISH
X-WR-CALNAME:North Park Theatre
X-ORIGINAL-URL:https://northparktheatre.org
X-WR-CALDESC:Events for North Park Theatre
REFRESH-INTERVAL;VALUE=DURATION:PT1H
X-Robots-Tag:noindex
X-PUBLISHED-TTL:PT1H
BEGIN:VTIMEZONE
TZID:America/New_York
BEGIN:DAYLIGHT
TZOFFSETFROM:-0500
TZOFFSETTO:-0400
TZNAME:EDT
DTSTART:20240310T070000
END:DAYLIGHT
BEGIN:STANDARD
TZOFFSETFROM:-0400
TZOFFSETTO:-0500
TZNAME:EST
DTSTART:20241103T060000
END:STANDARD
BEGIN:DAYLIGHT
TZOFFSETFROM:-0500
TZOFFSETTO:-0400
TZNAME:EDT
DTSTART:20250309T070000
END:DAYLIGHT
BEGIN:STANDARD
TZOFFSETFROM:-0400
TZOFFSETTO:-0500
TZNAME:EST
DTSTART:20251102T060000
END:STANDARD
BEGIN:DAYLIGHT
TZOFFSETFROM:-0500
TZOFFSETTO:-0400
TZNAME:EDT
DTSTART:20260308T070000
END:DAYLIGHT
BEGIN:STANDARD
TZOFFSETFROM:-0400
TZOFFSETTO:-0500
TZNAME:EST
DTSTART:20261101T060000
END:STANDARD
END:VTIMEZONE
BEGIN:VEVENT
DTSTART;TZID=America/New_York:20250601T211500
DTEND;TZID=America/New_York:20250601T230000
DTSTAMP:20260425T093810
CREATED:20250522T195959Z
LAST-MODIFIED:20250524T161124Z
UID:10009485-1748812500-1748818800@northparktheatre.org
SUMMARY:"Desert of Namibia"
DESCRIPTION:“Yoko Yamanaka’s film is a brilliantly observed portrait of a young woman simmering with frustrations and coming to terms with her relationships and place in the world.”\n– The New York Times \n \nScreening May 30 – June 6th!\nGet tickets HERE. \n21-year-old Kana (rising star Yuumi Kawai) works a disaffected job at a beauty salon\, where the expectations placed on women her age are plain to see. In her personal life\, her mood oscillates between soaring highs and deep lows. Bored with her slavish boyfriend\, she begins another relationship\, the novel excitement it brings soon devolving into an increasingly volatile predicament. Burning bridges\, uncommitted and trapped in her own life\, Kana makes her way towards the inner desert of her emotions.  \nAlternating between claustrophobic blocking\, ample zooms and expressive whip-pans brought together by dryly comedic editing and an intense actor’s direction\, the sophomore effort from director Yoko Yamanaka (the youngest filmmaker to have a film selected at the Berlin International Film Festival with her 2017 debut Amiko) provides a frank and dynamic examination of womanhood and mental health in contemporary Japan. Inspired by Yasuzo Masumura as much as the Cassavetes/Rowlands collaboration\, Yamanaka breaks out with a work of stark confrontational honesty.
URL:https://northparktheatre.org/shows/desert-of-nambia/2025-06-01/
CATEGORIES:Desert of Nambia
ATTACH;FMTTYPE=image/jpeg:https://northparktheatre.org/wp-content/uploads/poster-nambia.jpg
END:VEVENT
BEGIN:VEVENT
DTSTART;TZID=America/New_York:20250602T211500
DTEND;TZID=America/New_York:20250602T230000
DTSTAMP:20260425T093810
CREATED:20250522T195959Z
LAST-MODIFIED:20250524T161124Z
UID:10009486-1748898900-1748905200@northparktheatre.org
SUMMARY:"Desert of Namibia"
DESCRIPTION:“Yoko Yamanaka’s film is a brilliantly observed portrait of a young woman simmering with frustrations and coming to terms with her relationships and place in the world.”\n– The New York Times \n \nScreening May 30 – June 6th!\nGet tickets HERE. \n21-year-old Kana (rising star Yuumi Kawai) works a disaffected job at a beauty salon\, where the expectations placed on women her age are plain to see. In her personal life\, her mood oscillates between soaring highs and deep lows. Bored with her slavish boyfriend\, she begins another relationship\, the novel excitement it brings soon devolving into an increasingly volatile predicament. Burning bridges\, uncommitted and trapped in her own life\, Kana makes her way towards the inner desert of her emotions.  \nAlternating between claustrophobic blocking\, ample zooms and expressive whip-pans brought together by dryly comedic editing and an intense actor’s direction\, the sophomore effort from director Yoko Yamanaka (the youngest filmmaker to have a film selected at the Berlin International Film Festival with her 2017 debut Amiko) provides a frank and dynamic examination of womanhood and mental health in contemporary Japan. Inspired by Yasuzo Masumura as much as the Cassavetes/Rowlands collaboration\, Yamanaka breaks out with a work of stark confrontational honesty.
URL:https://northparktheatre.org/shows/desert-of-nambia/2025-06-02/
CATEGORIES:Desert of Nambia
ATTACH;FMTTYPE=image/jpeg:https://northparktheatre.org/wp-content/uploads/poster-nambia.jpg
END:VEVENT
BEGIN:VEVENT
DTSTART;TZID=America/New_York:20250603T211500
DTEND;TZID=America/New_York:20250603T230000
DTSTAMP:20260425T093810
CREATED:20250522T195959Z
LAST-MODIFIED:20250524T161124Z
UID:10009487-1748985300-1748991600@northparktheatre.org
SUMMARY:"Desert of Namibia"
DESCRIPTION:“Yoko Yamanaka’s film is a brilliantly observed portrait of a young woman simmering with frustrations and coming to terms with her relationships and place in the world.”\n– The New York Times \n \nScreening May 30 – June 6th!\nGet tickets HERE. \n21-year-old Kana (rising star Yuumi Kawai) works a disaffected job at a beauty salon\, where the expectations placed on women her age are plain to see. In her personal life\, her mood oscillates between soaring highs and deep lows. Bored with her slavish boyfriend\, she begins another relationship\, the novel excitement it brings soon devolving into an increasingly volatile predicament. Burning bridges\, uncommitted and trapped in her own life\, Kana makes her way towards the inner desert of her emotions.  \nAlternating between claustrophobic blocking\, ample zooms and expressive whip-pans brought together by dryly comedic editing and an intense actor’s direction\, the sophomore effort from director Yoko Yamanaka (the youngest filmmaker to have a film selected at the Berlin International Film Festival with her 2017 debut Amiko) provides a frank and dynamic examination of womanhood and mental health in contemporary Japan. Inspired by Yasuzo Masumura as much as the Cassavetes/Rowlands collaboration\, Yamanaka breaks out with a work of stark confrontational honesty.
URL:https://northparktheatre.org/shows/desert-of-nambia/2025-06-03/
CATEGORIES:Desert of Nambia
ATTACH;FMTTYPE=image/jpeg:https://northparktheatre.org/wp-content/uploads/poster-nambia.jpg
END:VEVENT
BEGIN:VEVENT
DTSTART;TZID=America/New_York:20250604T211500
DTEND;TZID=America/New_York:20250604T230000
DTSTAMP:20260425T093810
CREATED:20250522T195959Z
LAST-MODIFIED:20250524T161124Z
UID:10009488-1749071700-1749078000@northparktheatre.org
SUMMARY:"Desert of Namibia"
DESCRIPTION:“Yoko Yamanaka’s film is a brilliantly observed portrait of a young woman simmering with frustrations and coming to terms with her relationships and place in the world.”\n– The New York Times \n \nScreening May 30 – June 6th!\nGet tickets HERE. \n21-year-old Kana (rising star Yuumi Kawai) works a disaffected job at a beauty salon\, where the expectations placed on women her age are plain to see. In her personal life\, her mood oscillates between soaring highs and deep lows. Bored with her slavish boyfriend\, she begins another relationship\, the novel excitement it brings soon devolving into an increasingly volatile predicament. Burning bridges\, uncommitted and trapped in her own life\, Kana makes her way towards the inner desert of her emotions.  \nAlternating between claustrophobic blocking\, ample zooms and expressive whip-pans brought together by dryly comedic editing and an intense actor’s direction\, the sophomore effort from director Yoko Yamanaka (the youngest filmmaker to have a film selected at the Berlin International Film Festival with her 2017 debut Amiko) provides a frank and dynamic examination of womanhood and mental health in contemporary Japan. Inspired by Yasuzo Masumura as much as the Cassavetes/Rowlands collaboration\, Yamanaka breaks out with a work of stark confrontational honesty.
URL:https://northparktheatre.org/shows/desert-of-nambia/2025-06-04/
CATEGORIES:Desert of Nambia
ATTACH;FMTTYPE=image/jpeg:https://northparktheatre.org/wp-content/uploads/poster-nambia.jpg
END:VEVENT
BEGIN:VEVENT
DTSTART;TZID=America/New_York:20250605T213000
DTEND;TZID=America/New_York:20250605T230000
DTSTAMP:20260425T093810
CREATED:20250524T160948Z
LAST-MODIFIED:20250524T160948Z
UID:10009483-1749159000-1749164400@northparktheatre.org
SUMMARY:"Desert of Namibia"
DESCRIPTION:“Yoko Yamanaka’s film is a brilliantly observed portrait of a young woman simmering with frustrations and coming to terms with her relationships and place in the world.”\n– The New York Times \n \nScreening May 30 – June 6th!\nGet tickets HERE. \n21-year-old Kana (rising star Yuumi Kawai) works a disaffected job at a beauty salon\, where the expectations placed on women her age are plain to see. In her personal life\, her mood oscillates between soaring highs and deep lows. Bored with her slavish boyfriend\, she begins another relationship\, the novel excitement it brings soon devolving into an increasingly volatile predicament. Burning bridges\, uncommitted and trapped in her own life\, Kana makes her way towards the inner desert of her emotions.  \nAlternating between claustrophobic blocking\, ample zooms and expressive whip-pans brought together by dryly comedic editing and an intense actor’s direction\, the sophomore effort from director Yoko Yamanaka (the youngest filmmaker to have a film selected at the Berlin International Film Festival with her 2017 debut Amiko) provides a frank and dynamic examination of womanhood and mental health in contemporary Japan. Inspired by Yasuzo Masumura as much as the Cassavetes/Rowlands collaboration\, Yamanaka breaks out with a work of stark confrontational honesty.
URL:https://northparktheatre.org/shows/desert-of-namibia/2025-06-05/
CATEGORIES:Desert of Nambia
ATTACH;FMTTYPE=image/jpeg:https://northparktheatre.org/wp-content/uploads/poster-nambia.jpg
END:VEVENT
END:VCALENDAR