BEGIN:VCALENDAR
VERSION:2.0
PRODID:-//North Park Theatre - ECPv6.15.20//NONSGML v1.0//EN
CALSCALE:GREGORIAN
METHOD:PUBLISH
X-WR-CALNAME:North Park Theatre
X-ORIGINAL-URL:https://northparktheatre.org
X-WR-CALDESC:Events for North Park Theatre
REFRESH-INTERVAL;VALUE=DURATION:PT1H
X-Robots-Tag:noindex
X-PUBLISHED-TTL:PT1H
BEGIN:VTIMEZONE
TZID:America/New_York
BEGIN:DAYLIGHT
TZOFFSETFROM:-0500
TZOFFSETTO:-0400
TZNAME:EDT
DTSTART:20240310T070000
END:DAYLIGHT
BEGIN:STANDARD
TZOFFSETFROM:-0400
TZOFFSETTO:-0500
TZNAME:EST
DTSTART:20241103T060000
END:STANDARD
BEGIN:DAYLIGHT
TZOFFSETFROM:-0500
TZOFFSETTO:-0400
TZNAME:EDT
DTSTART:20250309T070000
END:DAYLIGHT
BEGIN:STANDARD
TZOFFSETFROM:-0400
TZOFFSETTO:-0500
TZNAME:EST
DTSTART:20251102T060000
END:STANDARD
BEGIN:DAYLIGHT
TZOFFSETFROM:-0500
TZOFFSETTO:-0400
TZNAME:EDT
DTSTART:20260308T070000
END:DAYLIGHT
BEGIN:STANDARD
TZOFFSETFROM:-0400
TZOFFSETTO:-0500
TZNAME:EST
DTSTART:20261101T060000
END:STANDARD
END:VTIMEZONE
BEGIN:VEVENT
DTSTART;TZID=America/New_York:20250509T140000
DTEND;TZID=America/New_York:20250509T160000
DTSTAMP:20260425T094830
CREATED:20250508T171537Z
LAST-MODIFIED:20250508T173640Z
UID:10009363-1746799200-1746806400@northparktheatre.org
SUMMARY:EXHIBITION ON SCREEN: Dawn of Impressionism - Paris 1874
DESCRIPTION:See some of the greatest Impressionist masterpieces on our brand new 4K laser projector! \n \nScreening May 9-15th!\nGet tickets HERE. \nThe Impressionists are the most popular group in art history – millions flock every year to marvel at their masterpieces. But\, to begin with\, they were scorned\, penniless outsiders. 1874 was the year that changed everything; the first Impressionists\, “hungry for independence”\, broke the mould by holding their own exhibition outside official channels. Impressionism was born and the art world was changed forever. \nWhat led to that first groundbreaking show 150 years ago? Who were the maverick personalities that wielded their brushes in such a radical and provocative way? The spectacular Musée d’Orsay exhibition brings fresh eyes to this extraordinary tale of passion and rebellion. The story is told not only by historians and curators\, but in the words of those who witnessed the dawn of Impressionism: the artists\, press and people of Paris\, 1874.
URL:https://northparktheatre.org/shows/exhibition-on-screen-dawn-of-impressionism-paris-1874/2025-05-09/1/
CATEGORIES:Dawn of Impressionism
ATTACH;FMTTYPE=image/jpeg:https://northparktheatre.org/wp-content/uploads/poster-impress.jpg
END:VEVENT
BEGIN:VEVENT
DTSTART;TZID=America/New_York:20250509T163000
DTEND;TZID=America/New_York:20250509T183000
DTSTAMP:20260425T094830
CREATED:20250508T171537Z
LAST-MODIFIED:20250508T173640Z
UID:10009364-1746808200-1746815400@northparktheatre.org
SUMMARY:EXHIBITION ON SCREEN: Dawn of Impressionism - Paris 1874
DESCRIPTION:See some of the greatest Impressionist masterpieces on our brand new 4K laser projector! \n \nScreening May 9-15th!\nGet tickets HERE. \nThe Impressionists are the most popular group in art history – millions flock every year to marvel at their masterpieces. But\, to begin with\, they were scorned\, penniless outsiders. 1874 was the year that changed everything; the first Impressionists\, “hungry for independence”\, broke the mould by holding their own exhibition outside official channels. Impressionism was born and the art world was changed forever. \nWhat led to that first groundbreaking show 150 years ago? Who were the maverick personalities that wielded their brushes in such a radical and provocative way? The spectacular Musée d’Orsay exhibition brings fresh eyes to this extraordinary tale of passion and rebellion. The story is told not only by historians and curators\, but in the words of those who witnessed the dawn of Impressionism: the artists\, press and people of Paris\, 1874.
URL:https://northparktheatre.org/shows/exhibition-on-screen-dawn-of-impressionism-paris-1874/2025-05-09/2/
CATEGORIES:Dawn of Impressionism
ATTACH;FMTTYPE=image/jpeg:https://northparktheatre.org/wp-content/uploads/poster-impress.jpg
END:VEVENT
BEGIN:VEVENT
DTSTART;TZID=America/New_York:20250510T140000
DTEND;TZID=America/New_York:20250510T160000
DTSTAMP:20260425T094830
CREATED:20250508T171537Z
LAST-MODIFIED:20250508T173640Z
UID:10009365-1746885600-1746892800@northparktheatre.org
SUMMARY:EXHIBITION ON SCREEN: Dawn of Impressionism - Paris 1874
DESCRIPTION:See some of the greatest Impressionist masterpieces on our brand new 4K laser projector! \n \nScreening May 9-15th!\nGet tickets HERE. \nThe Impressionists are the most popular group in art history – millions flock every year to marvel at their masterpieces. But\, to begin with\, they were scorned\, penniless outsiders. 1874 was the year that changed everything; the first Impressionists\, “hungry for independence”\, broke the mould by holding their own exhibition outside official channels. Impressionism was born and the art world was changed forever. \nWhat led to that first groundbreaking show 150 years ago? Who were the maverick personalities that wielded their brushes in such a radical and provocative way? The spectacular Musée d’Orsay exhibition brings fresh eyes to this extraordinary tale of passion and rebellion. The story is told not only by historians and curators\, but in the words of those who witnessed the dawn of Impressionism: the artists\, press and people of Paris\, 1874.
URL:https://northparktheatre.org/shows/exhibition-on-screen-dawn-of-impressionism-paris-1874/2025-05-10/1/
CATEGORIES:Dawn of Impressionism
ATTACH;FMTTYPE=image/jpeg:https://northparktheatre.org/wp-content/uploads/poster-impress.jpg
END:VEVENT
BEGIN:VEVENT
DTSTART;TZID=America/New_York:20250510T163000
DTEND;TZID=America/New_York:20250510T183000
DTSTAMP:20260425T094830
CREATED:20250508T171537Z
LAST-MODIFIED:20250508T173640Z
UID:10009366-1746894600-1746901800@northparktheatre.org
SUMMARY:EXHIBITION ON SCREEN: Dawn of Impressionism - Paris 1874
DESCRIPTION:See some of the greatest Impressionist masterpieces on our brand new 4K laser projector! \n \nScreening May 9-15th!\nGet tickets HERE. \nThe Impressionists are the most popular group in art history – millions flock every year to marvel at their masterpieces. But\, to begin with\, they were scorned\, penniless outsiders. 1874 was the year that changed everything; the first Impressionists\, “hungry for independence”\, broke the mould by holding their own exhibition outside official channels. Impressionism was born and the art world was changed forever. \nWhat led to that first groundbreaking show 150 years ago? Who were the maverick personalities that wielded their brushes in such a radical and provocative way? The spectacular Musée d’Orsay exhibition brings fresh eyes to this extraordinary tale of passion and rebellion. The story is told not only by historians and curators\, but in the words of those who witnessed the dawn of Impressionism: the artists\, press and people of Paris\, 1874.
URL:https://northparktheatre.org/shows/exhibition-on-screen-dawn-of-impressionism-paris-1874/2025-05-10/2/
CATEGORIES:Dawn of Impressionism
ATTACH;FMTTYPE=image/jpeg:https://northparktheatre.org/wp-content/uploads/poster-impress.jpg
END:VEVENT
BEGIN:VEVENT
DTSTART;TZID=America/New_York:20250511T140000
DTEND;TZID=America/New_York:20250511T160000
DTSTAMP:20260425T094830
CREATED:20250508T171537Z
LAST-MODIFIED:20250508T173640Z
UID:10009367-1746972000-1746979200@northparktheatre.org
SUMMARY:EXHIBITION ON SCREEN: Dawn of Impressionism - Paris 1874
DESCRIPTION:See some of the greatest Impressionist masterpieces on our brand new 4K laser projector! \n \nScreening May 9-15th!\nGet tickets HERE. \nThe Impressionists are the most popular group in art history – millions flock every year to marvel at their masterpieces. But\, to begin with\, they were scorned\, penniless outsiders. 1874 was the year that changed everything; the first Impressionists\, “hungry for independence”\, broke the mould by holding their own exhibition outside official channels. Impressionism was born and the art world was changed forever. \nWhat led to that first groundbreaking show 150 years ago? Who were the maverick personalities that wielded their brushes in such a radical and provocative way? The spectacular Musée d’Orsay exhibition brings fresh eyes to this extraordinary tale of passion and rebellion. The story is told not only by historians and curators\, but in the words of those who witnessed the dawn of Impressionism: the artists\, press and people of Paris\, 1874.
URL:https://northparktheatre.org/shows/exhibition-on-screen-dawn-of-impressionism-paris-1874/2025-05-11/
CATEGORIES:Dawn of Impressionism
ATTACH;FMTTYPE=image/jpeg:https://northparktheatre.org/wp-content/uploads/poster-impress.jpg
END:VEVENT
BEGIN:VEVENT
DTSTART;TZID=America/New_York:20250512T140000
DTEND;TZID=America/New_York:20250512T160000
DTSTAMP:20260425T094830
CREATED:20250508T171537Z
LAST-MODIFIED:20250508T173640Z
UID:10009368-1747058400-1747065600@northparktheatre.org
SUMMARY:EXHIBITION ON SCREEN: Dawn of Impressionism - Paris 1874
DESCRIPTION:See some of the greatest Impressionist masterpieces on our brand new 4K laser projector! \n \nScreening May 9-15th!\nGet tickets HERE. \nThe Impressionists are the most popular group in art history – millions flock every year to marvel at their masterpieces. But\, to begin with\, they were scorned\, penniless outsiders. 1874 was the year that changed everything; the first Impressionists\, “hungry for independence”\, broke the mould by holding their own exhibition outside official channels. Impressionism was born and the art world was changed forever. \nWhat led to that first groundbreaking show 150 years ago? Who were the maverick personalities that wielded their brushes in such a radical and provocative way? The spectacular Musée d’Orsay exhibition brings fresh eyes to this extraordinary tale of passion and rebellion. The story is told not only by historians and curators\, but in the words of those who witnessed the dawn of Impressionism: the artists\, press and people of Paris\, 1874.
URL:https://northparktheatre.org/shows/exhibition-on-screen-dawn-of-impressionism-paris-1874/2025-05-12/1/
CATEGORIES:Dawn of Impressionism
ATTACH;FMTTYPE=image/jpeg:https://northparktheatre.org/wp-content/uploads/poster-impress.jpg
END:VEVENT
BEGIN:VEVENT
DTSTART;TZID=America/New_York:20250512T163000
DTEND;TZID=America/New_York:20250512T183000
DTSTAMP:20260425T094830
CREATED:20250508T171537Z
LAST-MODIFIED:20250508T173640Z
UID:10009369-1747067400-1747074600@northparktheatre.org
SUMMARY:EXHIBITION ON SCREEN: Dawn of Impressionism - Paris 1874
DESCRIPTION:See some of the greatest Impressionist masterpieces on our brand new 4K laser projector! \n \nScreening May 9-15th!\nGet tickets HERE. \nThe Impressionists are the most popular group in art history – millions flock every year to marvel at their masterpieces. But\, to begin with\, they were scorned\, penniless outsiders. 1874 was the year that changed everything; the first Impressionists\, “hungry for independence”\, broke the mould by holding their own exhibition outside official channels. Impressionism was born and the art world was changed forever. \nWhat led to that first groundbreaking show 150 years ago? Who were the maverick personalities that wielded their brushes in such a radical and provocative way? The spectacular Musée d’Orsay exhibition brings fresh eyes to this extraordinary tale of passion and rebellion. The story is told not only by historians and curators\, but in the words of those who witnessed the dawn of Impressionism: the artists\, press and people of Paris\, 1874.
URL:https://northparktheatre.org/shows/exhibition-on-screen-dawn-of-impressionism-paris-1874/2025-05-12/2/
CATEGORIES:Dawn of Impressionism
ATTACH;FMTTYPE=image/jpeg:https://northparktheatre.org/wp-content/uploads/poster-impress.jpg
END:VEVENT
BEGIN:VEVENT
DTSTART;TZID=America/New_York:20250513T140000
DTEND;TZID=America/New_York:20250513T160000
DTSTAMP:20260425T094830
CREATED:20250508T171537Z
LAST-MODIFIED:20250508T173640Z
UID:10009370-1747144800-1747152000@northparktheatre.org
SUMMARY:EXHIBITION ON SCREEN: Dawn of Impressionism - Paris 1874
DESCRIPTION:See some of the greatest Impressionist masterpieces on our brand new 4K laser projector! \n \nScreening May 9-15th!\nGet tickets HERE. \nThe Impressionists are the most popular group in art history – millions flock every year to marvel at their masterpieces. But\, to begin with\, they were scorned\, penniless outsiders. 1874 was the year that changed everything; the first Impressionists\, “hungry for independence”\, broke the mould by holding their own exhibition outside official channels. Impressionism was born and the art world was changed forever. \nWhat led to that first groundbreaking show 150 years ago? Who were the maverick personalities that wielded their brushes in such a radical and provocative way? The spectacular Musée d’Orsay exhibition brings fresh eyes to this extraordinary tale of passion and rebellion. The story is told not only by historians and curators\, but in the words of those who witnessed the dawn of Impressionism: the artists\, press and people of Paris\, 1874.
URL:https://northparktheatre.org/shows/exhibition-on-screen-dawn-of-impressionism-paris-1874/2025-05-13/1/
CATEGORIES:Dawn of Impressionism
ATTACH;FMTTYPE=image/jpeg:https://northparktheatre.org/wp-content/uploads/poster-impress.jpg
END:VEVENT
BEGIN:VEVENT
DTSTART;TZID=America/New_York:20250513T163000
DTEND;TZID=America/New_York:20250513T183000
DTSTAMP:20260425T094830
CREATED:20250508T171537Z
LAST-MODIFIED:20250508T173640Z
UID:10009371-1747153800-1747161000@northparktheatre.org
SUMMARY:EXHIBITION ON SCREEN: Dawn of Impressionism - Paris 1874
DESCRIPTION:See some of the greatest Impressionist masterpieces on our brand new 4K laser projector! \n \nScreening May 9-15th!\nGet tickets HERE. \nThe Impressionists are the most popular group in art history – millions flock every year to marvel at their masterpieces. But\, to begin with\, they were scorned\, penniless outsiders. 1874 was the year that changed everything; the first Impressionists\, “hungry for independence”\, broke the mould by holding their own exhibition outside official channels. Impressionism was born and the art world was changed forever. \nWhat led to that first groundbreaking show 150 years ago? Who were the maverick personalities that wielded their brushes in such a radical and provocative way? The spectacular Musée d’Orsay exhibition brings fresh eyes to this extraordinary tale of passion and rebellion. The story is told not only by historians and curators\, but in the words of those who witnessed the dawn of Impressionism: the artists\, press and people of Paris\, 1874.
URL:https://northparktheatre.org/shows/exhibition-on-screen-dawn-of-impressionism-paris-1874/2025-05-13/2/
CATEGORIES:Dawn of Impressionism
ATTACH;FMTTYPE=image/jpeg:https://northparktheatre.org/wp-content/uploads/poster-impress.jpg
END:VEVENT
BEGIN:VEVENT
DTSTART;TZID=America/New_York:20250514T140000
DTEND;TZID=America/New_York:20250514T160000
DTSTAMP:20260425T094830
CREATED:20250508T171537Z
LAST-MODIFIED:20250508T173640Z
UID:10009372-1747231200-1747238400@northparktheatre.org
SUMMARY:EXHIBITION ON SCREEN: Dawn of Impressionism - Paris 1874
DESCRIPTION:See some of the greatest Impressionist masterpieces on our brand new 4K laser projector! \n \nScreening May 9-15th!\nGet tickets HERE. \nThe Impressionists are the most popular group in art history – millions flock every year to marvel at their masterpieces. But\, to begin with\, they were scorned\, penniless outsiders. 1874 was the year that changed everything; the first Impressionists\, “hungry for independence”\, broke the mould by holding their own exhibition outside official channels. Impressionism was born and the art world was changed forever. \nWhat led to that first groundbreaking show 150 years ago? Who were the maverick personalities that wielded their brushes in such a radical and provocative way? The spectacular Musée d’Orsay exhibition brings fresh eyes to this extraordinary tale of passion and rebellion. The story is told not only by historians and curators\, but in the words of those who witnessed the dawn of Impressionism: the artists\, press and people of Paris\, 1874.
URL:https://northparktheatre.org/shows/exhibition-on-screen-dawn-of-impressionism-paris-1874/2025-05-14/1/
CATEGORIES:Dawn of Impressionism
ATTACH;FMTTYPE=image/jpeg:https://northparktheatre.org/wp-content/uploads/poster-impress.jpg
END:VEVENT
BEGIN:VEVENT
DTSTART;TZID=America/New_York:20250514T163000
DTEND;TZID=America/New_York:20250514T183000
DTSTAMP:20260425T094830
CREATED:20250508T171537Z
LAST-MODIFIED:20250508T173640Z
UID:10009373-1747240200-1747247400@northparktheatre.org
SUMMARY:EXHIBITION ON SCREEN: Dawn of Impressionism - Paris 1874
DESCRIPTION:See some of the greatest Impressionist masterpieces on our brand new 4K laser projector! \n \nScreening May 9-15th!\nGet tickets HERE. \nThe Impressionists are the most popular group in art history – millions flock every year to marvel at their masterpieces. But\, to begin with\, they were scorned\, penniless outsiders. 1874 was the year that changed everything; the first Impressionists\, “hungry for independence”\, broke the mould by holding their own exhibition outside official channels. Impressionism was born and the art world was changed forever. \nWhat led to that first groundbreaking show 150 years ago? Who were the maverick personalities that wielded their brushes in such a radical and provocative way? The spectacular Musée d’Orsay exhibition brings fresh eyes to this extraordinary tale of passion and rebellion. The story is told not only by historians and curators\, but in the words of those who witnessed the dawn of Impressionism: the artists\, press and people of Paris\, 1874.
URL:https://northparktheatre.org/shows/exhibition-on-screen-dawn-of-impressionism-paris-1874/2025-05-14/2/
CATEGORIES:Dawn of Impressionism
ATTACH;FMTTYPE=image/jpeg:https://northparktheatre.org/wp-content/uploads/poster-impress.jpg
END:VEVENT
BEGIN:VEVENT
DTSTART;TZID=America/New_York:20250515T140000
DTEND;TZID=America/New_York:20250515T160000
DTSTAMP:20260425T094830
CREATED:20250508T171537Z
LAST-MODIFIED:20250508T173640Z
UID:10009374-1747317600-1747324800@northparktheatre.org
SUMMARY:EXHIBITION ON SCREEN: Dawn of Impressionism - Paris 1874
DESCRIPTION:See some of the greatest Impressionist masterpieces on our brand new 4K laser projector! \n \nScreening May 9-15th!\nGet tickets HERE. \nThe Impressionists are the most popular group in art history – millions flock every year to marvel at their masterpieces. But\, to begin with\, they were scorned\, penniless outsiders. 1874 was the year that changed everything; the first Impressionists\, “hungry for independence”\, broke the mould by holding their own exhibition outside official channels. Impressionism was born and the art world was changed forever. \nWhat led to that first groundbreaking show 150 years ago? Who were the maverick personalities that wielded their brushes in such a radical and provocative way? The spectacular Musée d’Orsay exhibition brings fresh eyes to this extraordinary tale of passion and rebellion. The story is told not only by historians and curators\, but in the words of those who witnessed the dawn of Impressionism: the artists\, press and people of Paris\, 1874.
URL:https://northparktheatre.org/shows/exhibition-on-screen-dawn-of-impressionism-paris-1874/2025-05-15/1/
CATEGORIES:Dawn of Impressionism
ATTACH;FMTTYPE=image/jpeg:https://northparktheatre.org/wp-content/uploads/poster-impress.jpg
END:VEVENT
BEGIN:VEVENT
DTSTART;TZID=America/New_York:20250515T163000
DTEND;TZID=America/New_York:20250515T183000
DTSTAMP:20260425T094830
CREATED:20250508T171537Z
LAST-MODIFIED:20250508T173640Z
UID:10009375-1747326600-1747333800@northparktheatre.org
SUMMARY:EXHIBITION ON SCREEN: Dawn of Impressionism - Paris 1874
DESCRIPTION:See some of the greatest Impressionist masterpieces on our brand new 4K laser projector! \n \nScreening May 9-15th!\nGet tickets HERE. \nThe Impressionists are the most popular group in art history – millions flock every year to marvel at their masterpieces. But\, to begin with\, they were scorned\, penniless outsiders. 1874 was the year that changed everything; the first Impressionists\, “hungry for independence”\, broke the mould by holding their own exhibition outside official channels. Impressionism was born and the art world was changed forever. \nWhat led to that first groundbreaking show 150 years ago? Who were the maverick personalities that wielded their brushes in such a radical and provocative way? The spectacular Musée d’Orsay exhibition brings fresh eyes to this extraordinary tale of passion and rebellion. The story is told not only by historians and curators\, but in the words of those who witnessed the dawn of Impressionism: the artists\, press and people of Paris\, 1874.
URL:https://northparktheatre.org/shows/exhibition-on-screen-dawn-of-impressionism-paris-1874/2025-05-15/2/
CATEGORIES:Dawn of Impressionism
ATTACH;FMTTYPE=image/jpeg:https://northparktheatre.org/wp-content/uploads/poster-impress.jpg
END:VEVENT
END:VCALENDAR