BEGIN:VCALENDAR
VERSION:2.0
PRODID:-//North Park Theatre - ECPv6.15.20//NONSGML v1.0//EN
CALSCALE:GREGORIAN
METHOD:PUBLISH
X-ORIGINAL-URL:https://northparktheatre.org
X-WR-CALDESC:Events for North Park Theatre
REFRESH-INTERVAL;VALUE=DURATION:PT1H
X-Robots-Tag:noindex
X-PUBLISHED-TTL:PT1H
BEGIN:VTIMEZONE
TZID:America/New_York
BEGIN:DAYLIGHT
TZOFFSETFROM:-0500
TZOFFSETTO:-0400
TZNAME:EDT
DTSTART:20250309T070000
END:DAYLIGHT
BEGIN:STANDARD
TZOFFSETFROM:-0400
TZOFFSETTO:-0500
TZNAME:EST
DTSTART:20251102T060000
END:STANDARD
BEGIN:DAYLIGHT
TZOFFSETFROM:-0500
TZOFFSETTO:-0400
TZNAME:EDT
DTSTART:20260308T070000
END:DAYLIGHT
BEGIN:STANDARD
TZOFFSETFROM:-0400
TZOFFSETTO:-0500
TZNAME:EST
DTSTART:20261101T060000
END:STANDARD
BEGIN:DAYLIGHT
TZOFFSETFROM:-0500
TZOFFSETTO:-0400
TZNAME:EDT
DTSTART:20270314T070000
END:DAYLIGHT
BEGIN:STANDARD
TZOFFSETFROM:-0400
TZOFFSETTO:-0500
TZNAME:EST
DTSTART:20271107T060000
END:STANDARD
END:VTIMEZONE
BEGIN:VEVENT
DTSTART;TZID=America/New_York:20260109T220000
DTEND;TZID=America/New_York:20260109T233000
DTSTAMP:20260423T171607
CREATED:20260102T183855Z
LAST-MODIFIED:20260102T184249Z
UID:10014138-1767996000-1768001400@northparktheatre.org
SUMMARY:Guillermo del Toro's "Cronos" - 4K Restoration
DESCRIPTION:Guillermo del Toro’s darkly imaginative debut feature returns to the big screen\, newly restored in 4K! \n\n \nFRI January 9th at 10:00 PM\nSAT January 10th at 10:00 PM\nSUN January 11th at 10:00 PM\nMON January 12th at 9:30 PM\nTUE January 13th at 7:00 PM\nWED January 14th at 9:45 PM\nTHU January 15th at 9:45 PM \n \n\nGuillermo del Toro made an auspicious and audacious feature debut with Cronos\, a highly unorthodox tale about the seductiveness of the idea of immortality. \nKindly antiques dealer Jesús Gris (Federico Luppi) happens upon an ancient golden device in the shape of a scarab\, and soon finds himself the possessor and victim of its sinister\, addictive powers\, as well as the target of a mysterious American named Angel (a delightfully crude and deranged Ron Perlman). \nFeaturing marvelous makeup effects and the haunting imagery for which del Toro has become world-renowned\, Cronos is a dark\, visually rich\, and emotionally captivating fantasy.
URL:https://northparktheatre.org/shows/guillermo-del-toros-cronos-4k-restoration/2026-01-09/
CATEGORIES:Cronos
ATTACH;FMTTYPE=image/jpeg:https://northparktheatre.org/wp-content/uploads/poster-cronos.jpg
END:VEVENT
BEGIN:VEVENT
DTSTART;TZID=America/New_York:20260110T220000
DTEND;TZID=America/New_York:20260110T233000
DTSTAMP:20260423T171607
CREATED:20260102T183855Z
LAST-MODIFIED:20260102T184249Z
UID:10014139-1768082400-1768087800@northparktheatre.org
SUMMARY:Guillermo del Toro's "Cronos" - 4K Restoration
DESCRIPTION:Guillermo del Toro’s darkly imaginative debut feature returns to the big screen\, newly restored in 4K! \n\n \nFRI January 9th at 10:00 PM\nSAT January 10th at 10:00 PM\nSUN January 11th at 10:00 PM\nMON January 12th at 9:30 PM\nTUE January 13th at 7:00 PM\nWED January 14th at 9:45 PM\nTHU January 15th at 9:45 PM \n \n\nGuillermo del Toro made an auspicious and audacious feature debut with Cronos\, a highly unorthodox tale about the seductiveness of the idea of immortality. \nKindly antiques dealer Jesús Gris (Federico Luppi) happens upon an ancient golden device in the shape of a scarab\, and soon finds himself the possessor and victim of its sinister\, addictive powers\, as well as the target of a mysterious American named Angel (a delightfully crude and deranged Ron Perlman). \nFeaturing marvelous makeup effects and the haunting imagery for which del Toro has become world-renowned\, Cronos is a dark\, visually rich\, and emotionally captivating fantasy.
URL:https://northparktheatre.org/shows/guillermo-del-toros-cronos-4k-restoration/2026-01-10/
CATEGORIES:Cronos
ATTACH;FMTTYPE=image/jpeg:https://northparktheatre.org/wp-content/uploads/poster-cronos.jpg
END:VEVENT
BEGIN:VEVENT
DTSTART;TZID=America/New_York:20260111T220000
DTEND;TZID=America/New_York:20260111T233000
DTSTAMP:20260423T171607
CREATED:20260102T183855Z
LAST-MODIFIED:20260102T184249Z
UID:10014140-1768168800-1768174200@northparktheatre.org
SUMMARY:Guillermo del Toro's "Cronos" - 4K Restoration
DESCRIPTION:Guillermo del Toro’s darkly imaginative debut feature returns to the big screen\, newly restored in 4K! \n\n \nFRI January 9th at 10:00 PM\nSAT January 10th at 10:00 PM\nSUN January 11th at 10:00 PM\nMON January 12th at 9:30 PM\nTUE January 13th at 7:00 PM\nWED January 14th at 9:45 PM\nTHU January 15th at 9:45 PM \n \n\nGuillermo del Toro made an auspicious and audacious feature debut with Cronos\, a highly unorthodox tale about the seductiveness of the idea of immortality. \nKindly antiques dealer Jesús Gris (Federico Luppi) happens upon an ancient golden device in the shape of a scarab\, and soon finds himself the possessor and victim of its sinister\, addictive powers\, as well as the target of a mysterious American named Angel (a delightfully crude and deranged Ron Perlman). \nFeaturing marvelous makeup effects and the haunting imagery for which del Toro has become world-renowned\, Cronos is a dark\, visually rich\, and emotionally captivating fantasy.
URL:https://northparktheatre.org/shows/guillermo-del-toros-cronos-4k-restoration/2026-01-11/
CATEGORIES:Cronos
ATTACH;FMTTYPE=image/jpeg:https://northparktheatre.org/wp-content/uploads/poster-cronos.jpg
END:VEVENT
BEGIN:VEVENT
DTSTART;TZID=America/New_York:20260112T213000
DTEND;TZID=America/New_York:20260112T230000
DTSTAMP:20260423T171607
CREATED:20260102T183855Z
LAST-MODIFIED:20260102T184249Z
UID:10014141-1768253400-1768258800@northparktheatre.org
SUMMARY:Guillermo del Toro's "Cronos" - 4K Restoration
DESCRIPTION:Guillermo del Toro’s darkly imaginative debut feature returns to the big screen\, newly restored in 4K! \n\n \nFRI January 9th at 10:00 PM\nSAT January 10th at 10:00 PM\nSUN January 11th at 10:00 PM\nMON January 12th at 9:30 PM\nTUE January 13th at 7:00 PM\nWED January 14th at 9:45 PM\nTHU January 15th at 9:45 PM \n \n\nGuillermo del Toro made an auspicious and audacious feature debut with Cronos\, a highly unorthodox tale about the seductiveness of the idea of immortality. \nKindly antiques dealer Jesús Gris (Federico Luppi) happens upon an ancient golden device in the shape of a scarab\, and soon finds himself the possessor and victim of its sinister\, addictive powers\, as well as the target of a mysterious American named Angel (a delightfully crude and deranged Ron Perlman). \nFeaturing marvelous makeup effects and the haunting imagery for which del Toro has become world-renowned\, Cronos is a dark\, visually rich\, and emotionally captivating fantasy.
URL:https://northparktheatre.org/shows/guillermo-del-toros-cronos-4k-restoration/2026-01-12/
CATEGORIES:Cronos
ATTACH;FMTTYPE=image/jpeg:https://northparktheatre.org/wp-content/uploads/poster-cronos.jpg
END:VEVENT
BEGIN:VEVENT
DTSTART;TZID=America/New_York:20260113T190000
DTEND;TZID=America/New_York:20260113T213000
DTSTAMP:20260423T171607
CREATED:20260102T183855Z
LAST-MODIFIED:20260102T184249Z
UID:10014142-1768330800-1768339800@northparktheatre.org
SUMMARY:Guillermo del Toro's "Cronos" - 4K Restoration
DESCRIPTION:Guillermo del Toro’s darkly imaginative debut feature returns to the big screen\, newly restored in 4K! \n\n \nFRI January 9th at 10:00 PM\nSAT January 10th at 10:00 PM\nSUN January 11th at 10:00 PM\nMON January 12th at 9:30 PM\nTUE January 13th at 7:00 PM\nWED January 14th at 9:45 PM\nTHU January 15th at 9:45 PM \n \n\nGuillermo del Toro made an auspicious and audacious feature debut with Cronos\, a highly unorthodox tale about the seductiveness of the idea of immortality. \nKindly antiques dealer Jesús Gris (Federico Luppi) happens upon an ancient golden device in the shape of a scarab\, and soon finds himself the possessor and victim of its sinister\, addictive powers\, as well as the target of a mysterious American named Angel (a delightfully crude and deranged Ron Perlman). \nFeaturing marvelous makeup effects and the haunting imagery for which del Toro has become world-renowned\, Cronos is a dark\, visually rich\, and emotionally captivating fantasy.
URL:https://northparktheatre.org/shows/guillermo-del-toros-cronos-4k-restoration/2026-01-13/
CATEGORIES:Cronos
ATTACH;FMTTYPE=image/jpeg:https://northparktheatre.org/wp-content/uploads/poster-cronos.jpg
END:VEVENT
BEGIN:VEVENT
DTSTART;TZID=America/New_York:20260114T214500
DTEND;TZID=America/New_York:20260114T233000
DTSTAMP:20260423T171607
CREATED:20260102T183855Z
LAST-MODIFIED:20260102T184249Z
UID:10014143-1768427100-1768433400@northparktheatre.org
SUMMARY:Guillermo del Toro's "Cronos" - 4K Restoration
DESCRIPTION:Guillermo del Toro’s darkly imaginative debut feature returns to the big screen\, newly restored in 4K! \n\n \nFRI January 9th at 10:00 PM\nSAT January 10th at 10:00 PM\nSUN January 11th at 10:00 PM\nMON January 12th at 9:30 PM\nTUE January 13th at 7:00 PM\nWED January 14th at 9:45 PM\nTHU January 15th at 9:45 PM \n \n\nGuillermo del Toro made an auspicious and audacious feature debut with Cronos\, a highly unorthodox tale about the seductiveness of the idea of immortality. \nKindly antiques dealer Jesús Gris (Federico Luppi) happens upon an ancient golden device in the shape of a scarab\, and soon finds himself the possessor and victim of its sinister\, addictive powers\, as well as the target of a mysterious American named Angel (a delightfully crude and deranged Ron Perlman). \nFeaturing marvelous makeup effects and the haunting imagery for which del Toro has become world-renowned\, Cronos is a dark\, visually rich\, and emotionally captivating fantasy.
URL:https://northparktheatre.org/shows/guillermo-del-toros-cronos-4k-restoration/2026-01-14/
CATEGORIES:Cronos
ATTACH;FMTTYPE=image/jpeg:https://northparktheatre.org/wp-content/uploads/poster-cronos.jpg
END:VEVENT
BEGIN:VEVENT
DTSTART;TZID=America/New_York:20260115T214500
DTEND;TZID=America/New_York:20260115T233000
DTSTAMP:20260423T171607
CREATED:20260102T183855Z
LAST-MODIFIED:20260102T184249Z
UID:10014144-1768513500-1768519800@northparktheatre.org
SUMMARY:Guillermo del Toro's "Cronos" - 4K Restoration
DESCRIPTION:Guillermo del Toro’s darkly imaginative debut feature returns to the big screen\, newly restored in 4K! \n\n \nFRI January 9th at 10:00 PM\nSAT January 10th at 10:00 PM\nSUN January 11th at 10:00 PM\nMON January 12th at 9:30 PM\nTUE January 13th at 7:00 PM\nWED January 14th at 9:45 PM\nTHU January 15th at 9:45 PM \n \n\nGuillermo del Toro made an auspicious and audacious feature debut with Cronos\, a highly unorthodox tale about the seductiveness of the idea of immortality. \nKindly antiques dealer Jesús Gris (Federico Luppi) happens upon an ancient golden device in the shape of a scarab\, and soon finds himself the possessor and victim of its sinister\, addictive powers\, as well as the target of a mysterious American named Angel (a delightfully crude and deranged Ron Perlman). \nFeaturing marvelous makeup effects and the haunting imagery for which del Toro has become world-renowned\, Cronos is a dark\, visually rich\, and emotionally captivating fantasy.
URL:https://northparktheatre.org/shows/guillermo-del-toros-cronos-4k-restoration/2026-01-15/
CATEGORIES:Cronos
ATTACH;FMTTYPE=image/jpeg:https://northparktheatre.org/wp-content/uploads/poster-cronos.jpg
END:VEVENT
END:VCALENDAR